{"text_format":"1","workbook":"xlsx","n_sheets":2,"sheets":["Itens","Modelo de Cronograma"],"not_rendered":{"charts":1,"images":1,"macros":1,"external_links":0,"defined_names":10,"comments":0,"pivot_tables":0},"unopened":[],"bounds":{"document_bytes":16777216,"sheet_cells":100000,"rows_first":2000,"rows_last":500,"rows_between":2000,"halvings":0,"cell_chars":16384,"cell_head_chars":4096},"cells_cut":0,"cells_raw":0,"read":"whole","date_system":"1900"}

{"sheet":"Itens","index":0,"n_rows":777,"n_cols":9,"rows_kept":777,"cut":false,"hidden":false,"merged":[]}
["ITEM ","Ref_Plan","Ref_Num","DESCRIÇÃO DOS SERVIÇOS","UNID","Qtd CTO","R$ Total"]
[10000,".",".","CANTEIRO DE OBRAS",null,null,null,null,{"$f":"LEFT(TEXT(Tabela_DadosExternos_1[[#This Row],[ITEM ]],\"00\\.00\\.00\"),2)","v":"01"}]
[10100,".",".","CANTEIRO DE OBRAS",null,null,null,null,{"$f":"LEFT(TEXT(Tabela_DadosExternos_1[[#This Row],[ITEM ]],\"00\\.00\\.00\"),2)","v":"01"}]
[10101,"SINAPI","73847/002","ALUGUEL CONTAINER/ESCRIT/WC C/1 VASO/1 LAV/1 MIC/4 CHUV LARG =2,20M COMPR=6,20M ALT=2,50M CHAPA ACO NERV TRAPEZ FORROC/ ISOL TERMO-ACUST CHASSIS REFORC PISO COMPENS NAVAL INCL INST ELETR/HIDRO-SANIT EXCL TRANSP/CARGA/DESCARGA","MÊS",48,27462.240000000002,null,{"$f":"LEFT(TEXT(Tabela_DadosExternos_1[[#This Row],[ITEM ]],\"00\\.00\\.00\"),2)","v":"01"}]
[10102,"SINAPI","73847/005","ALUGUEL CONTAINER/SANIT C/7 VASOS/1 LAVAT/1 MIC LARG=2,20M COMPR=6,20M ALT=2,50M CHAPA ACO NERV TRAPEZ FORRO C/ISOL TERMO-ACUST CHASSIS REFORC PISO COMPENS NAVAL INCL INST ELET /HIDRO-SANIT EXCL TRANSP/CARGA/DESCARGA","MÊS",36,27871.919999999998,null,{"$f":"LEFT(TEXT(Tabela_DadosExternos_1[[#This Row],[ITEM ]],\"00\\.00\\.00\"),2)","v":"01"}]
[10103,"SINAPI","93211","EXECUÇÃO DE REFEITÓRIO EM CANTEIRO DE OBRA EM ALVENARIA, NÃO INCLUSO M OBILIÁRIO E EQUIPAMENTOS","M2",140,49957.599999999999,null,{"$f":"LEFT(TEXT(Tabela_DadosExternos_1[[#This Row],[ITEM ]],\"00\\.00\\.00\"),2)","v":"01"}]
[10104,"SINAPI","74209/001","PLACA DE OBRA EM CHAPA DE AÇO GALVANIZADO","M2",4,1283.4000000000001,null,{"$f":"LEFT(TEXT(Tabela_DadosExternos_1[[#This Row],[ITEM ]],\"00\\.00\\.00\"),2)","v":"01"}]
[10105,"CPOS","02.01.200","DESMOBILIZAÇÃO DE CONSTRUÇÃO PROVISÓRIA","M2",532.79999999999995,6500.16,null,{"$f":"LEFT(TEXT(Tabela_DadosExternos_1[[#This Row],[ITEM ]],\"00\\.00\\.00\"),2)","v":"01"}]
[10106,"SINAPI","88326","VIGIA NOTURNO COM ENCARGOS COMPLEMENTARES","H",17520,355305.6,null,{"$f":"LEFT(TEXT(Tabela_DadosExternos_1[[#This Row],[ITEM ]],\"00\\.00\\.00\"),2)","v":"01"}]
[20000,".",".","PROJETOS EXECUTIVOS",null,null,null,null,{"$f":"LEFT(TEXT(Tabela_DadosExternos_1[[#This Row],[ITEM ]],\"00\\.00\\.00\"),2)","v":"02"}]
[20100,".",".","AS BUILT",null,null,null,null,{"$f":"LEFT(TEXT(Tabela_DadosExternos_1[[#This Row],[ITEM ]],\"00\\.00\\.00\"),2)","v":"02"}]
[20101,"CPOS","01.17.070","PROJETO EXECUTIVO DE INSTALAÇÕES HIDRÁULICAS A1","UN ",20,22048,null,{"$f":"LEFT(TEXT(Tabela_DadosExternos_1[[#This Row],[ITEM ]],\"00\\.00\\.00\"),2)","v":"02"}]
[20102,"CPOS","01.17.110","PROJETO EXECUTIVO DE INSTALAÇÕES ELÉTRICA EM FORMATO A1","UN ",20,24242.2,null,{"$f":"LEFT(TEXT(Tabela_DadosExternos_1[[#This Row],[ITEM ]],\"00\\.00\\.00\"),2)","v":"02"}]
[20103,"CPOS","01.17.130","PROJETO EXECUTIVO DE ARQUITETURA EM FORMATO A1","UN ",20,73342,null,{"$f":"LEFT(TEXT(Tabela_DadosExternos_1[[#This Row],[ITEM ]],\"00\\.00\\.00\"),2)","v":"02"}]
[20104,"CPOS","01.17.140","PROJETO EXECUTIVO DE ARQUITETURA EM FORMATO A0","UN ",5,25078.05,null,{"$f":"LEFT(TEXT(Tabela_DadosExternos_1[[#This Row],[ITEM ]],\"00\\.00\\.00\"),2)","v":"02"}]
[20200,".",".","PROJETO EXECUTIVO - VALA DRENANTE",null,null,null,null,{"$f":"LEFT(TEXT(Tabela_DadosExternos_1[[#This Row],[ITEM ]],\"00\\.00\\.00\"),2)","v":"02"}]
[20201,"CPOS","01.17.070","PROJETO EXECUTIVO DE INSTALAÇÕES HIDRÁULICAS A1","UN ",8,8819.2000000000007,null,{"$f":"LEFT(TEXT(Tabela_DadosExternos_1[[#This Row],[ITEM ]],\"00\\.00\\.00\"),2)","v":"02"}]
[30000,".",".","PAISAGISMO",null,null,null,null,{"$f":"LEFT(TEXT(Tabela_DadosExternos_1[[#This Row],[ITEM ]],\"00\\.00\\.00\"),2)","v":"03"}]
[30100,".",".","GRAMA",null,null,null,null,{"$f":"LEFT(TEXT(Tabela_DadosExternos_1[[#This Row],[ITEM ]],\"00\\.00\\.00\"),2)","v":"03"}]
[30101,"SINAPI","85180","PLANTIO DE GRAMA ESMERALDA EM ROLO","M2",5593.89,57449.25,null,{"$f":"LEFT(TEXT(Tabela_DadosExternos_1[[#This Row],[ITEM ]],\"00\\.00\\.00\"),2)","v":"03"}]
[30102,"CPOS","34.01.010","TERRA VEGETAL ORGÂNICA COMUM","M3",559.38900000000001,69498.490000000005,null,{"$f":"LEFT(TEXT(Tabela_DadosExternos_1[[#This Row],[ITEM ]],\"00\\.00\\.00\"),2)","v":"03"}]
[30200,".",".","ÁRVORES E ARBUSTOS",null,null,null,null,{"$f":"LEFT(TEXT(Tabela_DadosExternos_1[[#This Row],[ITEM ]],\"00\\.00\\.00\"),2)","v":"03"}]
[30201,"SINAPI","73967/2","PLANTIO DE ARVORE REGIONAL, ALTURA MAIOR QUE 2,00M, EM CAVAS DE 80X80X80","UN ",184,21943.84,null,{"$f":"LEFT(TEXT(Tabela_DadosExternos_1[[#This Row],[ITEM ]],\"00\\.00\\.00\"),2)","v":"03"}]
[30202,"CPOS","340302","ARBUSTO AZALÉA - H= 0,60 A 0,80 M","UN ",205,5182.3999999999996,null,{"$f":"LEFT(TEXT(Tabela_DadosExternos_1[[#This Row],[ITEM ]],\"00\\.00\\.00\"),2)","v":"03"}]
[30203,"FDE","16.03.228","ÁRVORE ORNAMENTAL MULUNGU-DO-LITORAL (SUINÃ) H=2,00M","UN ",17,2083.6,null,{"$f":"LEFT(TEXT(Tabela_DadosExternos_1[[#This Row],[ITEM ]],\"00\\.00\\.00\"),2)","v":"03"}]
[30204,"FDE","16.03.229","ÁRVORE ORNAMENTAL MULUNGU H=2,00M","UN ",10,1403.25,null,{"$f":"LEFT(TEXT(Tabela_DadosExternos_1[[#This Row],[ITEM ]],\"00\\.00\\.00\"),2)","v":"03"}]
[30205,"FDE","16.03.223","ÁRVORE ORNAMENTAL IPÊ-ROXO DE 7 FOLHAS H=2,00M","UN ",9,1185.52,null,{"$f":"LEFT(TEXT(Tabela_DadosExternos_1[[#This Row],[ITEM ]],\"00\\.00\\.00\"),2)","v":"03"}]
[30206,"FDE","16.03.224","ÁRVORE ORNAMENTAL JACARANDÁ-PAULISTA H=2,00M","UN ",11,1450.18,null,{"$f":"LEFT(TEXT(Tabela_DadosExternos_1[[#This Row],[ITEM ]],\"00\\.00\\.00\"),2)","v":"03"}]
[30207,"FDE","16.03.227","ÁRVORE ORNAMENTAL MIRINDIBA (MIRINDIBA ROSA) H=2,00M","UN ",10,1356.25,null,{"$f":"LEFT(TEXT(Tabela_DadosExternos_1[[#This Row],[ITEM ]],\"00\\.00\\.00\"),2)","v":"03"}]
[30208,"FDE","16.03.200","ÁRVORE ORNAMENTAL GUANANDI H=2,00M","UN ",9,1205.4100000000001,null,{"$f":"LEFT(TEXT(Tabela_DadosExternos_1[[#This Row],[ITEM ]],\"00\\.00\\.00\"),2)","v":"03"}]
[30209,"FDE","16.03.201","ÁRVORE ORNAMENTAL IPÊ-AMARELO-DA-SERRA H=2,00M","UN ",13,1689.02,null,{"$f":"LEFT(TEXT(Tabela_DadosExternos_1[[#This Row],[ITEM ]],\"00\\.00\\.00\"),2)","v":"03"}]
[30210,"CPOS","34.04.280","ÁRVORE ORNAMENTAL TIPO MANACA-DA-SERRA","UN ",5,1217.5999999999999,null,{"$f":"LEFT(TEXT(Tabela_DadosExternos_1[[#This Row],[ITEM ]],\"00\\.00\\.00\"),2)","v":"03"}]
[30211,"CPOS","34.03.130","ARBUSTO ALAMANDA - H= 0,60 A 0,80 M","UN ",118,2461.48,null,{"$f":"LEFT(TEXT(Tabela_DadosExternos_1[[#This Row],[ITEM ]],\"00\\.00\\.00\"),2)","v":"03"}]
[30212,"FDE","16.03.300","ARBUSTO ALPÍNIA H=0,50 A 0,70M","UN ",57,1655.19,null,{"$f":"LEFT(TEXT(Tabela_DadosExternos_1[[#This Row],[ITEM ]],\"00\\.00\\.00\"),2)","v":"03"}]
[30213,"FDE","16.03.077","ARBUSTO PRIMAVERA H=0.50 A 0.70 M","UN ",13,356.7,null,{"$f":"LEFT(TEXT(Tabela_DadosExternos_1[[#This Row],[ITEM ]],\"00\\.00\\.00\"),2)","v":"03"}]
[30214,"FDE","16.03.302","ARBUSTO CLÚSIA H=0,50 A 0,70M","UN ",41,1307.02,null,{"$f":"LEFT(TEXT(Tabela_DadosExternos_1[[#This Row],[ITEM ]],\"00\\.00\\.00\"),2)","v":"03"}]
[30215,"FDE","16.03.067","ARBUSTO H=0.50 A 0.70M - BELA EMILIA","UN ",33,563.59,null,{"$f":"LEFT(TEXT(Tabela_DadosExternos_1[[#This Row],[ITEM ]],\"00\\.00\\.00\"),2)","v":"03"}]
[30216,"SIURB","18.03.53","UNHA DE GATO (FICUS PUMILA)","UN ",69,293.25,null,{"$f":"LEFT(TEXT(Tabela_DadosExternos_1[[#This Row],[ITEM ]],\"00\\.00\\.00\"),2)","v":"03"}]
[30217,"FDE","16.03.470","FRUTÍFERA JAMBOLÃO H=0,50 A 1,00M","UN ",211,3006.75,null,{"$f":"LEFT(TEXT(Tabela_DadosExternos_1[[#This Row],[ITEM ]],\"00\\.00\\.00\"),2)","v":"03"}]
[30218,"FDE","16.03.311","ARBUSTO JASMIM-AMARELO H=0,50 A 0,70M","UN ",36,895.98,null,{"$f":"LEFT(TEXT(Tabela_DadosExternos_1[[#This Row],[ITEM ]],\"00\\.00\\.00\"),2)","v":"03"}]
[30219,"FDE","16.03.075","ARBUSTO COSTELA- DE -ADAO H=0.50 A 0.70 M","UN ",200,6439.68,null,{"$f":"LEFT(TEXT(Tabela_DadosExternos_1[[#This Row],[ITEM ]],\"00\\.00\\.00\"),2)","v":"03"}]
[30220,"FDE","16.03.076","ARBUSTO GUAIMBÊ H=0.50 A 0.70 M","UN ",192,4891.8599999999997,null,{"$f":"LEFT(TEXT(Tabela_DadosExternos_1[[#This Row],[ITEM ]],\"00\\.00\\.00\"),2)","v":"03"}]
[30221,"FDE","16.03.307","ARBUSTO GUAIMBÊ-DA-FOLHA-ONDULADA H=0,50 A 0,70M","UN ",36,1089.3,null,{"$f":"LEFT(TEXT(Tabela_DadosExternos_1[[#This Row],[ITEM ]],\"00\\.00\\.00\"),2)","v":"03"}]
[30222,"FDE","16.03.304","ARBUSTO FILODENDRO H=0,50 A 0,70M","UN ",7,676.75,null,{"$f":"LEFT(TEXT(Tabela_DadosExternos_1[[#This Row],[ITEM ]],\"00\\.00\\.00\"),2)","v":"03"}]
[30223,"FDE","16.03.090","ARBUSTO SANQUÉSIA H=0.50 A 0.70 M","UN ",19,1613.64,null,{"$f":"LEFT(TEXT(Tabela_DadosExternos_1[[#This Row],[ITEM ]],\"00\\.00\\.00\"),2)","v":"03"}]
[30224,"FDE","16.03.312","ARBUSTO LANTERNA-CHINESA H=0,50 A 0,70M","UN ",20.25,507.84,null,{"$f":"LEFT(TEXT(Tabela_DadosExternos_1[[#This Row],[ITEM ]],\"00\\.00\\.00\"),2)","v":"03"}]
[30225,"FDE","16.03.096","FORRACAO - AGAPANTO","M2",320.3,19479.52,null,{"$f":"LEFT(TEXT(Tabela_DadosExternos_1[[#This Row],[ITEM ]],\"00\\.00\\.00\"),2)","v":"03"}]
[30226,"FDE","16.03.107","FORRAÇÃO GRAMA-AMENDOIM","M2",481.15,52467.72,null,{"$f":"LEFT(TEXT(Tabela_DadosExternos_1[[#This Row],[ITEM ]],\"00\\.00\\.00\"),2)","v":"03"}]
[30227,"FDE","16.03.305","FORRAÇÃO FLOR-LEOPARDO","M2",24.6,1646.64,null,{"$f":"LEFT(TEXT(Tabela_DadosExternos_1[[#This Row],[ITEM ]],\"00\\.00\\.00\"),2)","v":"03"}]
[30228,"FDE","16.03.103","FORRAÇÃO BULBINE","M2",169.15,11423.8,null,{"$f":"LEFT(TEXT(Tabela_DadosExternos_1[[#This Row],[ITEM ]],\"00\\.00\\.00\"),2)","v":"03"}]
[30229,"FDE","16.03.080","ARBUSTO H=0,50 A 0,70 M - CALIANDRA","UN ",228.29999999999998,4974.3,null,{"$f":"LEFT(TEXT(Tabela_DadosExternos_1[[#This Row],[ITEM ]],\"00\\.00\\.00\"),2)","v":"03"}]
[30230,"FDE","16.03.087","FORRACAO - LANTANA","M2",81.099999999999994,3594.11,null,{"$f":"LEFT(TEXT(Tabela_DadosExternos_1[[#This Row],[ITEM ]],\"00\\.00\\.00\"),2)","v":"03"}]
[30231,"FDE","16.03.315","FORRAÇÃO MORÉIA-AMARELA","M2",56.1,21776.14,null,{"$f":"LEFT(TEXT(Tabela_DadosExternos_1[[#This Row],[ITEM ]],\"00\\.00\\.00\"),2)","v":"03"}]
[30232,"FDE","16.03.303","FORRAÇÃO FALSO-ÍRIS","M2",159.9,41176.89,null,{"$f":"LEFT(TEXT(Tabela_DadosExternos_1[[#This Row],[ITEM ]],\"00\\.00\\.00\"),2)","v":"03"}]
[30233,"FDE","16.03.111","FORRAÇÃO OFIOPOGO","M2",164.5,11591.74,null,{"$f":"LEFT(TEXT(Tabela_DadosExternos_1[[#This Row],[ITEM ]],\"00\\.00\\.00\"),2)","v":"03"}]
[30234,"FDE","16.03.114","FORRAÇÃO TRAPOERABA","M2",301.89999999999998,36353.74,null,{"$f":"LEFT(TEXT(Tabela_DadosExternos_1[[#This Row],[ITEM ]],\"00\\.00\\.00\"),2)","v":"03"}]
[30235,"FDE","16.03.093","FORRACAO - VEDELIA","M2",2238.4,163126.76,null,{"$f":"LEFT(TEXT(Tabela_DadosExternos_1[[#This Row],[ITEM ]],\"00\\.00\\.00\"),2)","v":"03"}]
[30236,"CPOS","34.20.120","SEIXO ROLADO","M3",15.990000000000002,9437.2999999999993,null,{"$f":"LEFT(TEXT(Tabela_DadosExternos_1[[#This Row],[ITEM ]],\"00\\.00\\.00\"),2)","v":"03"}]
[30300,".",".","JARDINEIRA",null,null,null,null,{"$f":"LEFT(TEXT(Tabela_DadosExternos_1[[#This Row],[ITEM ]],\"00\\.00\\.00\"),2)","v":"03"}]
[30301,"SIURB","176035","RETIRADA DE PARALELEPÍPEDOS (INTERTRAVADO)","M2",63.97,514.32000000000005,null,{"$f":"LEFT(TEXT(Tabela_DadosExternos_1[[#This Row],[ITEM ]],\"00\\.00\\.00\"),2)","v":"03"}]
[30302,"CPOS","05.07.050","REMOÇÃO DE ENTULHO DE OBRA COM CAÇAMBA METÁLICA - MATERIAL VOLUMOSO MISTURADO POR ALVENARIA, TERRA, MADEIRA, PAPEL, PLÁSTICO E METAL","M3",10.235200000000001,841.54,null,{"$f":"LEFT(TEXT(Tabela_DadosExternos_1[[#This Row],[ITEM ]],\"00\\.00\\.00\"),2)","v":"03"}]
[30303,"SIURB","51600","GA-01 GUIA LEVE OU SEPARADOR DE PISOS","M",199.72,3381.26,null,{"$f":"LEFT(TEXT(Tabela_DadosExternos_1[[#This Row],[ITEM ]],\"00\\.00\\.00\"),2)","v":"03"}]
[30400,".",".","ARQUIBANCADA",null,null,null,null,{"$f":"LEFT(TEXT(Tabela_DadosExternos_1[[#This Row],[ITEM ]],\"00\\.00\\.00\"),2)","v":"03"}]
[30401,"SINAPI","72213","LIMPEZA MANUAL GERAL COM REMOCAO DE COBERTURA VEGETAL","M2",179.42,699.74,null,{"$f":"LEFT(TEXT(Tabela_DadosExternos_1[[#This Row],[ITEM ]],\"00\\.00\\.00\"),2)","v":"03"}]
[30402,"SINAPI","5622","REGULARIZACAO E COMPACTACAO MANUAL DE TERRENO COM SOQUETE","M2",179.42,925.81,null,{"$f":"LEFT(TEXT(Tabela_DadosExternos_1[[#This Row],[ITEM ]],\"00\\.00\\.00\"),2)","v":"03"}]
[30403,"SINAPI","72819","ESTACA A TRADO (BROCA) DIAMETRO 30CM EM CONCRETO ARMADO MOLDADA IN-LOCO, 20 MPA","M",45,4125.1499999999996,null,{"$f":"LEFT(TEXT(Tabela_DadosExternos_1[[#This Row],[ITEM ]],\"00\\.00\\.00\"),2)","v":"03"}]
[30404,"SINAPI","72820","CORTE E PREPARO EM CABECA DE ESTACA","UN ",30,1308.9000000000001,null,{"$f":"LEFT(TEXT(Tabela_DadosExternos_1[[#This Row],[ITEM ]],\"00\\.00\\.00\"),2)","v":"03"}]
[30405,"SINAPI","5651","FORMA TABUA PARA CONCRETO EM FUNDACAO C/ REAPROVEITAMENTO 5X","M2",75.17,2119.79,null,{"$f":"LEFT(TEXT(Tabela_DadosExternos_1[[#This Row],[ITEM ]],\"00\\.00\\.00\"),2)","v":"03"}]
[30406,"CPOS","11.01.160","CONCRETO USINADO, FCK = 30,0 MPA","M3",49.32,14068.53,null,{"$f":"LEFT(TEXT(Tabela_DadosExternos_1[[#This Row],[ITEM ]],\"00\\.00\\.00\"),2)","v":"03"}]
[30407,"SINAPI","92792","CORTE E DOBRA DE AÇO CA-50, DIÂMETRO DE 6.3 MM, UTILIZADO EM ESTRUTURAS DIVERSAS, EXCETO LAJES","KG",3945.6,29118.53,null,{"$f":"LEFT(TEXT(Tabela_DadosExternos_1[[#This Row],[ITEM ]],\"00\\.00\\.00\"),2)","v":"03"}]
[30408,"SINAPI","73631","GUARDA-CORPO EM TUBO DE ACO GALVANIZADO 1 1/2\" CONFORME PROJETO)","M",18.399999999999999,5310.79,null,{"$f":"LEFT(TEXT(Tabela_DadosExternos_1[[#This Row],[ITEM ]],\"00\\.00\\.00\"),2)","v":"03"}]
[30409,"SINAPI","79478","ESCAVACAO MANUAL CAMPO ABERTO EM SOLO EXCETO ROCHA ATE 2,00M PROFUNDIDADE","M3",5.98,273.94,null,{"$f":"LEFT(TEXT(Tabela_DadosExternos_1[[#This Row],[ITEM ]],\"00\\.00\\.00\"),2)","v":"03"}]
[30500,".",".","PERGOLADO E DECK",null,null,null,null,{"$f":"LEFT(TEXT(Tabela_DadosExternos_1[[#This Row],[ITEM ]],\"00\\.00\\.00\"),2)","v":"03"}]
[30501,"CPU","008","PERGOLADO EM MADEIRA (CONFORME PROJETO)","CJ",1,314691.59999999998,null,{"$f":"LEFT(TEXT(Tabela_DadosExternos_1[[#This Row],[ITEM ]],\"00\\.00\\.00\"),2)","v":"03"}]
[30502,"CPU","009","DECK EM MADEIRA (CONFORME PROJETO)","VB",121.11,291276.82,null,{"$f":"LEFT(TEXT(Tabela_DadosExternos_1[[#This Row],[ITEM ]],\"00\\.00\\.00\"),2)","v":"03"}]
[30503,"CPU","006","ESTRUTURA METÁLICA PARA APOIO DE DECK (CONFORME PROJETO)","M2",120,50829.599999999999,null,{"$f":"LEFT(TEXT(Tabela_DadosExternos_1[[#This Row],[ITEM ]],\"00\\.00\\.00\"),2)","v":"03"}]
[30504,"CPU","007","PEÇAS EM CHAPA DE AÇO 3/8' PARA MONTAGEM DO PERGOLADO (CONFORME PROJETO)","KG",966.57,13126.02,null,{"$f":"LEFT(TEXT(Tabela_DadosExternos_1[[#This Row],[ITEM ]],\"00\\.00\\.00\"),2)","v":"03"}]
[30505,"SINAPI","74077/3","LOCACAO CONVENCIONAL DE OBRA, ATRAVÉS DE GABARITO DE TABUAS CORRIDAS PONTALETADAS, COM REAPROVEITAMENTO DE 3 VEZES","M2",340.11,1581.51,null,{"$f":"LEFT(TEXT(Tabela_DadosExternos_1[[#This Row],[ITEM ]],\"00\\.00\\.00\"),2)","v":"03"}]
[30506,"DNIT","3S0400100","ESCAVAÇÃO MECANIZ. DE VALA EM MATER. DE 1A CAT.","M3",2.92,43.8,null,{"$f":"LEFT(TEXT(Tabela_DadosExternos_1[[#This Row],[ITEM ]],\"00\\.00\\.00\"),2)","v":"03"}]
[30507,"CPOS","06.11.040","REATERRO MANUAL APILOADO SEM CONTROLE DE COMPACTAÇÃO","M3",1.54,17.28,null,{"$f":"LEFT(TEXT(Tabela_DadosExternos_1[[#This Row],[ITEM ]],\"00\\.00\\.00\"),2)","v":"03"}]
[30508,"CPOS","05.07.050","REMOÇÃO DE ENTULHO DE OBRA COM CAÇAMBA METÁLICA - MATERIAL VOLUMOSO MISTURADO POR ALVENARIA, TERRA, MADEIRA, PAPEL, PLÁSTICO E METAL","M3",4,328.88,null,{"$f":"LEFT(TEXT(Tabela_DadosExternos_1[[#This Row],[ITEM ]],\"00\\.00\\.00\"),2)","v":"03"}]
[30509,"SINAPI","72819","ESTACA A TRADO (BROCA) DIAMETRO 30CM EM CONCRETO ARMADO MOLDADA IN-LOCO, 20 MPA","M",36,3300.12,null,{"$f":"LEFT(TEXT(Tabela_DadosExternos_1[[#This Row],[ITEM ]],\"00\\.00\\.00\"),2)","v":"03"}]
[30510,"SINAPI","5622","REGULARIZACAO E COMPACTACAO MANUAL DE TERRENO COM SOQUETE","M2",4.5,23.22,null,{"$f":"LEFT(TEXT(Tabela_DadosExternos_1[[#This Row],[ITEM ]],\"00\\.00\\.00\"),2)","v":"03"}]
[30511,"SINAPI","74115/001","EXECUÇÃO DE LASTRO EM CONCRETO (1:2,5:6), PREPARO MANUAL","M3",0.22500000000000001,79.97,null,{"$f":"LEFT(TEXT(Tabela_DadosExternos_1[[#This Row],[ITEM ]],\"00\\.00\\.00\"),2)","v":"03"}]
[30512,"SINAPI","5651","FORMA TABUA PARA CONCRETO EM FUNDACAO C/ REAPROVEITAMENTO 5X","M2",13.68,385.78,null,{"$f":"LEFT(TEXT(Tabela_DadosExternos_1[[#This Row],[ITEM ]],\"00\\.00\\.00\"),2)","v":"03"}]
[30513,"CPOS","10.01.040","ARMADURA EM BARRA DE AÇO CA-50 (A OU B) FYK= 500 MPA","KG",88.2,452.47,null,{"$f":"LEFT(TEXT(Tabela_DadosExternos_1[[#This Row],[ITEM ]],\"00\\.00\\.00\"),2)","v":"03"}]
[30514,"CPOS","11.01.160","CONCRETO USINADO, FCK = 30,0 MPA","M3",1.26,359.42,null,{"$f":"LEFT(TEXT(Tabela_DadosExternos_1[[#This Row],[ITEM ]],\"00\\.00\\.00\"),2)","v":"03"}]
[30515,"SINAPI","4343","PARAFUSO FRANCES ZINCADO, DIAMETRO 1/2'', COMPRIEMNTO 4'', COM PORCA E ARRUELA","UN ",244,644.16,null,{"$f":"LEFT(TEXT(Tabela_DadosExternos_1[[#This Row],[ITEM ]],\"00\\.00\\.00\"),2)","v":"03"}]
[30600,".",".","MOBILIARIO",null,null,null,null,{"$f":"LEFT(TEXT(Tabela_DadosExternos_1[[#This Row],[ITEM ]],\"00\\.00\\.00\"),2)","v":"03"}]
[30601,"CPU","019","BANCO COM ENCOSTO (CONFORME PROJETO)","UN ",62,224108.3,null,{"$f":"LEFT(TEXT(Tabela_DadosExternos_1[[#This Row],[ITEM ]],\"00\\.00\\.00\"),2)","v":"03"}]
[30602,"CPU","020","BANCO SEM ENCOSTO (CONFORME PROJETO)","UN ",33,86021.759999999995,null,{"$f":"LEFT(TEXT(Tabela_DadosExternos_1[[#This Row],[ITEM ]],\"00\\.00\\.00\"),2)","v":"03"}]
[30603,"CPU","021","MESA RETANGULAR (CONFORME PROJETO)","UN ",7,54364.73,null,{"$f":"LEFT(TEXT(Tabela_DadosExternos_1[[#This Row],[ITEM ]],\"00\\.00\\.00\"),2)","v":"03"}]
[30604,"CPU","022","ESPREGUIÇADEIRA (CONFORME PROJETO)","MV",6,39264,null,{"$f":"LEFT(TEXT(Tabela_DadosExternos_1[[#This Row],[ITEM ]],\"00\\.00\\.00\"),2)","v":"03"}]
[40000,".",".","SERVIÇOS PRELIMINARES",null,null,null,null,{"$f":"LEFT(TEXT(Tabela_DadosExternos_1[[#This Row],[ITEM ]],\"00\\.00\\.00\"),2)","v":"04"}]
[40100,".",".","TERRAPLENAGEM",null,null,null,null,{"$f":"LEFT(TEXT(Tabela_DadosExternos_1[[#This Row],[ITEM ]],\"00\\.00\\.00\"),2)","v":"04"}]
[40101,"DNIT","3S0400100","ESCAVAÇÃO MECANIZ. DE VALA EM MATER. DE 1A CAT.","M3",2183,32745,null,{"$f":"LEFT(TEXT(Tabela_DadosExternos_1[[#This Row],[ITEM ]],\"00\\.00\\.00\"),2)","v":"04"}]
[40102,"SINAPI","74010/001","CARGA E DESCARGA MECANICA DE SOLO UTILIZANDO CAMINHAO BASCULANTE 6,0M3/16T E PA CARREGADEIRA SOBRE PNEUS 128 HP, CAPACIDADE DA CAÇAMBA 1,7 A 2,8 M3, PESO OPERACIONAL 11632 KG","M3",2183,3209.01,null,{"$f":"LEFT(TEXT(Tabela_DadosExternos_1[[#This Row],[ITEM ]],\"00\\.00\\.00\"),2)","v":"04"}]
[40103,"SINAPI","74034/001","ESPALHAMENTO DE MATERIAL DE 1A CATEGORIA COM TRATOR DE ESTEIRA COM 153HP","M3",1779,3664.74,null,{"$f":"LEFT(TEXT(Tabela_DadosExternos_1[[#This Row],[ITEM ]],\"00\\.00\\.00\"),2)","v":"04"}]
[40104,"SINAPI","41722","COMPACTACAO MECANICA A 100% DO PROCTOR NORMAL - PAVIMENTACAO URBANA","M2",5546,21407.56,null,{"$f":"LEFT(TEXT(Tabela_DadosExternos_1[[#This Row],[ITEM ]],\"00\\.00\\.00\"),2)","v":"04"}]
[40105,"SINAPI","72887","TRANSPORTE COMERCIAL COM CAMINHAO BASCULANTE 6 M3, RODOVIA PAVIMENTADA","M3xKM",8080,6948.8,null,{"$f":"LEFT(TEXT(Tabela_DadosExternos_1[[#This Row],[ITEM ]],\"00\\.00\\.00\"),2)","v":"04"}]
[40200,".",".","EQUIPAMENTOS",null,null,null,null,{"$f":"LEFT(TEXT(Tabela_DadosExternos_1[[#This Row],[ITEM ]],\"00\\.00\\.00\"),2)","v":"04"}]
[40201,"SINAPI","73618","LOCACAO MENSAL DE ANDAIME METALICO TIPO FACHADEIRO, INCLUSIVE MONTAGEM","M2",500,4380,null,{"$f":"LEFT(TEXT(Tabela_DadosExternos_1[[#This Row],[ITEM ]],\"00\\.00\\.00\"),2)","v":"04"}]
[40202,"SINAPI","73875/001","LOCACAO DE ANDAIME METALICO TUBULAR TIPO TORRE","M/MÊS",400,8724,null,{"$f":"LEFT(TEXT(Tabela_DadosExternos_1[[#This Row],[ITEM ]],\"00\\.00\\.00\"),2)","v":"04"}]
[50000,".",".","PAVIMENTAÇÃO",null,null,null,null,{"$f":"LEFT(TEXT(Tabela_DadosExternos_1[[#This Row],[ITEM ]],\"00\\.00\\.00\"),2)","v":"05"}]
[50100,".",".","BASE",null,null,null,null,{"$f":"LEFT(TEXT(Tabela_DadosExternos_1[[#This Row],[ITEM ]],\"00\\.00\\.00\"),2)","v":"05"}]
[50101,"SINAPI","74205/001","ESCAVACAO MECANICA DE MATERIAL 1A. CATEGORIA, PROVENIENTE DE CORTE DE SUBLEITO (C/TRATOR ESTEIRAS 160HP)","M3",650,1079,null,{"$f":"LEFT(TEXT(Tabela_DadosExternos_1[[#This Row],[ITEM ]],\"00\\.00\\.00\"),2)","v":"05"}]
[50102,"SINAPI","74010/001","CARGA E DESCARGA MECANICA DE SOLO UTILIZANDO CAMINHAO BASCULANTE 6,0M3/16T E PA CARREGADEIRA SOBRE PNEUS 128 HP, CAPACIDADE DA CAÇAMBA 1,7 A 2,8 M3, PESO OPERACIONAL 11632 KG","M3",650,955.5,null,{"$f":"LEFT(TEXT(Tabela_DadosExternos_1[[#This Row],[ITEM ]],\"00\\.00\\.00\"),2)","v":"05"}]
[50103,"SINAPI","72856","TRANSPORTE LOCAL COM CAMINHAO BASCULANTE 6 M3, RODOVIA EM LEITO NATURAL","M3/kM",19500,27885,null,{"$f":"LEFT(TEXT(Tabela_DadosExternos_1[[#This Row],[ITEM ]],\"00\\.00\\.00\"),2)","v":"05"}]
[50104,"SINAPI","72961","REGULARIZACAO E COMPACTACAO DE SUBLEITO ATE 20 CM DE ESPESSURA","M2",3250,3802.5,null,{"$f":"LEFT(TEXT(Tabela_DadosExternos_1[[#This Row],[ITEM ]],\"00\\.00\\.00\"),2)","v":"05"}]
[50200,".",".","REVESTIMENTO ASFÁLTICO",null,null,null,null,{"$f":"LEFT(TEXT(Tabela_DadosExternos_1[[#This Row],[ITEM ]],\"00\\.00\\.00\"),2)","v":"05"}]
[50201,"SINAPI","72943","PINTURA DE LIGACAO COM EMULSAO RR-2C","M2",6500,9165,null,{"$f":"LEFT(TEXT(Tabela_DadosExternos_1[[#This Row],[ITEM ]],\"00\\.00\\.00\"),2)","v":"05"}]
[50202,"SINAPI","72945","IMPRIMACAO DE BASE DE PAVIMENTACAO COM EMULSAO CM-30","M2",3250,15892.5,null,{"$f":"LEFT(TEXT(Tabela_DadosExternos_1[[#This Row],[ITEM ]],\"00\\.00\\.00\"),2)","v":"05"}]
[50203,"SIURB","05-29-00","REVESTIMENTO DE PRÉ-MISTURADO À QUENTE (SEM TRANSPORTE) - BINDER","M3",162.5,97969.63,null,{"$f":"LEFT(TEXT(Tabela_DadosExternos_1[[#This Row],[ITEM ]],\"00\\.00\\.00\"),2)","v":"05"}]
[50204,"SINAPI","73710","BASE PARA PAVIMENTACAO COM BRITA GRADUADA, INCLUSIVE COMPACTACAO","M3",325,28902.25,null,{"$f":"LEFT(TEXT(Tabela_DadosExternos_1[[#This Row],[ITEM ]],\"00\\.00\\.00\"),2)","v":"05"}]
[50205,"SIURB","05-28-00","REVESTIMENTO DE CONCRETO ASFÁLTICO (SEM TRANSPORTE) - CBUQ","M3",162.5,103621.38,null,{"$f":"LEFT(TEXT(Tabela_DadosExternos_1[[#This Row],[ITEM ]],\"00\\.00\\.00\"),2)","v":"05"}]
[50206,"SIURB","05-78-01","CARGA, DESCARGA E TRANSPORTE DE CONCRETO ASFÁLTICO ATÉ A DISTÂNCIA MÉDIA DE IDA E VOLTA DE 1KM","M3",325,3051.75,null,{"$f":"LEFT(TEXT(Tabela_DadosExternos_1[[#This Row],[ITEM ]],\"00\\.00\\.00\"),2)","v":"05"}]
[50207,"SIURB","05-78-07","TRANSPORTE DE CONCRETO ASFÁLTICO ALÉM DO PRIMEIRO KM","M3XKM",9750,16185,null,{"$f":"LEFT(TEXT(Tabela_DadosExternos_1[[#This Row],[ITEM ]],\"00\\.00\\.00\"),2)","v":"05"}]
[50300,".",".","ELEMENTOS DE CONCRETO",null,null,null,null,{"$f":"LEFT(TEXT(Tabela_DadosExternos_1[[#This Row],[ITEM ]],\"00\\.00\\.00\"),2)","v":"05"}]
[50301,"SINAPI","72967","MEIO-FIO DE CONCRETO PRE-MOLDADO 12 X 30 CM, SOBRE BASE DE CONCRETO SIMPLES E REJUNTADO COM ARGAMASSA TRACO 1:3 (CIMENTO E AREIA)","M",8,265.27999999999997,null,{"$f":"LEFT(TEXT(Tabela_DadosExternos_1[[#This Row],[ITEM ]],\"00\\.00\\.00\"),2)","v":"05"}]
[50302,"CPOS","54.06.170","SARJETA OU SARJETÃO MOLDADA NO LOCAL, TIPO PMSP EM CONCRETO COM FCK 25 MPA","M3",2,877.46,null,{"$f":"LEFT(TEXT(Tabela_DadosExternos_1[[#This Row],[ITEM ]],\"00\\.00\\.00\"),2)","v":"05"}]
[50303,"CPOS","49.12.040","BOCA DE LEÃO/LOBO SIMPLES COM GRELHA","UN ",1,1676.48,null,{"$f":"LEFT(TEXT(Tabela_DadosExternos_1[[#This Row],[ITEM ]],\"00\\.00\\.00\"),2)","v":"05"}]
[50304,"CPOS","49.12.030","BOCA DE LOBO DUPLA TIPO PMSP, COM TAMPA DE CONCRETO","UN ",1,3123.12,null,{"$f":"LEFT(TEXT(Tabela_DadosExternos_1[[#This Row],[ITEM ]],\"00\\.00\\.00\"),2)","v":"05"}]
[50305,"SIURB","51600","GA-01 GUIA LEVE OU SEPARADOR DE PISOS","M",1560,26410.799999999999,null,{"$f":"LEFT(TEXT(Tabela_DadosExternos_1[[#This Row],[ITEM ]],\"00\\.00\\.00\"),2)","v":"05"}]
[60000,".",".","PISOS EXTERNOS",null,null,null,null,{"$f":"LEFT(TEXT(Tabela_DadosExternos_1[[#This Row],[ITEM ]],\"00\\.00\\.00\"),2)","v":"06"}]
[60100,".",".","BASE - CICLOVIA E INTERTRAVADO",null,null,null,null,{"$f":"LEFT(TEXT(Tabela_DadosExternos_1[[#This Row],[ITEM ]],\"00\\.00\\.00\"),2)","v":"06"}]
[60101,"SINAPI","74205/001","ESCAVACAO MECANICA DE MATERIAL 1A. CATEGORIA, PROVENIENTE DE CORTE DE SUBLEITO (C/TRATOR ESTEIRAS 160HP)","M3",824.23,1368.22,null,{"$f":"LEFT(TEXT(Tabela_DadosExternos_1[[#This Row],[ITEM ]],\"00\\.00\\.00\"),2)","v":"06"}]
[60102,"SINAPI","72948","COLCHAO DE AREIA PARA PAVIMENTACAO EM PARALELEPIPEDO OU BLOCOS DE CONCRETO INTERTRAVADOS","M3",535.75,40165.18,null,{"$f":"LEFT(TEXT(Tabela_DadosExternos_1[[#This Row],[ITEM ]],\"00\\.00\\.00\"),2)","v":"06"}]
[60103,"SINAPI","74010/001","CARGA E DESCARGA MECANICA DE SOLO UTILIZANDO CAMINHAO BASCULANTE 6,0M3/16T E PA CARREGADEIRA SOBRE PNEUS 128 HP, CAPACIDADE DA CAÇAMBA 1,7 A 2,8 M3, PESO OPERACIONAL 11632 KG","M3",824.23,1211.6199999999999,null,{"$f":"LEFT(TEXT(Tabela_DadosExternos_1[[#This Row],[ITEM ]],\"00\\.00\\.00\"),2)","v":"06"}]
[60104,"SINAPI","72856","TRANSPORTE LOCAL COM CAMINHAO BASCULANTE 6 M3, RODOVIA EM LEITO NATURAL","M3/kM",16720,23909.599999999999,null,{"$f":"LEFT(TEXT(Tabela_DadosExternos_1[[#This Row],[ITEM ]],\"00\\.00\\.00\"),2)","v":"06"}]
[60105,"SINAPI","72961","REGULARIZACAO E COMPACTACAO DE SUBLEITO ATE 20 CM DE ESPESSURA","M2",6201.13,7255.32,null,{"$f":"LEFT(TEXT(Tabela_DadosExternos_1[[#This Row],[ITEM ]],\"00\\.00\\.00\"),2)","v":"06"}]
[60200,".",".","PISO CICLOVIA E ESTACIONAMENTO",null,null,null,null,{"$f":"LEFT(TEXT(Tabela_DadosExternos_1[[#This Row],[ITEM ]],\"00\\.00\\.00\"),2)","v":"06"}]
[60201,"SINAPI","72183","PISO EM CONCRETO 20MPA PREPARO MECANICO, ESPESSURA 7 CM, COM ARMACAO EM TELA SOLDADA","M2",2080,152484.79999999999,null,{"$f":"LEFT(TEXT(Tabela_DadosExternos_1[[#This Row],[ITEM ]],\"00\\.00\\.00\"),2)","v":"06"}]
[60202,"SINAPI","92396","EXECUÇÃO DE PASSEIO EM PISO INTERTRAVADO, COM BLOCO RETANGULAR DE 20 X 10 CM, ESPESSURA 6 CM","M2",4201.13,210602.65,null,{"$f":"LEFT(TEXT(Tabela_DadosExternos_1[[#This Row],[ITEM ]],\"00\\.00\\.00\"),2)","v":"06"}]
[70000,".",".","INFRA-ESTRUTURA",null,null,null,null,{"$f":"LEFT(TEXT(Tabela_DadosExternos_1[[#This Row],[ITEM ]],\"00\\.00\\.00\"),2)","v":"07"}]
[70100,".",".","INFRA-ESTRUTURA - BASE PORTICO / ELÉTRICO",null,null,null,null,{"$f":"LEFT(TEXT(Tabela_DadosExternos_1[[#This Row],[ITEM ]],\"00\\.00\\.00\"),2)","v":"07"}]
[70101,"SINAPI","79478","ESCAVACAO MANUAL CAMPO ABERTO EM SOLO EXCETO ROCHA ATE 2,00M PROFUNDIDADE","M3",55.460000000000008,2540.62,null,{"$f":"LEFT(TEXT(Tabela_DadosExternos_1[[#This Row],[ITEM ]],\"00\\.00\\.00\"),2)","v":"07"}]
[70102,"CPOS","06.11.040","REATERRO MANUAL APILOADO SEM CONTROLE DE COMPACTAÇÃO","M3",80.56,903.88,null,{"$f":"LEFT(TEXT(Tabela_DadosExternos_1[[#This Row],[ITEM ]],\"00\\.00\\.00\"),2)","v":"07"}]
[70103,"SINAPI","73907/006","LASTRO DE CONCRETO, ESPESSURA 3CM, PREPARO MECANICO","M3",31.56,619.52,null,{"$f":"LEFT(TEXT(Tabela_DadosExternos_1[[#This Row],[ITEM ]],\"00\\.00\\.00\"),2)","v":"07"}]
[70104,"SINAPI","73692","LASTRO DE AREIA MEDIA","M3",16,1599.84,null,{"$f":"LEFT(TEXT(Tabela_DadosExternos_1[[#This Row],[ITEM ]],\"00\\.00\\.00\"),2)","v":"07"}]
[70105,"SINAPI","74164/004","LASTRO DE BRITA","M3",12,1019.28,null,{"$f":"LEFT(TEXT(Tabela_DadosExternos_1[[#This Row],[ITEM ]],\"00\\.00\\.00\"),2)","v":"07"}]
[70106,"SINAPI","5651","FORMA TABUA PARA CONCRETO EM FUNDACAO C/ REAPROVEITAMENTO 5X","M2",1.2999999999999972,36.659999999999997,null,{"$f":"LEFT(TEXT(Tabela_DadosExternos_1[[#This Row],[ITEM ]],\"00\\.00\\.00\"),2)","v":"07"}]
[70107,"SINAPI","92792","CORTE E DOBRA DE AÇO CA-50, DIÂMETRO DE 6.3 MM, UTILIZADO EM ESTRUTURAS DIVERSAS, EXCETO LAJES","KG",6.3000000000001819,46.49,null,{"$f":"LEFT(TEXT(Tabela_DadosExternos_1[[#This Row],[ITEM ]],\"00\\.00\\.00\"),2)","v":"07"}]
[70108,"CPOS","11.01.160","CONCRETO USINADO, FCK = 30,0 MPA","M3",1.2000000000000028,342.3,null,{"$f":"LEFT(TEXT(Tabela_DadosExternos_1[[#This Row],[ITEM ]],\"00\\.00\\.00\"),2)","v":"07"}]
[80000,".",".","PÓRTICO",null,null,null,null,{"$f":"LEFT(TEXT(Tabela_DadosExternos_1[[#This Row],[ITEM ]],\"00\\.00\\.00\"),2)","v":"08"}]
[80100,".",".","REVESTIMENTO",null,null,null,null,{"$f":"LEFT(TEXT(Tabela_DadosExternos_1[[#This Row],[ITEM ]],\"00\\.00\\.00\"),2)","v":"08"}]
[80101,"CPOS","15.03.110","FORNECIMENTO E MONTAGEM DE ESTRUTURA EM AÇO PATINÁVEL, SEM PINTURA","KG",0,0,null,{"$f":"LEFT(TEXT(Tabela_DadosExternos_1[[#This Row],[ITEM ]],\"00\\.00\\.00\"),2)","v":"08"}]
[80102,"CPOS","21.03.010","REVESTIMENTO EM AÇO INOXIDÁVEL AISI 304, LIGA 18,8, CHAPA 20, COM ESPESSURA DE 1 MM, ACABAMENTO ESCOVADO COM GRANA ESPECIAL (CONFORME PROJETO)","M2",0,0,null,{"$f":"LEFT(TEXT(Tabela_DadosExternos_1[[#This Row],[ITEM ]],\"00\\.00\\.00\"),2)","v":"08"}]
[80103,"CPOS","33.07.130","PINTURA EPÓXI BICOMPONENTE EM ESTRUTURAS METÁLICAS","M2",0,0,null,{"$f":"LEFT(TEXT(Tabela_DadosExternos_1[[#This Row],[ITEM ]],\"00\\.00\\.00\"),2)","v":"08"}]
[90000,".",".","PAREDES E PAINÉIS",null,null,null,null,{"$f":"LEFT(TEXT(Tabela_DadosExternos_1[[#This Row],[ITEM ]],\"00\\.00\\.00\"),2)","v":"09"}]
[90100,".",".","ALVENARIA DE DIVISA",null,null,null,null,{"$f":"LEFT(TEXT(Tabela_DadosExternos_1[[#This Row],[ITEM ]],\"00\\.00\\.00\"),2)","v":"09"}]
[90101,"SINAPI","87456","ALVENARIA DE VEDAÇÃO DE BLOCOS VAZADOS DE CONCRETO DE 14X19X39CM (ESPESSURA 14CM) DE PAREDES COM ÁREA LÍQUIDA MAIOR OU IGUAL A 6M2 SEM VÃOS E ARGAMASSA DE ASSENTAMENTO COM PREPARO MANUAL. AF_06/201","M2",112.5,5819.63,null,{"$f":"LEFT(TEXT(Tabela_DadosExternos_1[[#This Row],[ITEM ]],\"00\\.00\\.00\"),2)","v":"09"}]
[90102,"SINAPI","94231","RUFO EM CHAPA DE ACO GALVANIZADO NUMERO 24, DESENVOLVIMENTO DE 25CM","M",750,15787.5,null,{"$f":"LEFT(TEXT(Tabela_DadosExternos_1[[#This Row],[ITEM ]],\"00\\.00\\.00\"),2)","v":"09"}]
[90103,"SINAPI","88428","APLICAÇÃO MANUAL DE PINTURA COM TINTA TEXTURIZADA ACRÍLICA EM SUPERFÍC IES EXTERNAS DE SACADA DE EDIFÍCIOS DE MÚLTIPLOS PAVIMENTOS, DUAS CORE S","M2",1200,26436,null,{"$f":"LEFT(TEXT(Tabela_DadosExternos_1[[#This Row],[ITEM ]],\"00\\.00\\.00\"),2)","v":"09"}]
[90200,".",".","GESSO ACARTONADO E PAINÉIS DIVISÓRIOS - ZETA",null,null,null,null,{"$f":"LEFT(TEXT(Tabela_DadosExternos_1[[#This Row],[ITEM ]],\"00\\.00\\.00\"),2)","v":"09"}]
[90201,"CPOS","14.30.160","DIVISÓRIA EM PLACAS DE GESSO ACARTONADO, RESITÊNCIA AO FOGO 60 MINUTOS, ESPESSURA 120/90MM - 1RF / 1RF LM","M2",1.7000000000000028,235.03,null,{"$f":"LEFT(TEXT(Tabela_DadosExternos_1[[#This Row],[ITEM ]],\"00\\.00\\.00\"),2)","v":"09"}]
[100000,".",".","ESQUADRIAS",null,null,null,null,{"$f":"LEFT(TEXT(Tabela_DadosExternos_1[[#This Row],[ITEM ]],\"00\\.00\\.00\"),2)","v":"10"}]
[100100,".",".","ESQUADRIAS DE MADEIRA",null,null,null,null,{"$f":"LEFT(TEXT(Tabela_DadosExternos_1[[#This Row],[ITEM ]],\"00\\.00\\.00\"),2)","v":"10"}]
[100101,"CPOS","23.02.050","PORTA MACHO E FÊMEA COM BATENTE DE MADEIRA - 92 X 210 CM","UN",6,3777,null,{"$f":"LEFT(TEXT(Tabela_DadosExternos_1[[#This Row],[ITEM ]],\"00\\.00\\.00\"),2)","v":"10"}]
[100102,"SIURB","70175","VISOR FIXO COM VIDRO E REQUADRO DE MADEIRA PARA PORTA","UN",1,128.22999999999999,null,{"$f":"LEFT(TEXT(Tabela_DadosExternos_1[[#This Row],[ITEM ]],\"00\\.00\\.00\"),2)","v":"10"}]
[100103,"CPOS","23.02.550","PORTA MACHO E FÊMEA COM BATENTE METÁLICO - 124 X 210 CM","UN",3,3774.75,null,{"$f":"LEFT(TEXT(Tabela_DadosExternos_1[[#This Row],[ITEM ]],\"00\\.00\\.00\"),2)","v":"10"}]
[100104,"CPOS","28.20.413","DOBRADIÇA EM LATÃO CROMADO REFORÇADA DE 3 X 1/2\", PARA PORTA DE ATÉ 35 KG","UN",18,610.02,null,{"$f":"LEFT(TEXT(Tabela_DadosExternos_1[[#This Row],[ITEM ]],\"00\\.00\\.00\"),2)","v":"10"}]
[100105,"SIURB","70228","FECHADURA TIPO SÓ TRINCO (45MM) - TRÁFEGO INTENSO, MAÇANETA EM ZAMAC, GUARNIÇÕES EM AÇO, ACABAMENTO CROMADO BRILHANTE - PORTA DE ABRIR","UN",6,750.9,null,{"$f":"LEFT(TEXT(Tabela_DadosExternos_1[[#This Row],[ITEM ]],\"00\\.00\\.00\"),2)","v":"10"}]
[100200,".",".","ESQUADRIAS METÁLICAS - ALUMINIO SÉRIE 30 E 25, CONFORME PROJETO",null,null,null,null,{"$f":"LEFT(TEXT(Tabela_DadosExternos_1[[#This Row],[ITEM ]],\"00\\.00\\.00\"),2)","v":"10"}]
[100201,"CPOS","25.01.470","CAIXILHO FIXO TIPO VENEZIANA EM ALUMÍNIO ANODIZADO, SOB MEDIDA - BRANCO","M2",13.31,7107.54,null,{"$f":"LEFT(TEXT(Tabela_DadosExternos_1[[#This Row],[ITEM ]],\"00\\.00\\.00\"),2)","v":"10"}]
[100202,"SINAPI","85010","CAIXILHO FIXO, DE ALUMINIO, PARA VIDRO","  M2 ",368.72,131127.89000000001,null,{"$f":"LEFT(TEXT(Tabela_DadosExternos_1[[#This Row],[ITEM ]],\"00\\.00\\.00\"),2)","v":"10"}]
[100203,"SINAPI","84889","PUXADOR CENTRAL PARA ESQUADRIA DE ALUMINIO","UN",308,5199.04,null,{"$f":"LEFT(TEXT(Tabela_DadosExternos_1[[#This Row],[ITEM ]],\"00\\.00\\.00\"),2)","v":"10"}]
[100204,"CPU","003","GUARNICAO/MOLDURA DE ACABAMENTO PARA ESQUADRIA DE ALUMINIO ANODIZADO NATURAL","UN",779.35,85572.63,null,{"$f":"LEFT(TEXT(Tabela_DadosExternos_1[[#This Row],[ITEM ]],\"00\\.00\\.00\"),2)","v":"10"}]
[100300,".",".","ESQUADRIAS METÁLICAS -  AÇO GALVANIZADO",null,null,null,null,{"$f":"LEFT(TEXT(Tabela_DadosExternos_1[[#This Row],[ITEM ]],\"00\\.00\\.00\"),2)","v":"10"}]
[100301,"SINAPI","74073/002","ALCAPAO EM FERRO 70X70CM, INCLUSO FERRAGENS","UN ",3,281.97000000000003,null,{"$f":"LEFT(TEXT(Tabela_DadosExternos_1[[#This Row],[ITEM ]],\"00\\.00\\.00\"),2)","v":"10"}]
[100302,"SIURB","170524","DP.04 - CORRIMÃO EM TUBO GALVANIZADO","M",159.5,6963.77,null,{"$f":"LEFT(TEXT(Tabela_DadosExternos_1[[#This Row],[ITEM ]],\"00\\.00\\.00\"),2)","v":"10"}]
[100303,"SINAPI","73631","GUARDA-CORPO EM TUBO DE ACO GALVANIZADO 1 1/2\" CONFORME PROJETO)","M",1.8900000000000476,545.51,null,{"$f":"LEFT(TEXT(Tabela_DadosExternos_1[[#This Row],[ITEM ]],\"00\\.00\\.00\"),2)","v":"10"}]
[100304,"CPOS","34.05.290","PORTÃO DE ABRIR EM GRADE DE AÇO GALVANIZADO ELETROFUNDIDA (PORTA ZETA - CONFORME PROJETO)","M2",46.25,52866.99,null,{"$f":"LEFT(TEXT(Tabela_DadosExternos_1[[#This Row],[ITEM ]],\"00\\.00\\.00\"),2)","v":"10"}]
[100305,"DNIT","4S0600001","DEFENSA MALEÁVEL SIMPLES (FORN./ IMPL.)","M",1.5,487.32,null,{"$f":"LEFT(TEXT(Tabela_DadosExternos_1[[#This Row],[ITEM ]],\"00\\.00\\.00\"),2)","v":"10"}]
[100400,".",".","VIDROS",null,null,null,null,{"$f":"LEFT(TEXT(Tabela_DadosExternos_1[[#This Row],[ITEM ]],\"00\\.00\\.00\"),2)","v":"10"}]
[100401,"SINAPI","72117","VIDRO LISO COMUM TRANSPARENTE, ESPESSURA 4MM ","M2",44.226000000000006,4823.7299999999996,null,{"$f":"LEFT(TEXT(Tabela_DadosExternos_1[[#This Row],[ITEM ]],\"00\\.00\\.00\"),2)","v":"10"}]
[100402,"CPOS","26.01.120","VIDRO LISO LAMINADO INCOLOR DE 6 MM","M2",1197.8461000000002,218415.26,null,{"$f":"LEFT(TEXT(Tabela_DadosExternos_1[[#This Row],[ITEM ]],\"00\\.00\\.00\"),2)","v":"10"}]
[100500,".",".","BRISE",null,null,null,null,{"$f":"LEFT(TEXT(Tabela_DadosExternos_1[[#This Row],[ITEM ]],\"00\\.00\\.00\"),2)","v":"10"}]
[100501,"CPU","002","BRISE HUNTER DOUGLAS MODELO BRISECELL 100X100 EM ALUZINC, INSTALADO TRAVÉS DE ESTRUTURA AUXILIAR E ACESSÓRIOS DE FIXAÇÃO","M2",820,589629.19999999995,null,{"$f":"LEFT(TEXT(Tabela_DadosExternos_1[[#This Row],[ITEM ]],\"00\\.00\\.00\"),2)","v":"10"}]
[100502,"CPOS","22.06.210","BRISE METÁLICO FIXO EM CHAPA MICROPERFURADA ALUZINC PRÉ-PINTADA","M2",47.839999999999996,13793.71,null,{"$f":"LEFT(TEXT(Tabela_DadosExternos_1[[#This Row],[ITEM ]],\"00\\.00\\.00\"),2)","v":"10"}]
[110000,".",".","COBERTURA",null,null,null,null,{"$f":"LEFT(TEXT(Tabela_DadosExternos_1[[#This Row],[ITEM ]],\"00\\.00\\.00\"),2)","v":"11"}]
[110100,".",".","TELHAMENTO E CALHA - COBERTURA ZETA",null,null,null,null,{"$f":"LEFT(TEXT(Tabela_DadosExternos_1[[#This Row],[ITEM ]],\"00\\.00\\.00\"),2)","v":"11"}]
[110101,"CPOS","16.33.040","CALHA, RUFO, AFINS EM CHAPA GALVANIZADA Nº 24 - CORTE 0,50 M","M",166.32,13137.62,null,{"$f":"LEFT(TEXT(Tabela_DadosExternos_1[[#This Row],[ITEM ]],\"00\\.00\\.00\"),2)","v":"11"}]
[120000,".",".","IMPERMEABILIZAÇÃO",null,null,null,null,{"$f":"LEFT(TEXT(Tabela_DadosExternos_1[[#This Row],[ITEM ]],\"00\\.00\\.00\"),2)","v":"12"}]
[120100,".",".","IMPERMEABILIZAÇÃO - COBERTURA ZETA",null,null,null,null,{"$f":"LEFT(TEXT(Tabela_DadosExternos_1[[#This Row],[ITEM ]],\"00\\.00\\.00\"),2)","v":"12"}]
[120101,"CPOS","32.15.240","IMPERMEABILIZAÇÃO COM MANTA ASFÁLTICA TIPO III, ANTI RAIZ, ESPESSURA DE 4 MM","M2",1455.7,150970.65,null,{"$f":"LEFT(TEXT(Tabela_DadosExternos_1[[#This Row],[ITEM ]],\"00\\.00\\.00\"),2)","v":"12"}]
[120102,"CPOS","17.01.020","ARGAMASSA DE REGULARIZAÇÃO E/OU PROTEÇÃO","M3",72.785000000000011,34686.42,null,{"$f":"LEFT(TEXT(Tabela_DadosExternos_1[[#This Row],[ITEM ]],\"00\\.00\\.00\"),2)","v":"12"}]
[130000,".",".","FORRO",null,null,null,null,{"$f":"LEFT(TEXT(Tabela_DadosExternos_1[[#This Row],[ITEM ]],\"00\\.00\\.00\"),2)","v":"13"}]
[130100,".",".","FORRO - ZETA",null,null,null,null,{"$f":"LEFT(TEXT(Tabela_DadosExternos_1[[#This Row],[ITEM ]],\"00\\.00\\.00\"),2)","v":"13"}]
[130101,"CPOS","22.02.030","FORRO EM PAINÉIS DE GESSO ACARTONADO, COM ESPESSURA DE 12,5 MM, FIXO","M2",5.5799999999999983,344.73,null,{"$f":"LEFT(TEXT(Tabela_DadosExternos_1[[#This Row],[ITEM ]],\"00\\.00\\.00\"),2)","v":"13"}]
[130102,"CPOS","22.03.030","FORRO EM FIBRA MINERAL ACÚSTICO, REVESTIDO EM LÁTEX","M2",8.8499999999999091,670.56,null,{"$f":"LEFT(TEXT(Tabela_DadosExternos_1[[#This Row],[ITEM ]],\"00\\.00\\.00\"),2)","v":"13"}]
[140000,".",".","REVESTIMENTOS",null,null,null,null,{"$f":"LEFT(TEXT(Tabela_DadosExternos_1[[#This Row],[ITEM ]],\"00\\.00\\.00\"),2)","v":"14"}]
[140100,".",".","PISOS INTERNOS, SOLEIRAS E RODAPÉS",null,null,null,null,{"$f":"LEFT(TEXT(Tabela_DadosExternos_1[[#This Row],[ITEM ]],\"00\\.00\\.00\"),2)","v":"14"}]
[140101,"CPOS","03.03.060","DEMOLIÇÃO MANUAL DE REVESTIMENTO EM MASSA DE PISO","M2",254.01,1531.68,null,{"$f":"LEFT(TEXT(Tabela_DadosExternos_1[[#This Row],[ITEM ]],\"00\\.00\\.00\"),2)","v":"14"}]
[140102,"CPOS","05.07.050","REMOÇÃO DE ENTULHO DE OBRA COM CAÇAMBA METÁLICA - MATERIAL VOLUMOSO MISTURADO POR ALVENARIA, TERRA, MADEIRA, PAPEL, PLÁSTICO E METAL","M3",30.302,2491.4299999999998,null,{"$f":"LEFT(TEXT(Tabela_DadosExternos_1[[#This Row],[ITEM ]],\"00\\.00\\.00\"),2)","v":"14"}]
[140103,"CPOS","32.15.240","IMPERMEABILIZAÇÃO COM MANTA ASFÁLTICA TIPO III, ANTI RAIZ, ESPESSURA DE 4 MM","M2",151.51,15713.1,null,{"$f":"LEFT(TEXT(Tabela_DadosExternos_1[[#This Row],[ITEM ]],\"00\\.00\\.00\"),2)","v":"14"}]
[140104,"CPOS","17.01.020","ARGAMASSA DE REGULARIZAÇÃO E/OU PROTEÇÃO","M3",9.09,4322.84,null,{"$f":"LEFT(TEXT(Tabela_DadosExternos_1[[#This Row],[ITEM ]],\"00\\.00\\.00\"),2)","v":"14"}]
[140105,"CPOS","18.07.010","PISO CERÂMICO NÃO ESMALTADO EXTRUDADO ALTA RESISTÊNCIA QUÍMICA E MECÂNICA, ESPESSURA DE 9 MM, ASSENTADO COM ARGAMASSA DE CIMENTO E AREIA (PISO GAIL CONFORME PROJETO)","M2",151.51,14234.36,null,{"$f":"LEFT(TEXT(Tabela_DadosExternos_1[[#This Row],[ITEM ]],\"00\\.00\\.00\"),2)","v":"14"}]
[140106,"CPU","001","PISO ELEVADO TIPO TELESCÓPIO EM CHAPA DE AÇO COM REVESTIMENTO DE LAMINADO MELAMÍNICO","M2",70,17749.2,null,{"$f":"LEFT(TEXT(Tabela_DadosExternos_1[[#This Row],[ITEM ]],\"00\\.00\\.00\"),2)","v":"14"}]
[140107,"SINAPI","72189","RODAPE VINILICO ALTURA 5CM, ESPESSURA 1MM, FIXADO COM COLA","M",10,199.8,null,{"$f":"LEFT(TEXT(Tabela_DadosExternos_1[[#This Row],[ITEM ]],\"00\\.00\\.00\"),2)","v":"14"}]
[140108,"CPOS","18.06.010","PISO CERÂMICO ESMALTADO PEI-4 RESISTÊNCIA QUÍMICA A, PARA ÁREAS INTERNAS SUJEITAS À LAVAGEM FREQUENTE, ASSENTADO COM ARGAMASSA MISTA","M2",6.932500000000001,476.19,null,{"$f":"LEFT(TEXT(Tabela_DadosExternos_1[[#This Row],[ITEM ]],\"00\\.00\\.00\"),2)","v":"14"}]
[140109,"CPOS","18.06.430","REJUNTAMENTO DE PISO EM PLACAS CERÂMICAS COM ARGAMASSA INDUSTRIALIZADA PARA REJUNTE, JUNTAS ACIMA DE 5 ATÉ 10 MM","M2",158.4425,1430.74,null,{"$f":"LEFT(TEXT(Tabela_DadosExternos_1[[#This Row],[ITEM ]],\"00\\.00\\.00\"),2)","v":"14"}]
[150000,".",".","INSTALAÇÕES HIDRÁULICAS",null,null,null,null,{"$f":"LEFT(TEXT(Tabela_DadosExternos_1[[#This Row],[ITEM ]],\"00\\.00\\.00\"),2)","v":"15"}]
[150100,".",".","INSTALAÇÕES HIDRÁULICAS",null,null,null,null,{"$f":"LEFT(TEXT(Tabela_DadosExternos_1[[#This Row],[ITEM ]],\"00\\.00\\.00\"),2)","v":"15"}]
[150101,"CPOS","46.02.050","TUBO DE PVC RÍGIDO BRANCO PXB COM VIROLA E ANEL DE BORRACHA, LINHA ESGOTO SÉRIE NORMAL, DN= 50 MM, INCLUSIVE CONEXÕES","M",123.4,3487.28,null,{"$f":"LEFT(TEXT(Tabela_DadosExternos_1[[#This Row],[ITEM ]],\"00\\.00\\.00\"),2)","v":"15"}]
[150102,"CPOS","46.02.060","TUBO DE PVC RÍGIDO BRANCO PXB COM VIROLA E ANEL DE BORRACHA, LINHA ESGOTO SÉRIE NORMAL, DN= 75 MM, INCLUSIVE CONEXÕES","M",121,5178.8,null,{"$f":"LEFT(TEXT(Tabela_DadosExternos_1[[#This Row],[ITEM ]],\"00\\.00\\.00\"),2)","v":"15"}]
[150103,"CPOS","46.02.070","TUBO DE PVC RÍGIDO BRANCO PXB COM VIROLA E ANEL DE BORRACHA, LINHA ESGOTO SÉRIE NORMAL, DN= 100 MM, INCLUSIVE CONEXÕES","M",79,3825.18,null,{"$f":"LEFT(TEXT(Tabela_DadosExternos_1[[#This Row],[ITEM ]],\"00\\.00\\.00\"),2)","v":"15"}]
[150104,"CPOS","46.01.020","TUBO DE PVC RÍGIDO SOLDÁVEL MARROM, DN= 25 MM, (3/4´), INCLUSIVE CONEXÕES","M",90,1719,null,{"$f":"LEFT(TEXT(Tabela_DadosExternos_1[[#This Row],[ITEM ]],\"00\\.00\\.00\"),2)","v":"15"}]
[150105,"CPOS","46.01.030","TUBO DE PVC RÍGIDO SOLDÁVEL MARROM, DN= 32 MM, (1´), INCLUSIVE CONEXÕES","M",83.6,2018.94,null,{"$f":"LEFT(TEXT(Tabela_DadosExternos_1[[#This Row],[ITEM ]],\"00\\.00\\.00\"),2)","v":"15"}]
[150106,"CPOS","46.01.050","TUBO DE PVC RÍGIDO SOLDÁVEL MARROM, DN= 50 MM, (1 1/2´), INCLUSIVE CONEXÕES","M",23.4,756.29,null,{"$f":"LEFT(TEXT(Tabela_DadosExternos_1[[#This Row],[ITEM ]],\"00\\.00\\.00\"),2)","v":"15"}]
[150107,"SINAPI","89491","CAIXA SIFONADA, PVC, DN 150 X 185 X 75 MM, FORNECIDA E INSTALADA EM RA MAIS DE ENCAMINHAMENTO DE ÁGUA PLUVIAL","UN",3,135.57,null,{"$f":"LEFT(TEXT(Tabela_DadosExternos_1[[#This Row],[ITEM ]],\"00\\.00\\.00\"),2)","v":"15"}]
[150108,"SINAPI","72289","CAIXA DE INSPEÇÃO 80X80X80CM EM ALVENARIA - EXECUÇÃO","UN",4,1355.96,null,{"$f":"LEFT(TEXT(Tabela_DadosExternos_1[[#This Row],[ITEM ]],\"00\\.00\\.00\"),2)","v":"15"}]
[150109,"CPOS","49.06.030","GRELHA HEMISFÉRICA EM FERRO FUNDIDO DE 3´","UN",6,35.94,null,{"$f":"LEFT(TEXT(Tabela_DadosExternos_1[[#This Row],[ITEM ]],\"00\\.00\\.00\"),2)","v":"15"}]
[150110,"SINAPI","89353","REGISTRO DE GAVETA BRUTO, LATÃO, ROSCÁVEL, 3/4\", FORNECIDO E INSTALADO EM RAMAL DE ÁGUA","UN",2,53.34,null,{"$f":"LEFT(TEXT(Tabela_DadosExternos_1[[#This Row],[ITEM ]],\"00\\.00\\.00\"),2)","v":"15"}]
[150111,"SINAPI","94495","REGISTRO DE GAVETA BRUTO, LATÃO, ROSCÁVEL, 1, INSTALADO EM RESERVAÇÃO DE ÁGUA DE EDIFICAÇÃO QUE POSSUA RESERVATÓRIO DE FIBRA/FIBROCIMENTO FORNECIMENTO E INSTALAÇÃO","UN",1,59.41,null,{"$f":"LEFT(TEXT(Tabela_DadosExternos_1[[#This Row],[ITEM ]],\"00\\.00\\.00\"),2)","v":"15"}]
[150112,"CPOS","47.02.020","REGISTRO DE GAVETA EM LATÃO FUNDIDO CROMADO COM CANOPLA, DN= 3/4´ - LINHA ESPECIAL","UN",10,660.4,null,{"$f":"LEFT(TEXT(Tabela_DadosExternos_1[[#This Row],[ITEM ]],\"00\\.00\\.00\"),2)","v":"15"}]
[150113,"SINAPI","86912","TORNEIRA CROMADA LONGA, DE PAREDE, 1/2\" OU 3/4\", PARA PIA DE COZINHA, PADRÃO MÉDIO - FORNECIMENTO E INSTALAÇÃO","PC",2,72.44,null,{"$f":"LEFT(TEXT(Tabela_DadosExternos_1[[#This Row],[ITEM ]],\"00\\.00\\.00\"),2)","v":"15"}]
[150114,"CPOS","44.20.150","ACABAMENTO CROMADO PARA REGISTRO","UN",20,619,null,{"$f":"LEFT(TEXT(Tabela_DadosExternos_1[[#This Row],[ITEM ]],\"00\\.00\\.00\"),2)","v":"15"}]
[150115,"SINAPI","94501","REGISTRO DE GAVETA BRUTO, LATÃO, ROSCÁVEL, 1, COM ACABAMENTO E CANOPLA CROMADOS, FORNECIMENTO E INSTALAÇÃO.","UN",12,1033.8,null,{"$f":"LEFT(TEXT(Tabela_DadosExternos_1[[#This Row],[ITEM ]],\"00\\.00\\.00\"),2)","v":"15"}]
[150116,"CPOS","47.02.010","REGISTRO DE GAVETA EM LATÃO FUNDIDO CROMADO COM CANOPLA, DN= 1/2´ - LINHA ESPECIAL","UN",8,502.8,null,{"$f":"LEFT(TEXT(Tabela_DadosExternos_1[[#This Row],[ITEM ]],\"00\\.00\\.00\"),2)","v":"15"}]
[150117,"CPOS","48.05.070","TORNEIRA DE BOIA, TIPO REGISTRO AUTOMATICO DE ENTRADA, DN= 3´","UN",4,4832.68,null,{"$f":"LEFT(TEXT(Tabela_DadosExternos_1[[#This Row],[ITEM ]],\"00\\.00\\.00\"),2)","v":"15"}]
[150118,"SINAPI","89987","REGISTRO DE GAVETA BRUTO, LATÃO, ROSCÁVEL, 3/4\", COM ACABAMENTO E CANOPLA CROMADOS. FORNECIDO E INSTALADO EM RAMAL DE ÁGUA.","UN",16,905.76,null,{"$f":"LEFT(TEXT(Tabela_DadosExternos_1[[#This Row],[ITEM ]],\"00\\.00\\.00\"),2)","v":"15"}]
[150119,"SINAPI","86883","SIFÃO DO TIPO FLEXÍVEL EM PVC 1\u0094 X 1.1/2\u0094 - FORNECIMENTO E INSTALAÇÃO. AF_12/2013","UN",16,139.84,null,{"$f":"LEFT(TEXT(Tabela_DadosExternos_1[[#This Row],[ITEM ]],\"00\\.00\\.00\"),2)","v":"15"}]
[150120,"CPOS","49.01.020","CAIXA SIFONADA DE PVC RÍGIDO DE 100 X 150 X 50 MM, COM GRELHA","UN",2,99.68,null,{"$f":"LEFT(TEXT(Tabela_DadosExternos_1[[#This Row],[ITEM ]],\"00\\.00\\.00\"),2)","v":"15"}]
[150121,"CPOS","49.01.030","CAIXA SIFONADA DE PVC RÍGIDO DE 150 X 150 X 50 MM, COM GRELHA","UN",2,119.56,null,{"$f":"LEFT(TEXT(Tabela_DadosExternos_1[[#This Row],[ITEM ]],\"00\\.00\\.00\"),2)","v":"15"}]
[150200,".",".","APARELHOS SANITÁRIOS E METAIS",null,null,null,null,{"$f":"LEFT(TEXT(Tabela_DadosExternos_1[[#This Row],[ITEM ]],\"00\\.00\\.00\"),2)","v":"15"}]
[150201,"SINAPI","86914 ","TORNEIRA CROMADA 1/2\" OU 3/4\" PARA TANQUE, PADRÃO MÉDIO - FORNECIMENTO E INSTALAÇÃO. AF_12/2013","PÇ",10,331.2,null,{"$f":"LEFT(TEXT(Tabela_DadosExternos_1[[#This Row],[ITEM ]],\"00\\.00\\.00\"),2)","v":"15"}]
[150202,"CPOS","44.20.100","ENGATE FLEXÍVEL METÁLICO DN= 1/2´","UN",6,182.52,null,{"$f":"LEFT(TEXT(Tabela_DadosExternos_1[[#This Row],[ITEM ]],\"00\\.00\\.00\"),2)","v":"15"}]
[160000,".",".","INSTALAÇÕES ELÉTRICA",null,null,null,null,{"$f":"LEFT(TEXT(Tabela_DadosExternos_1[[#This Row],[ITEM ]],\"00\\.00\\.00\"),2)","v":"16"}]
[160100,".",".","QDF - BLOCO ZETA / OMEGA / ELEVADORES",null,null,null,null,{"$f":"LEFT(TEXT(Tabela_DadosExternos_1[[#This Row],[ITEM ]],\"00\\.00\\.00\"),2)","v":"16"}]
[160101,"SINAPI","74131/008","QUADRO DE DISTRIBUICAO DE ENERGIA DE EMBUTIR, EM CHAPA METALICA, PARA 50 DISJUNTORES TERMOMAGNETICOS MONOPOLARES, COM BARRAMENTO TRIFASICO E NEUTRO, FORNECIMENTO E INSTALACAO","UN ",9,7374.87,null,{"$f":"LEFT(TEXT(Tabela_DadosExternos_1[[#This Row],[ITEM ]],\"00\\.00\\.00\"),2)","v":"16"}]
[160102,"CPOS","37.10.010","BARRAMENTO DE COBRE NU","KG",40,1780,null,{"$f":"LEFT(TEXT(Tabela_DadosExternos_1[[#This Row],[ITEM ]],\"00\\.00\\.00\"),2)","v":"16"}]
[160103,"SIURB","91701","DPS - DISPOSITIVO PROTEÇÃO CONTRA SURTOS 275V - 40KA"," UN ",16,2964.96,null,{"$f":"LEFT(TEXT(Tabela_DadosExternos_1[[#This Row],[ITEM ]],\"00\\.00\\.00\"),2)","v":"16"}]
[160104,"SINAPI","93657","DISJUNTOR MONOPOLAR TIPO DIN, CORRENTE NOMINAL DE 32A - FORNECIMENTO E INSTALAÇÃO"," UN ",10,109.2,null,{"$f":"LEFT(TEXT(Tabela_DadosExternos_1[[#This Row],[ITEM ]],\"00\\.00\\.00\"),2)","v":"16"}]
[160105,"SINAPI","93662","DISJUNTOR BIPOLAR TIPO DIN, CORRENTE NOMINAL DE 25A - FORNECIMENTO E I NSTALAÇÃO"," UN ",4,185.84,null,{"$f":"LEFT(TEXT(Tabela_DadosExternos_1[[#This Row],[ITEM ]],\"00\\.00\\.00\"),2)","v":"16"}]
[160106,"SINAPI","93663","DISJUNTOR BIPOLAR TIPO DIN, CORRENTE NOMINAL DE 32A - FORNECIMENTO E I NSTALAÇÃO"," UN ",12,557.52,null,{"$f":"LEFT(TEXT(Tabela_DadosExternos_1[[#This Row],[ITEM ]],\"00\\.00\\.00\"),2)","v":"16"}]
[160107,"SINAPI","93666","DISJUNTOR BIPOLAR TIPO DIN, CORRENTE NOMINAL DE 50A - FORNECIMENTO E I NSTALAÇÃO"," UN ",8,439.84,null,{"$f":"LEFT(TEXT(Tabela_DadosExternos_1[[#This Row],[ITEM ]],\"00\\.00\\.00\"),2)","v":"16"}]
[160108,"SINAPI","93668","DISJUNTOR TRIPOLAR TIPO DIN, CORRENTE NOMINAL DE 16A - FORNECIMENTO E INSTALAÇÃO"," UN ",12,673.68,null,{"$f":"LEFT(TEXT(Tabela_DadosExternos_1[[#This Row],[ITEM ]],\"00\\.00\\.00\"),2)","v":"16"}]
[160109,"SINAPI","93670","DISJUNTOR TRIPOLAR TIPO DIN, CORRENTE NOMINAL DE 25A - FORNECIMENTO E INSTALAÇÃO"," UN ",12,701.64,null,{"$f":"LEFT(TEXT(Tabela_DadosExternos_1[[#This Row],[ITEM ]],\"00\\.00\\.00\"),2)","v":"16"}]
[160110,"SINAPI","93671","DISJUNTOR TRIPOLAR TIPO DIN, CORRENTE NOMINAL DE 32A - FORNECIMENTO E INSTALAÇÃO"," UN ",12,736.32,null,{"$f":"LEFT(TEXT(Tabela_DadosExternos_1[[#This Row],[ITEM ]],\"00\\.00\\.00\"),2)","v":"16"}]
[160111,"CPOS","37.13.770","DISJUNTOR EM CAIXA MOLDADA, TÉRMICO E MAGNÉTICO AJUSTÁVEIS, TRIPOLAR 1250 A/690 V, FAIXA DE AJUSTE DE 800 ATÉ 1250 A"," UN ",2,13531.62,null,{"$f":"LEFT(TEXT(Tabela_DadosExternos_1[[#This Row],[ITEM ]],\"00\\.00\\.00\"),2)","v":"16"}]
[160112,"CPOS","37.13.720","DISJUNTOR SÉRIE UNIVERSAL, EM CAIXA MOLDADA, TÉRMICO FIXO E MAGNÉTICO AJUSTÁVEL, TRIPOLAR 600 V, CORRENTE DE 300 A ATÉ 400 A"," UN ",3,4762.0200000000004,null,{"$f":"LEFT(TEXT(Tabela_DadosExternos_1[[#This Row],[ITEM ]],\"00\\.00\\.00\"),2)","v":"16"}]
[160113,"CPOS","37.13.730","DISJUNTOR SÉRIE UNIVERSAL, EM CAIXA MOLDADA, TÉRMICO FIXO E MAGNÉTICO AJUSTÁVEL, TRIPOLAR 600 V, CORRENTE DE 500 A ATÉ 630 A"," UN ",3,7714.08,null,{"$f":"LEFT(TEXT(Tabela_DadosExternos_1[[#This Row],[ITEM ]],\"00\\.00\\.00\"),2)","v":"16"}]
[160114,"CPOS","37.13.660","DISJUNTOR TERMOMAGNÉTICO, TRIPOLAR 220/380 V, CORRENTE DE 60 A ATÉ 100 A"," UN ",3,334.92,null,{"$f":"LEFT(TEXT(Tabela_DadosExternos_1[[#This Row],[ITEM ]],\"00\\.00\\.00\"),2)","v":"16"}]
[160115,"CPOS","37.13.650","DISJUNTOR TERMOMAGNÉTICO, TRIPOLAR 220/380 V, CORRENTE DE 10 A ATÉ 50 A"," UN ",4,365.76,null,{"$f":"LEFT(TEXT(Tabela_DadosExternos_1[[#This Row],[ITEM ]],\"00\\.00\\.00\"),2)","v":"16"}]
[160116,"CPOS","37.13.640","DISJUNTOR TERMOMAGNÉTICO, BIPOLAR 220/380 V, CORRENTE DE 60 A ATÉ 100 A"," UN ",3,277.08,null,{"$f":"LEFT(TEXT(Tabela_DadosExternos_1[[#This Row],[ITEM ]],\"00\\.00\\.00\"),2)","v":"16"}]
[160117,"CPOS","37.13.630","DISJUNTOR TERMOMAGNÉTICO, BIPOLAR 220/380 V, CORRENTE DE 10 A ATÉ 50 A"," UN ",5,349.4,null,{"$f":"LEFT(TEXT(Tabela_DadosExternos_1[[#This Row],[ITEM ]],\"00\\.00\\.00\"),2)","v":"16"}]
[160118,"CPOS","37.13.600","DISJUNTOR TERMOMAGNÉTICO, UNIPOLAR 127/220 V, CORRENTE DE 10 A ATÉ 30 A"," UN ",5,85.45,null,{"$f":"LEFT(TEXT(Tabela_DadosExternos_1[[#This Row],[ITEM ]],\"00\\.00\\.00\"),2)","v":"16"}]
[160119,"CPOS","37.17.080","DISPOSITIVO DIFERENCIAL RESIDUAL DE 40 A X 30 MA - 4 PÓLOS"," UN ",1,156.09,null,{"$f":"LEFT(TEXT(Tabela_DadosExternos_1[[#This Row],[ITEM ]],\"00\\.00\\.00\"),2)","v":"16"}]
[160120,"CPOS","40.10.150","CONTATOR DE POTÊNCIA DE 220 A - 2NA + 2NF","CJ",2,6714.02,null,{"$f":"LEFT(TEXT(Tabela_DadosExternos_1[[#This Row],[ITEM ]],\"00\\.00\\.00\"),2)","v":"16"}]
[160121,"CPOS","40.10.140","CONTATOR DE POTÊNCIA DE 150 A - 2NA+2NF","CJ",3,5031.6000000000004,null,{"$f":"LEFT(TEXT(Tabela_DadosExternos_1[[#This Row],[ITEM ]],\"00\\.00\\.00\"),2)","v":"16"}]
[160122,"CPOS","40.10.130","CONTATOR DE POTÊNCIA 63 A - 2NA+2NF","CJ",3,1631.4,null,{"$f":"LEFT(TEXT(Tabela_DadosExternos_1[[#This Row],[ITEM ]],\"00\\.00\\.00\"),2)","v":"16"}]
[160200,".",".","CABOS",null,null,null,null,{"$f":"LEFT(TEXT(Tabela_DadosExternos_1[[#This Row],[ITEM ]],\"00\\.00\\.00\"),2)","v":"16"}]
[160201,"SINAPI","91927","CABO DE COBRE FLEXÍVEL ISOLADO, 2,5 MM², ANTI-CHAMA 0,6/1,0 KV, PARA CIRCUITOS TERMINAIS - FORNECIMENTO E INSTALAÇÃO","M",809,2418.91,null,{"$f":"LEFT(TEXT(Tabela_DadosExternos_1[[#This Row],[ITEM ]],\"00\\.00\\.00\"),2)","v":"16"}]
[160202,"SINAPI","91929","CABO DE COBRE FLEXÍVEL ISOLADO, 4 MM², ANTI-CHAMA 0,6/1,0 KV, PARA CIRCUITOS TERMINAIS - FORNECIMENTO E INSTALAÇÃO","M",320,1475.2,null,{"$f":"LEFT(TEXT(Tabela_DadosExternos_1[[#This Row],[ITEM ]],\"00\\.00\\.00\"),2)","v":"16"}]
[160203,"SINAPI","91931","CABO DE COBRE FLEXÍVEL ISOLADO, 6 MM², ANTI-CHAMA 0,6/1,0 KV, PARA CIRCUITOS TERMINAIS - FORNECIMENTO E INSTALAÇÃO","M",16310,94598,null,{"$f":"LEFT(TEXT(Tabela_DadosExternos_1[[#This Row],[ITEM ]],\"00\\.00\\.00\"),2)","v":"16"}]
[160204,"SINAPI","91933","CABO DE COBRE FLEXÍVEL ISOLADO, 10 MM², ANTI-CHAMA 0,6/1,0 KV, PARA CIRCUITOS TERMINAIS - FORNECIMENTO E INSTALAÇÃO","M",4100,35998,null,{"$f":"LEFT(TEXT(Tabela_DadosExternos_1[[#This Row],[ITEM ]],\"00\\.00\\.00\"),2)","v":"16"}]
[160205,"SINAPI","91935","CABO DE COBRE FLEXÍVEL ISOLADO, 16 MM², ANTI-CHAMA 0,6/1,0 KV, PARA CIRCUITOS TERMINAIS - FORNECIMENTO E INSTALAÇÃO","M",2506,32903.78,null,{"$f":"LEFT(TEXT(Tabela_DadosExternos_1[[#This Row],[ITEM ]],\"00\\.00\\.00\"),2)","v":"16"}]
[160206,"SINAPI","92986","CABO DE COBRE FLEXÍVEL ISOLADO, 35 MM², ANTI-CHAMA 0,6/1,0 KV, PARA DISTRIBUIÇÃO - FORNECIMENTO E INSTALAÇÃO","M",5,91.4,null,{"$f":"LEFT(TEXT(Tabela_DadosExternos_1[[#This Row],[ITEM ]],\"00\\.00\\.00\"),2)","v":"16"}]
[160207,"SINAPI","92988","CABO DE COBRE FLEXÍVEL ISOLADO, 50 MM², ANTI-CHAMA 0,6/1,0 KV, PARA DISTRIBUIÇÃO - FORNECIMENTO E INSTALAÇÃO","M",7,170.31,null,{"$f":"LEFT(TEXT(Tabela_DadosExternos_1[[#This Row],[ITEM ]],\"00\\.00\\.00\"),2)","v":"16"}]
[160208,"SINAPI","92990","CABO DE COBRE FLEXÍVEL ISOLADO, 70 MM2, ANTI-CHAMA 0,6/1,0 KV, PARA DISTRIBUIÇÃO - FORNECIMENTO E INSTALAÇÃO","M",11,367.29,null,{"$f":"LEFT(TEXT(Tabela_DadosExternos_1[[#This Row],[ITEM ]],\"00\\.00\\.00\"),2)","v":"16"}]
[160209,"SINAPI","92992","CABO DE COBRE FLEXÍVEL ISOLADO, 95 MM2, ANTI-CHAMA 0,6/1,0 KV, PARA DISTRIBUIÇÃO - FORNECIMENTO E INSTALAÇÃO","M",6,276.60000000000002,null,{"$f":"LEFT(TEXT(Tabela_DadosExternos_1[[#This Row],[ITEM ]],\"00\\.00\\.00\"),2)","v":"16"}]
[160210,"SINAPI","92994","CABO DE COBRE FLEXÍVEL ISOLADO, 120 MM², ANTI-CHAMA 0,6/1,0 KV, PARA D ISTRIBUIÇÃO - FORNECIMENTO E INSTALAÇÃO","M",85,4539,null,{"$f":"LEFT(TEXT(Tabela_DadosExternos_1[[#This Row],[ITEM ]],\"00\\.00\\.00\"),2)","v":"16"}]
[160211,"SINAPI","92996","CABO DE COBRE FLEXÍVEL ISOLADO, 150 MM², ANTI-CHAMA 0,6/1,0 KV, PARA D ISTRIBUIÇÃO - FORNECIMENTO E INSTALAÇÃO. AF_12/2015","M",700,47124,null,{"$f":"LEFT(TEXT(Tabela_DadosExternos_1[[#This Row],[ITEM ]],\"00\\.00\\.00\"),2)","v":"16"}]
[160212,"SINAPI","92998","CABO DE COBRE FLEXÍVEL ISOLADO, 185 MM², ANTI-CHAMA 0,6/1,0 KV, PARA D ISTRIBUIÇÃO - FORNECIMENTO E INSTALAÇÃO. AF_12/2015","M",3760,309184.8,null,{"$f":"LEFT(TEXT(Tabela_DadosExternos_1[[#This Row],[ITEM ]],\"00\\.00\\.00\"),2)","v":"16"}]
[160213,"SINAPI","93000","CABO DE COBRE FLEXÍVEL ISOLADO, 240 MM², ANTI-CHAMA 0,6/1,0 KV, PARA D ISTRIBUIÇÃO - FORNECIMENTO E INSTALAÇÃO","M",270,29837.7,null,{"$f":"LEFT(TEXT(Tabela_DadosExternos_1[[#This Row],[ITEM ]],\"00\\.00\\.00\"),2)","v":"16"}]
[160214,"CPOS","39.04.070","CABO DE COBRE NU, TÊMPERA MOLE, CLASSE 2, DE 35 MM²","M",70,1071.7,null,{"$f":"LEFT(TEXT(Tabela_DadosExternos_1[[#This Row],[ITEM ]],\"00\\.00\\.00\"),2)","v":"16"}]
[160215,"CPOS","39.04.080","CABO DE COBRE NU, TÊMPERA MOLE, CLASSE 2, DE 50 MM²","M",700,16366,null,{"$f":"LEFT(TEXT(Tabela_DadosExternos_1[[#This Row],[ITEM ]],\"00\\.00\\.00\"),2)","v":"16"}]
[160216,"CPOS","39.08.020","CABO DE COBRE DE 3X2,5 MM², ISOLAMENTO 0,6/1 KV - ISOLAÇÃO EPR 90°C","M",3517.5,29089.73,null,{"$f":"LEFT(TEXT(Tabela_DadosExternos_1[[#This Row],[ITEM ]],\"00\\.00\\.00\"),2)","v":"16"}]
[160217,"CPOS","39.12.050","CABO DE COBRE FLEXÍVEL ´PP´ 3X2,5 MM², ISOLAMENTO 750 V - ISOLAÇÃO EM PVC 70°C","M",150,1186.5,null,{"$f":"LEFT(TEXT(Tabela_DadosExternos_1[[#This Row],[ITEM ]],\"00\\.00\\.00\"),2)","v":"16"}]
[160300,".",".","ELETRODUTOS, CONEXOES E ACESSÓRIOS",null,null,null,null,{"$f":"LEFT(TEXT(Tabela_DadosExternos_1[[#This Row],[ITEM ]],\"00\\.00\\.00\"),2)","v":"16"}]
[160301,"CPOS","38.01.040","ELETRODUTO DE PVC RÍGIDO ROSCÁVEL 20 MM (3/4\") FORNECIMENTO E INSTALACAO","M ",300,5157,null,{"$f":"LEFT(TEXT(Tabela_DadosExternos_1[[#This Row],[ITEM ]],\"00\\.00\\.00\"),2)","v":"16"}]
[160302,"CPOS","38.01.060","ELETRODUTO DE PVC RÍGIDO ROSCÁVEL 25 MM (1\") FORNECIMENTO E INSTALACAO","M ",300,6408,null,{"$f":"LEFT(TEXT(Tabela_DadosExternos_1[[#This Row],[ITEM ]],\"00\\.00\\.00\"),2)","v":"16"}]
[160303,"SINAPI","72308","ELETRODUTO DE ACO GALVANIZADO ELETROLÍTICO TIPO LEVE 3/4\", INCLUSIVE CONEXOES - FORNECIMENTO E INSTALACAO ","M ",20,477.2,null,{"$f":"LEFT(TEXT(Tabela_DadosExternos_1[[#This Row],[ITEM ]],\"00\\.00\\.00\"),2)","v":"16"}]
[160304,"SINAPI","72309","ELETRODUTO DE ACO GALVANIZADO ELETROLÍTICO TIPO LEVE 1\", INCLUSIVE CONEXOES - FORNECIMENTO E INSTALACAO ","M ",19,474.43,null,{"$f":"LEFT(TEXT(Tabela_DadosExternos_1[[#This Row],[ITEM ]],\"00\\.00\\.00\"),2)","v":"16"}]
[160305,"CPOS","38.04.100","ELETRODUTO DE FERRO GALVANIZADO, MÉDIO DE 1 1/2´ - COM ACESSÓRIOS","M ",94,3354.86,null,{"$f":"LEFT(TEXT(Tabela_DadosExternos_1[[#This Row],[ITEM ]],\"00\\.00\\.00\"),2)","v":"16"}]
[160306,"CPOS","38.04.120","ELETRODUTO DE FERRO GALVANIZADO, MÉDIO DE 2´ - COM ACESSÓRIOS","M ",199,8240.59,null,{"$f":"LEFT(TEXT(Tabela_DadosExternos_1[[#This Row],[ITEM ]],\"00\\.00\\.00\"),2)","v":"16"}]
[160307,"CPOS","38.04.140","ELETRODUTO DE FERRO GALVANIZADO, MÉDIO DE 2 1/2´ - COM ACESSÓRIOS","M ",30,1683.3,null,{"$f":"LEFT(TEXT(Tabela_DadosExternos_1[[#This Row],[ITEM ]],\"00\\.00\\.00\"),2)","v":"16"}]
[160308,"CPOS","38.04.180","ELETRODUTO DE FERRO GALVANIZADO, MÉDIO DE 4´ - COM ACESSÓRIOS","M ",172,15830.88,null,{"$f":"LEFT(TEXT(Tabela_DadosExternos_1[[#This Row],[ITEM ]],\"00\\.00\\.00\"),2)","v":"16"}]
[160309,"CPOS","38.13.040","ELETRODUTO CORRUGADO EM POLIETILENO DE ALTA DENSIDADE, DN= 100 MM, COM ACESSÓRIOS","M ",2320,54636,null,{"$f":"LEFT(TEXT(Tabela_DadosExternos_1[[#This Row],[ITEM ]],\"00\\.00\\.00\"),2)","v":"16"}]
[160310,"CPOS","38.16.030","RODAPÉ TÉCNICO TRIPLO COM TAMPA, 3 X 30 X 40 MM","M",6,255.66,null,{"$f":"LEFT(TEXT(Tabela_DadosExternos_1[[#This Row],[ITEM ]],\"00\\.00\\.00\"),2)","v":"16"}]
[160311,"CPOS","38.16.080","TÊ TRIPLO DE 90°, HORIZONTAL OU VERTICAL, E TAMPA COM PINTURA ELETROSTÁTICA","UN",1,55.69,null,{"$f":"LEFT(TEXT(Tabela_DadosExternos_1[[#This Row],[ITEM ]],\"00\\.00\\.00\"),2)","v":"16"}]
[160312,"CPOS","38.16.060","CURVA HORIZONTAL TRIPLA DE 90°, INTERNA OU EXTERNA, E TAMPA COM PINTURA ELETROSTÁTICA","UN",3,140.69999999999999,null,{"$f":"LEFT(TEXT(Tabela_DadosExternos_1[[#This Row],[ITEM ]],\"00\\.00\\.00\"),2)","v":"16"}]
[160313,"CPOS","38.16.190","TERMINAL DE FECHAMENTO OU MATA JUNTA COM PINTURA ELETROSTÁTICA, PARA RODAPÉ TÉCNICO DUPLO","UN",3,21.96,null,{"$f":"LEFT(TEXT(Tabela_DadosExternos_1[[#This Row],[ITEM ]],\"00\\.00\\.00\"),2)","v":"16"}]
[160314,"CPOS","38.07.340","PERFILADO LISO 38 X 38 MM - COM ACESSÓRIOS","M",1000,26010,null,{"$f":"LEFT(TEXT(Tabela_DadosExternos_1[[#This Row],[ITEM ]],\"00\\.00\\.00\"),2)","v":"16"}]
[160315,"CPOS","38.16.090","CAIXA PARA TOMADAS: DE ENERGIA, RJ, SOBRESSALENTE, INTERRUPTOR OU ESPELHO, COM PINTURA ELETROSTÁTICA, PARA RODAPÉ TÉCNICO TRIPLO","UN",10,158.4,null,{"$f":"LEFT(TEXT(Tabela_DadosExternos_1[[#This Row],[ITEM ]],\"00\\.00\\.00\"),2)","v":"16"}]
[160316,"SINAPI","73861/009","CONDULETE 1\" EM LIGA DE ALUMÍNIO FUNDIDO TIPO \"E\" - FORNECIMENTO E INSTALACAO","UN ",5,80.650000000000006,null,{"$f":"LEFT(TEXT(Tabela_DadosExternos_1[[#This Row],[ITEM ]],\"00\\.00\\.00\"),2)","v":"16"}]
[160317,"SINAPI","73861/006","CONDULETE 1\" EM LIGA DE ALUMÍNIO FUNDIDO TIPO \"C\" - FORNECIMENTO E INSTALACAO","UN ",4,65.959999999999994,null,{"$f":"LEFT(TEXT(Tabela_DadosExternos_1[[#This Row],[ITEM ]],\"00\\.00\\.00\"),2)","v":"16"}]
[160318,"SINAPI","73861/021","CONDULETE 1\" EM LIGA DE ALUMÍNIO FUNDIDO TIPO \"T\" - FORNECIMENTO E INSTALACAO","UN ",4,78.56,null,{"$f":"LEFT(TEXT(Tabela_DadosExternos_1[[#This Row],[ITEM ]],\"00\\.00\\.00\"),2)","v":"16"}]
[160319,"CPOS","40.06.140","CONDULETE METÁLICO DE 2 1/2´","CJ",1,122.38,null,{"$f":"LEFT(TEXT(Tabela_DadosExternos_1[[#This Row],[ITEM ]],\"00\\.00\\.00\"),2)","v":"16"}]
[160320,"CPOS","40.06.120","CONDULETE METÁLICO DE 2´","CJ",1,76.3,null,{"$f":"LEFT(TEXT(Tabela_DadosExternos_1[[#This Row],[ITEM ]],\"00\\.00\\.00\"),2)","v":"16"}]
[160321,"CPOS","40.06.100","CONDULETE METÁLICO DE 1 1/2´","CJ",1,55.32,null,{"$f":"LEFT(TEXT(Tabela_DadosExternos_1[[#This Row],[ITEM ]],\"00\\.00\\.00\"),2)","v":"16"}]
[160322,"SINAPI","73861/005","CONDULETE  3/4\" EM LIGA DE ALUMÍNIO FUNDIDO TIPO \"C\" - FORNECIMENTO E INSTALACAO","UN ",1,13.4,null,{"$f":"LEFT(TEXT(Tabela_DadosExternos_1[[#This Row],[ITEM ]],\"00\\.00\\.00\"),2)","v":"16"}]
[160323,"SINAPI","73861/020","CONDULETE 3/4\" EM LIGA DE ALUMÍNIO FUNDIDO TIPO \"T\" - FORNECIMENTO E INSTALACAO","UN ",1,14.06,null,{"$f":"LEFT(TEXT(Tabela_DadosExternos_1[[#This Row],[ITEM ]],\"00\\.00\\.00\"),2)","v":"16"}]
[160324,"CPOS","40.01.020","CAIXA DE FERRO ESTAMPADA 4´ X 2´","UN ",10,95.7,null,{"$f":"LEFT(TEXT(Tabela_DadosExternos_1[[#This Row],[ITEM ]],\"00\\.00\\.00\"),2)","v":"16"}]
[160325,"CPOS","40.01.040","CAIXA DE FERRO ESTAMPADA 4´ X 4´","UN ",10,114.4,null,{"$f":"LEFT(TEXT(Tabela_DadosExternos_1[[#This Row],[ITEM ]],\"00\\.00\\.00\"),2)","v":"16"}]
[160326,"CPOS","40.02.020","CAIXA DE PASSAGEM EM CHAPA, COM TAMPA PARAFUSADA, 100 X 100 X 80 MM","UN ",14,270.62,null,{"$f":"LEFT(TEXT(Tabela_DadosExternos_1[[#This Row],[ITEM ]],\"00\\.00\\.00\"),2)","v":"16"}]
[160327,"SINAPI","91997","TOMADA MÉDIA DE EMBUTIR (1 MÓDULO), 2P+T 20 A, INCLUINDO SUPORTE E PLA CA - FORNECIMENTO E INSTALAÇÃO","UN ",15,367.2,null,{"$f":"LEFT(TEXT(Tabela_DadosExternos_1[[#This Row],[ITEM ]],\"00\\.00\\.00\"),2)","v":"16"}]
[160328,"CPOS","38.21.370","ELETROCALHA LISA GALVANIZADA A FOGO, 500 X 100 MM, COM ACESSÓRIOS","M",54,6658.2,null,{"$f":"LEFT(TEXT(Tabela_DadosExternos_1[[#This Row],[ITEM ]],\"00\\.00\\.00\"),2)","v":"16"}]
[160329,"SINAPI","73861/015","CONDULETE 1\" EM LIGA DE ALUMÍNIO FUNDIDO TIPO \"LL\" - FORNECIMENTO E IN STALACAO"," UN ",215,3639.95,null,{"$f":"LEFT(TEXT(Tabela_DadosExternos_1[[#This Row],[ITEM ]],\"00\\.00\\.00\"),2)","v":"16"}]
[160330,"CPOS","40.04.480","CONJUNTO 1 INTERRUPTOR SIMPLES E 1 TOMADA 2P+T DE 10 A, COMPLETO","CJ",3,61.86,null,{"$f":"LEFT(TEXT(Tabela_DadosExternos_1[[#This Row],[ITEM ]],\"00\\.00\\.00\"),2)","v":"16"}]
[160331,"SINAPI","72333","INTERRUPTOR BIPOLAR DE EMBUTIR 20A/250V, TECLA DUPLA C/ PLACA- FORNECIMENTO E INSTALACAO"," UN ",5,210.45,null,{"$f":"LEFT(TEXT(Tabela_DadosExternos_1[[#This Row],[ITEM ]],\"00\\.00\\.00\"),2)","v":"16"}]
[160332,"SINAPI","91975","INTERRUPTOR SIMPLES (4 MÓDULOS), 10A/250V, INCLUINDO SUPORTE E PLACA - FORNECIMENTO E INSTALAÇÃO"," UN ",3,215.73,null,{"$f":"LEFT(TEXT(Tabela_DadosExternos_1[[#This Row],[ITEM ]],\"00\\.00\\.00\"),2)","v":"16"}]
[160333,"CPOS","40.04.490","CONJUNTO 2 INTERRUPTORES SIMPLES E 1 TOMADA 2P+T DE 10 A, COMPLETO","CJ",4,100.2,null,{"$f":"LEFT(TEXT(Tabela_DadosExternos_1[[#This Row],[ITEM ]],\"00\\.00\\.00\"),2)","v":"16"}]
[160334,"CPOS","04.19.120","REMOÇÃO DE INTERRUPTORES, TOMADAS, BOTÃO DE CAMPAINHA OU CIGARRA"," UN ",35,395.15,null,{"$f":"LEFT(TEXT(Tabela_DadosExternos_1[[#This Row],[ITEM ]],\"00\\.00\\.00\"),2)","v":"16"}]
[160335,"SINAPI","72259","TERMINAL OU CONECTOR DE PRESSAO - PARA CABO 10MM2 - FORNECIMENTO E INSTALACAO"," UN ",101,1281.69,null,{"$f":"LEFT(TEXT(Tabela_DadosExternos_1[[#This Row],[ITEM ]],\"00\\.00\\.00\"),2)","v":"16"}]
[160336,"SINAPI","72260","TERMINAL OU CONECTOR DE PRESSAO - PARA CABO 16MM2 - FORNECIMENTO E INSTALACAO"," UN ",68,860.2,null,{"$f":"LEFT(TEXT(Tabela_DadosExternos_1[[#This Row],[ITEM ]],\"00\\.00\\.00\"),2)","v":"16"}]
[160337,"SINAPI","72261","TERMINAL OU CONECTOR DE PRESSAO - PARA CABO 25MM2 - FORNECIMENTO E INSTALACAO"," UN ",18,238.68,null,{"$f":"LEFT(TEXT(Tabela_DadosExternos_1[[#This Row],[ITEM ]],\"00\\.00\\.00\"),2)","v":"16"}]
[160338,"SINAPI","72263","TERMINAL OU CONECTOR DE PRESSAO - PARA CABO 50MM2 - FORNECIMENTO E INS TALACAO"," UN ",45,800.55,null,{"$f":"LEFT(TEXT(Tabela_DadosExternos_1[[#This Row],[ITEM ]],\"00\\.00\\.00\"),2)","v":"16"}]
[160339,"SINAPI","72264","TERMINAL OU CONECTOR DE PRESSAO - PARA CABO 70MM2 - FORNECIMENTO E INS TALACAO"," UN ",10,179.1,null,{"$f":"LEFT(TEXT(Tabela_DadosExternos_1[[#This Row],[ITEM ]],\"00\\.00\\.00\"),2)","v":"16"}]
[160340,"SINAPI","72265","TERMINAL OU CONECTOR DE PRESSAO - PARA CABO 95MM2 - FORNECIMENTO E INS TALACAO"," UN ",25,521,null,{"$f":"LEFT(TEXT(Tabela_DadosExternos_1[[#This Row],[ITEM ]],\"00\\.00\\.00\"),2)","v":"16"}]
[160341,"SINAPI","72268","TERMINAL OU CONECTOR DE PRESSAO - PARA CABO 185MM2 - FORNECIMENTO E IN STALACAO"," UN ",50,1440,null,{"$f":"LEFT(TEXT(Tabela_DadosExternos_1[[#This Row],[ITEM ]],\"00\\.00\\.00\"),2)","v":"16"}]
[160342,"SINAPI","72269","TERMINAL OU CONECTOR DE PRESSAO - PARA CABO 240MM2 - FORNECIMENTO E IN STALACAO"," UN ",24,777.36,null,{"$f":"LEFT(TEXT(Tabela_DadosExternos_1[[#This Row],[ITEM ]],\"00\\.00\\.00\"),2)","v":"16"}]
[160343,"SINAPI","90440","FURO EM CONCRETO PARA DIÂMETROS MAIORES QUE 40 MM E MENORES OU IGUAIS A 75 MM"," UN ",4,309.2,null,{"$f":"LEFT(TEXT(Tabela_DadosExternos_1[[#This Row],[ITEM ]],\"00\\.00\\.00\"),2)","v":"16"}]
[160344,"SINAPI","90441","FURO EM CONCRETO PARA DIÂMETROS MAIORES QUE 75 MM"," UN ",4,394.88,null,{"$f":"LEFT(TEXT(Tabela_DadosExternos_1[[#This Row],[ITEM ]],\"00\\.00\\.00\"),2)","v":"16"}]
[160345,"CPOS","36.20.210","LUVA ISOLANTE DE BORRACHA, ATÉ 10 KV","PAR",8,2571.6,null,{"$f":"LEFT(TEXT(Tabela_DadosExternos_1[[#This Row],[ITEM ]],\"00\\.00\\.00\"),2)","v":"16"}]
[160346,"CPOS","36.20.380","TAPETE DE BORRACHA ISOLANTE ELÉTRICO DE 1000 X 1000 MM"," UN ",8,2537.6799999999998,null,{"$f":"LEFT(TEXT(Tabela_DadosExternos_1[[#This Row],[ITEM ]],\"00\\.00\\.00\"),2)","v":"16"}]
[160347,"CPOS","36.20.350","CAIXA PORTA LUVAS EM MADEIRA, COM TAMPA"," UN ",8,252.96,null,{"$f":"LEFT(TEXT(Tabela_DadosExternos_1[[#This Row],[ITEM ]],\"00\\.00\\.00\"),2)","v":"16"}]
[160348,"CPOS","36.20.280","PLACA DE ADVERTÊNCIA ´PERIGO ALTA TENSÃO´ EM CABINE PRIMÁRIA, NAS DIMENSÕES 400 X 300 MM, CHAPA 18"," UN ",8,299.92,null,{"$f":"LEFT(TEXT(Tabela_DadosExternos_1[[#This Row],[ITEM ]],\"00\\.00\\.00\"),2)","v":"16"}]
[160349,"CPOS","27.02.050","CHAPA DE POLICARBONATO ALVEOLAR DE 6 MM"," M2",4,462.36,null,{"$f":"LEFT(TEXT(Tabela_DadosExternos_1[[#This Row],[ITEM ]],\"00\\.00\\.00\"),2)","v":"16"}]
[160350,"CPOS","36.07.060","PÁRA-RAIOS DE DISTRIBUIÇÃO, CLASSE 15 KV/10 KA, COMPLETO, ENCAPSULADO COM POLÍMERO"," UN ",4,674.44,null,{"$f":"LEFT(TEXT(Tabela_DadosExternos_1[[#This Row],[ITEM ]],\"00\\.00\\.00\"),2)","v":"16"}]
[160351,"SIURB","90541","CAIXA DE PASSAGEM EM CHAPA METÁLICA COM TAMPA PARAFUSADA - 30X30X12CM"," UN ",8,581.52,null,{"$f":"LEFT(TEXT(Tabela_DadosExternos_1[[#This Row],[ITEM ]],\"00\\.00\\.00\"),2)","v":"16"}]
[160352,"CPOS","40.02.600","CAIXA DE PASSAGEM EM ALUMÍNIO FUNDIDO À PROVA DE TEMPO, 100 X 100 MM"," UN ",10,234.9,null,{"$f":"LEFT(TEXT(Tabela_DadosExternos_1[[#This Row],[ITEM ]],\"00\\.00\\.00\"),2)","v":"16"}]
[160353,"SIURB","91701","DPS - DISPOSITIVO PROTEÇÃO CONTRA SURTOS 275V - 40KA"," UN ",16,2964.96,null,{"$f":"LEFT(TEXT(Tabela_DadosExternos_1[[#This Row],[ITEM ]],\"00\\.00\\.00\"),2)","v":"16"}]
[160354,"CPOS","29.01.020","CANTONEIRA EM ALUMÍNIO PERFIL SEXTAVADO","M",45,600.75,null,{"$f":"LEFT(TEXT(Tabela_DadosExternos_1[[#This Row],[ITEM ]],\"00\\.00\\.00\"),2)","v":"16"}]
[160355,"CPOS","24.03.340","TAMPA EM CHAPA DE SEGURANÇA TIPO XADREZ, AÇO GALVANIZADO A FOGO ANTIDERRAPANTE DE 1/4´","M2",7.5,5569.73,null,{"$f":"LEFT(TEXT(Tabela_DadosExternos_1[[#This Row],[ITEM ]],\"00\\.00\\.00\"),2)","v":"16"}]
[160356,"CPOS","42.20.120","SOLDA EXOTÉRMICA CONEXÃO CABO-CABO HORIZONTAL EM X SOBREPOSTO, BITOLA DO CABO DE 35-35MM² A 50-35MM²"," UN ",15,379.8,null,{"$f":"LEFT(TEXT(Tabela_DadosExternos_1[[#This Row],[ITEM ]],\"00\\.00\\.00\"),2)","v":"16"}]
[160357,"CPOS","42.20.210","SOLDA EXOTÉRMICA CONEXÃO CABO-HASTE EM T, BITOLA DO CABO DE 35MM² PARA HASTE DE 5/8 E 3/4"," UN ",30,777.3,null,{"$f":"LEFT(TEXT(Tabela_DadosExternos_1[[#This Row],[ITEM ]],\"00\\.00\\.00\"),2)","v":"16"}]
[160358,"CPOS","40.04.110","TOMADA 3P+T DE 63 A, BLINDADA INDUSTRIAL DE EMBUTIR"," UN ",32,4640.32,null,{"$f":"LEFT(TEXT(Tabela_DadosExternos_1[[#This Row],[ITEM ]],\"00\\.00\\.00\"),2)","v":"16"}]
[160359,"CPOS","40.04.140","TOMADA 3P+T DE 32 A, BLINDADA INDUSTRIAL DE SOBREPOR NEGATIVA"," UN ",33,4596.8999999999996,null,{"$f":"LEFT(TEXT(Tabela_DadosExternos_1[[#This Row],[ITEM ]],\"00\\.00\\.00\"),2)","v":"16"}]
[160360,"CPOS","38.13.040","ELETRODUTO CORRUGADO EM POLIETILENO DE ALTA DENSIDADE, DN= 100 MM, COM ACESSÓRIOS","M",2130,50161.5,null,{"$f":"LEFT(TEXT(Tabela_DadosExternos_1[[#This Row],[ITEM ]],\"00\\.00\\.00\"),2)","v":"16"}]
[160400,".",".","ILUMINAÇÃO DA COBERTURA",null,null,null,null,{"$f":"LEFT(TEXT(Tabela_DadosExternos_1[[#This Row],[ITEM ]],\"00\\.00\\.00\"),2)","v":"16"}]
[160401,"CPOS","41.08.250","REATOR ELETROMAGNÉTICO DE ALTO FATOR DE POTÊNCIA, PARA LÂMPADA VAPOR DE SÓDIO 250 W / 220 V."," UN ",22,1816.32,null,{"$f":"LEFT(TEXT(Tabela_DadosExternos_1[[#This Row],[ITEM ]],\"00\\.00\\.00\"),2)","v":"16"}]
[160402,"CPOS","41.12.050","PROJETOR RETANGULAR FECHADO, COM ALOJAMENTO PARA REATOR, PARA LÂMPADAS VAPOR METÁLICO OU VAPOR DE SÓDIO DE 150 A 400 W","UN",22,11625.02,null,{"$f":"LEFT(TEXT(Tabela_DadosExternos_1[[#This Row],[ITEM ]],\"00\\.00\\.00\"),2)","v":"16"}]
[160403,"CPOS","41.05.240","LÂMPADA DE VAPOR DE SÓDIO ELIPSOIDAL OU TUBULAR, BASE E40 DE 250 W."," UN ",22,897.38,null,{"$f":"LEFT(TEXT(Tabela_DadosExternos_1[[#This Row],[ITEM ]],\"00\\.00\\.00\"),2)","v":"16"}]
[160500,".",".","ILUMINAÇÃO INTERNA (ZETA)",null,null,null,null,{"$f":"LEFT(TEXT(Tabela_DadosExternos_1[[#This Row],[ITEM ]],\"00\\.00\\.00\"),2)","v":"16"}]
[160501,"CPOS","41.14.400","LUMINÁRIA QUADRADA DE EMBUTIR TIPO CALHA ABERTA COM REFLETOR E ALETA PARABÓLICAS EM ALUMÍNIO ACETINADO PARA 2 OU 4 LÂMPADAS FLUORESCENTES DE 14/16/18/36/55W","UN",10,2230.3000000000002,null,{"$f":"LEFT(TEXT(Tabela_DadosExternos_1[[#This Row],[ITEM ]],\"00\\.00\\.00\"),2)","v":"16"}]
[160502,"CPOS","50.05.260","BLOCO AUTÔNOMO DE ILUMINAÇÃO DE EMERGÊNCIA COM AUTONOMIA MÍNIMA DE 1 HORA, EQUIPADO COM 2 LÂMPADAS DE 11 W","UN",4,842.6,null,{"$f":"LEFT(TEXT(Tabela_DadosExternos_1[[#This Row],[ITEM ]],\"00\\.00\\.00\"),2)","v":"16"}]
[160503,"CPOS","41.13.040","LUMINÁRIA BLINDADA DE SOBREPOR OU PENDENTE EM CALHA FECHADA PARA 1 LÂMPADA FLUORESCENTE DE 32/36/40W","UN",3,433.56,null,{"$f":"LEFT(TEXT(Tabela_DadosExternos_1[[#This Row],[ITEM ]],\"00\\.00\\.00\"),2)","v":"16"}]
[160504,"CPOS","41.13.030","LUMINÁRIA BLINDADA, RETANGULAR, DE EMBUTIR PARA LÂMPADA MISTA 160 W","UN",5,677.8,null,{"$f":"LEFT(TEXT(Tabela_DadosExternos_1[[#This Row],[ITEM ]],\"00\\.00\\.00\"),2)","v":"16"}]
[160505,"CPOS","40.20.240","PLUGUE COM 2P+T DE 10A, 250V","UN",61,663.68,null,{"$f":"LEFT(TEXT(Tabela_DadosExternos_1[[#This Row],[ITEM ]],\"00\\.00\\.00\"),2)","v":"16"}]
[160506,"SINAPI","93043","LÂMPADA LED 10 W BIVOLT BRANCA, FORMATO TRADICIONAL (BASE E27) - FORNE CIMENTO E INSTALAÇÃO","UN",18,537.12,null,{"$f":"LEFT(TEXT(Tabela_DadosExternos_1[[#This Row],[ITEM ]],\"00\\.00\\.00\"),2)","v":"16"}]
[160600,".",".","ILUMINAÇÃO EXTERNA",null,null,null,null,{"$f":"LEFT(TEXT(Tabela_DadosExternos_1[[#This Row],[ITEM ]],\"00\\.00\\.00\"),2)","v":"16"}]
[160601,"CPOS","41.10.330","POSTE TELECÔNICO RETO EM AÇO SAE 1010/1020 GALVANIZADO A FOGO, ALTURA DE 10,00 M","UN",21,27887.58,null,{"$f":"LEFT(TEXT(Tabela_DadosExternos_1[[#This Row],[ITEM ]],\"00\\.00\\.00\"),2)","v":"16"}]
[160602,"CPOS","41.10.430","POSTE TELECÔNICO RETO EM AÇO SAE 1010/1020 GALVANIZADO A FOGO, ALTURA DE 6,00 M","UN",33,25049.31,null,{"$f":"LEFT(TEXT(Tabela_DadosExternos_1[[#This Row],[ITEM ]],\"00\\.00\\.00\"),2)","v":"16"}]
[160603,"CPOS","41.11.440","SUPORTE TUBULAR DE FIXAÇÃO EM POSTE PARA 1 LUMINÁRIA TIPO PÉTALA","UN",50,2909,null,{"$f":"LEFT(TEXT(Tabela_DadosExternos_1[[#This Row],[ITEM ]],\"00\\.00\\.00\"),2)","v":"16"}]
[160604,"CPOS","41.11.470","SUPORTE TUBULAR DE FIXAÇÃO EM POSTE PARA 4 LUMINÁRIAS TIPO PÉTALA","UN",1,102.49,null,{"$f":"LEFT(TEXT(Tabela_DadosExternos_1[[#This Row],[ITEM ]],\"00\\.00\\.00\"),2)","v":"16"}]
[160605,"CPOS","41.11.450","SUPORTE TUBULAR DE FIXAÇÃO EM POSTE PARA 2 LUMINÁRIAS TIPO PÉTALA","UN",3,213.3,null,{"$f":"LEFT(TEXT(Tabela_DadosExternos_1[[#This Row],[ITEM ]],\"00\\.00\\.00\"),2)","v":"16"}]
[160606,"CPOS","41.11.160","LUMINÁRIA PÚBLICA FECHADA TIPO PÉTALA, COM ALOJAMENTO PARA REATOR, COM ABERTURA NA PARTE SUPERIOR","UN",50,19083.5,null,{"$f":"LEFT(TEXT(Tabela_DadosExternos_1[[#This Row],[ITEM ]],\"00\\.00\\.00\"),2)","v":"16"}]
[160607,"SINAPI","74104/001","CAIXA DE INSPEÇÃO EM ALVENARIA DE TIJOLO MACIÇO 60X60X60CM, REVESTIDA INTERNAMENTO COM BARRA LISA (CIMENTO E AREIA, TRAÇO 1:4) E=2,0CM, COM TAMPA PRÉ-MOLDADA DE CONCRETO E FUNDO DE CONCRETO 15MPA TIPO C - ESCAV AÇÃO E CONFECÇÃO","UN",1,132.74,null,{"$f":"LEFT(TEXT(Tabela_DadosExternos_1[[#This Row],[ITEM ]],\"00\\.00\\.00\"),2)","v":"16"}]
[160608,"CPOS","42.05.310","CAIXA DE INSPEÇÃO DO TERRA CILÍNDRICA EM PVC RÍGIDO, DIÂMETRO DE 300 MM - H= 250 MM","UN",54,1056.24,null,{"$f":"LEFT(TEXT(Tabela_DadosExternos_1[[#This Row],[ITEM ]],\"00\\.00\\.00\"),2)","v":"16"}]
[160609,"CPOS","42.05.300","TAMPA PARA CAIXA DE INSPEÇÃO CILÍNDRICA, AÇO GALVANIZADO","UN",54,1321.92,null,{"$f":"LEFT(TEXT(Tabela_DadosExternos_1[[#This Row],[ITEM ]],\"00\\.00\\.00\"),2)","v":"16"}]
[160610,"CPOS","42.05.200","HASTE DE ATERRAMENTO DE 5/8´ X 2,40 M","UN",108,6578.28,null,{"$f":"LEFT(TEXT(Tabela_DadosExternos_1[[#This Row],[ITEM ]],\"00\\.00\\.00\"),2)","v":"16"}]
[160611,"CPOS","42.05.160","CONECTOR OLHAL CABO/HASTE DE 5/8´","UN",40,192.8,null,{"$f":"LEFT(TEXT(Tabela_DadosExternos_1[[#This Row],[ITEM ]],\"00\\.00\\.00\"),2)","v":"16"}]
[160612,"CPOS","41.12.190","PROJETOR DE SOBREPOR COM FOCO ORIENTÁVEL, PARA LÂMPADA VAPOR METÁLICO OU VAPOR DE SÓDIO 250/400 W","UN",15,3891.45,null,{"$f":"LEFT(TEXT(Tabela_DadosExternos_1[[#This Row],[ITEM ]],\"00\\.00\\.00\"),2)","v":"16"}]
[160613,"CPOS","41.05.530","LÂMPADA DE VAPOR METÁLICO ELIPSOIDAL, BASE E40 DE 400 W","UN",15,1127.8499999999999,null,{"$f":"LEFT(TEXT(Tabela_DadosExternos_1[[#This Row],[ITEM ]],\"00\\.00\\.00\"),2)","v":"16"}]
[160614,"CPOS","41.11.120","LUMINÁRIA ARANDELA RETANGULAR FECHADA PARA ILUMINAÇÃO EXTERNA, TIPO PÉTALA PEQUENA","UN",40,7671.6,null,{"$f":"LEFT(TEXT(Tabela_DadosExternos_1[[#This Row],[ITEM ]],\"00\\.00\\.00\"),2)","v":"16"}]
[160615,"CPOS","41.08.460","REATOR ELETROMAGNÉTICO DE ALTO FATOR DE POTÊNCIA, PARA LÂMPADA VAPOR METÁLICO 400 W / 220 V","UN",54,4547.34,null,{"$f":"LEFT(TEXT(Tabela_DadosExternos_1[[#This Row],[ITEM ]],\"00\\.00\\.00\"),2)","v":"16"}]
[160700,".",".","REDE DE DADOS E TELEFONIA",null,null,null,null,{"$f":"LEFT(TEXT(Tabela_DadosExternos_1[[#This Row],[ITEM ]],\"00\\.00\\.00\"),2)","v":"16"}]
[160701,"CPU","004","PATCH PANEL DESCARREGADO 24 PORTAS ANGULAR 1U","PÇ",1,736.46,null,{"$f":"LEFT(TEXT(Tabela_DadosExternos_1[[#This Row],[ITEM ]],\"00\\.00\\.00\"),2)","v":"16"}]
[160702,"SINAPI","4340","PORCA ZINCADA, SEXTAVADA, DIAMETRO 5/8","PÇ",5,3.35,null,{"$f":"LEFT(TEXT(Tabela_DadosExternos_1[[#This Row],[ITEM ]],\"00\\.00\\.00\"),2)","v":"16"}]
[160703,"CPU","004","RACK ABERTO 19\" X 45U ITMAX","PÇ",1,2410.5700000000002,null,{"$f":"LEFT(TEXT(Tabela_DadosExternos_1[[#This Row],[ITEM ]],\"00\\.00\\.00\"),2)","v":"16"}]
[160704,"CPU","004","GUIA HORIZONTAL 4U ITMAX","PÇ",1,256.47000000000003,null,{"$f":"LEFT(TEXT(Tabela_DadosExternos_1[[#This Row],[ITEM ]],\"00\\.00\\.00\"),2)","v":"16"}]
[160705,"CPU","004","GUIA VERTICAL 200MM ITMAX","PÇ",1,5040.8599999999997,null,{"$f":"LEFT(TEXT(Tabela_DadosExternos_1[[#This Row],[ITEM ]],\"00\\.00\\.00\"),2)","v":"16"}]
[160706,"CPU","004","BANDEJA SUPERIOR ITMAX E INFERIOR","PÇ",1,684.4,null,{"$f":"LEFT(TEXT(Tabela_DadosExternos_1[[#This Row],[ITEM ]],\"00\\.00\\.00\"),2)","v":"16"}]
[160707,"CPOS","40.20.330","PLACA/ESPELHO EM LATÃO ESCOVADO 4´ X 4´, PARA TOMADA DE LÓGICA RJ-45","PÇ",5,147.25,null,{"$f":"LEFT(TEXT(Tabela_DadosExternos_1[[#This Row],[ITEM ]],\"00\\.00\\.00\"),2)","v":"16"}]
[160708,"CPOS","40.04.350","TOMADA RJ 45 PARA REDE DE DADOS, COM PLACA","UN",3,132.72,null,{"$f":"LEFT(TEXT(Tabela_DadosExternos_1[[#This Row],[ITEM ]],\"00\\.00\\.00\"),2)","v":"16"}]
[160709,"CPOS","39.18.120","CABO PARA REDE U/UTP 23 AWG COM 4 PARES - CATEGORIA 6A","M",40,428.4,null,{"$f":"LEFT(TEXT(Tabela_DadosExternos_1[[#This Row],[ITEM ]],\"00\\.00\\.00\"),2)","v":"16"}]
[160710,"SIURB","99002","CERTIFICAÇÃO DE REDE LÓGICA - ATÉ 50 PONTOS","GL",1,600,null,{"$f":"LEFT(TEXT(Tabela_DadosExternos_1[[#This Row],[ITEM ]],\"00\\.00\\.00\"),2)","v":"16"}]
[160711,"SIURB","99003","CERTIFICAÇÃO DE REDE LÓGICA - EXCEDENTE 50 PONTOS","PTO",910,10592.4,null,{"$f":"LEFT(TEXT(Tabela_DadosExternos_1[[#This Row],[ITEM ]],\"00\\.00\\.00\"),2)","v":"16"}]
[170000,".",".","EQUIPAMENTOS",null,null,null,null,{"$f":"LEFT(TEXT(Tabela_DadosExternos_1[[#This Row],[ITEM ]],\"00\\.00\\.00\"),2)","v":"17"}]
[170100,".",".","ELEVADORES",null,null,null,null,{"$f":"LEFT(TEXT(Tabela_DadosExternos_1[[#This Row],[ITEM ]],\"00\\.00\\.00\"),2)","v":"17"}]
[170101,"CPU","005","ELEVADOR COMPLETO (CONFORME PROJETO)","VB",2,291200,null,{"$f":"LEFT(TEXT(Tabela_DadosExternos_1[[#This Row],[ITEM ]],\"00\\.00\\.00\"),2)","v":"17"}]
[180000,".",".","PINTURAS E TEXTURAS",null,null,null,null,{"$f":"LEFT(TEXT(Tabela_DadosExternos_1[[#This Row],[ITEM ]],\"00\\.00\\.00\"),2)","v":"18"}]
[180100,".",".","PINTURAS",null,null,null,null,{"$f":"LEFT(TEXT(Tabela_DadosExternos_1[[#This Row],[ITEM ]],\"00\\.00\\.00\"),2)","v":"18"}]
[180101,"SINAPI","74065/002","PINTURA ESMALTE ACETINADO PARA MADEIRA, DUAS DEMAOS, INCLUSO APARELHAMENTO COM FUNDO NIVELADOR BRANCO FOSCO","M2",52.200000000000045,1065.92,null,{"$f":"LEFT(TEXT(Tabela_DadosExternos_1[[#This Row],[ITEM ]],\"00\\.00\\.00\"),2)","v":"18"}]
[180102,"CPOS","33.03.760","HIDRORREPELENTE INCOLOR PARA FACHADA À BASE DE SILANO-SILOXANO OLIGOMÉRICO DISPERSO EM ÁGUA","M2",421.85999999999996,6859.44,null,{"$f":"LEFT(TEXT(Tabela_DadosExternos_1[[#This Row],[ITEM ]],\"00\\.00\\.00\"),2)","v":"18"}]
[180103,"SINAPI","88416","APLICAÇÃO MANUAL DE PINTURA COM TINTA TEXTURIZADA ACRÍLICA EM PANOS COM PRESENÇA DE VÃOS DE EDIFÍCIOS DE MÚLTIPLOS PAVIMENTOS, UMA COR. AF_06/2014","M2",421.85999999999996,5678.24,null,{"$f":"LEFT(TEXT(Tabela_DadosExternos_1[[#This Row],[ITEM ]],\"00\\.00\\.00\"),2)","v":"18"}]
[180104,"SINAPI","92236","APLICAÇÃO MANUAL DE PINTURA COM TINTA LÁTEX ACRÍLICA EM PAREDES, DUAS DEMÃOS","M2",200,1414,null,{"$f":"LEFT(TEXT(Tabela_DadosExternos_1[[#This Row],[ITEM ]],\"00\\.00\\.00\"),2)","v":"18"}]
[180200,".",".","SINALIZAÇÃO HORIZONTAL",null,null,null,null,{"$f":"LEFT(TEXT(Tabela_DadosExternos_1[[#This Row],[ITEM ]],\"00\\.00\\.00\"),2)","v":"18"}]
[180201,"SINAPI","79500/002","PINTURA ACRILICA EM PISO CIMENTADO, TRES DEMAOS","M2",1300,22139,null,{"$f":"LEFT(TEXT(Tabela_DadosExternos_1[[#This Row],[ITEM ]],\"00\\.00\\.00\"),2)","v":"18"}]
[180202,"DNIT","4S0611003","PINTURA SETAS E ZEBRADO TERM.-5 ANOS (P/ EXTRUSÃO)","M2",1121.73,66821.460000000006,null,{"$f":"LEFT(TEXT(Tabela_DadosExternos_1[[#This Row],[ITEM ]],\"00\\.00\\.00\"),2)","v":"18"}]
[190000,".",".","DRENAGEM",null,null,null,null,{"$f":"LEFT(TEXT(Tabela_DadosExternos_1[[#This Row],[ITEM ]],\"00\\.00\\.00\"),2)","v":"19"}]
[190100,".",".","CANALETA DE DRENAGEM",null,null,null,null,{"$f":"LEFT(TEXT(Tabela_DadosExternos_1[[#This Row],[ITEM ]],\"00\\.00\\.00\"),2)","v":"19"}]
[190101,"SINAPI","73965/010","ESCAVACAO MANUAL DE VALAS, QQ TERRENO, EXCETO ROCHA ATE 1,50 METROS DE PROFUNDIDADE","M3",0.87000000000000455,47.61,null,{"$f":"LEFT(TEXT(Tabela_DadosExternos_1[[#This Row],[ITEM ]],\"00\\.00\\.00\"),2)","v":"19"}]
[190102,"SINAPI","5622","REGULARIZACAO E COMPACTACAO MANUAL DE TERRENO COM SOQUETE","M2",18.129999999999995,93.55,null,{"$f":"LEFT(TEXT(Tabela_DadosExternos_1[[#This Row],[ITEM ]],\"00\\.00\\.00\"),2)","v":"19"}]
[190103,"CPOS","10.01.040","ARMADURA EM BARRA DE AÇO CA-50 (A OU B) FYK= 500 MPA","KG",24.930000000000291,127.89,null,{"$f":"LEFT(TEXT(Tabela_DadosExternos_1[[#This Row],[ITEM ]],\"00\\.00\\.00\"),2)","v":"19"}]
[190104,"SINAPI","73972/001","CONCRETO FCK=25MPA, VIRADO EM BETONEIRA, SEM LANCAMENTO","M3",1.9399999999999977,678.22,null,{"$f":"LEFT(TEXT(Tabela_DadosExternos_1[[#This Row],[ITEM ]],\"00\\.00\\.00\"),2)","v":"19"}]
[190105,"DNIT","2S0496206","CAIXA DE LIGAÇÃO E PASSAGEM - CLP 06","UN ",1,3060.4,null,{"$f":"LEFT(TEXT(Tabela_DadosExternos_1[[#This Row],[ITEM ]],\"00\\.00\\.00\"),2)","v":"19"}]
[190200,".",".","VALA PARA DRENAGEM - BETA",null,null,null,null,{"$f":"LEFT(TEXT(Tabela_DadosExternos_1[[#This Row],[ITEM ]],\"00\\.00\\.00\"),2)","v":"19"}]
[190201,"CPOS","08.01.100","ESCORAMENTO COM ESTACAS PRANCHAS METÁLICAS - PROFUNDIDADE ATÉ 4,00 M","M2",1000,95710,null,{"$f":"LEFT(TEXT(Tabela_DadosExternos_1[[#This Row],[ITEM ]],\"00\\.00\\.00\"),2)","v":"19"}]
[190202,"DNIT","3S0400100","ESCAVAÇÃO MECANIZ. DE VALA EM MATER. DE 1A CAT.","M3",843.75,12656.25,null,{"$f":"LEFT(TEXT(Tabela_DadosExternos_1[[#This Row],[ITEM ]],\"00\\.00\\.00\"),2)","v":"19"}]
[190203,"SINAPI","73964/006","REATERRO DE VALA COM COMPACTAÇÃO MANUAL","M3",483.75,22692.71,null,{"$f":"LEFT(TEXT(Tabela_DadosExternos_1[[#This Row],[ITEM ]],\"00\\.00\\.00\"),2)","v":"19"}]
[190204,"CPOS","05.07.050","REMOÇÃO DE ENTULHO DE OBRA COM CAÇAMBA METÁLICA - MATERIAL VOLUMOSO MISTURADO POR ALVENARIA, TERRA, MADEIRA, PAPEL, PLÁSTICO E METAL","M3",68.25,5611.52,null,{"$f":"LEFT(TEXT(Tabela_DadosExternos_1[[#This Row],[ITEM ]],\"00\\.00\\.00\"),2)","v":"19"}]
[190205,"CPOS","46.13.020","TUBO EM POLIETILENO DE ALTA DENSIDADE CORRUGADO PERFURADO, DN= 4´, INCLUSIVE CONEXÕES","M",50,747,null,{"$f":"LEFT(TEXT(Tabela_DadosExternos_1[[#This Row],[ITEM ]],\"00\\.00\\.00\"),2)","v":"19"}]
[190206,"SINAPI","73888/003","ASSENTAMENTO TUBO PVC COM JUNTA ELASTICA, DN 100 MM - (OU RPVC, OU PVC DEFOFO, OU PRFV) - PARA AGUA.","M",75,207.75,null,{"$f":"LEFT(TEXT(Tabela_DadosExternos_1[[#This Row],[ITEM ]],\"00\\.00\\.00\"),2)","v":"19"}]
[190207,"CPOS","17.01.020","ARGAMASSA DE REGULARIZAÇÃO E/OU PROTEÇÃO","M3",7.05,3359.75,null,{"$f":"LEFT(TEXT(Tabela_DadosExternos_1[[#This Row],[ITEM ]],\"00\\.00\\.00\"),2)","v":"19"}]
[190208,"CPOS","17.05.070","PISO COM REQUADRO EM CONCRETO SIMPLES COM CONTROLE FCK = 20 MPA","M3",4.7,2608.7800000000002,null,{"$f":"LEFT(TEXT(Tabela_DadosExternos_1[[#This Row],[ITEM ]],\"00\\.00\\.00\"),2)","v":"19"}]
[190209,"SINAPI","85180","PLANTIO DE GRAMA ESMERALDA EM ROLO","M2",23.5,241.35,null,{"$f":"LEFT(TEXT(Tabela_DadosExternos_1[[#This Row],[ITEM ]],\"00\\.00\\.00\"),2)","v":"19"}]
[190210,"CPOS","03.07.010","DEMOLIÇÃO (LEVANTAMENTO) MECANIZADA DE PAVIMENTO ASFÁLTICO, INCLUSIVE CARREGAMENTO, TRANSPORTE ATÉ 1,0 QUILÔMETRO E DESCARREGAMENTO","M2",90,1264.5,null,{"$f":"LEFT(TEXT(Tabela_DadosExternos_1[[#This Row],[ITEM ]],\"00\\.00\\.00\"),2)","v":"19"}]
[190211,"SINAPI","72943","PINTURA DE LIGACAO COM EMULSAO RR-2C","M2",180,253.8,null,{"$f":"LEFT(TEXT(Tabela_DadosExternos_1[[#This Row],[ITEM ]],\"00\\.00\\.00\"),2)","v":"19"}]
[190212,"SINAPI","72945","IMPRIMACAO DE BASE DE PAVIMENTACAO COM EMULSAO CM-30","M2",90,440.1,null,{"$f":"LEFT(TEXT(Tabela_DadosExternos_1[[#This Row],[ITEM ]],\"00\\.00\\.00\"),2)","v":"19"}]
[190213,"SIURB","05-29-00","REVESTIMENTO DE PRÉ-MISTURADO À QUENTE (SEM TRANSPORTE) - BINDER","M3",4.5,2713.01,null,{"$f":"LEFT(TEXT(Tabela_DadosExternos_1[[#This Row],[ITEM ]],\"00\\.00\\.00\"),2)","v":"19"}]
[190214,"SINAPI","73710","BASE PARA PAVIMENTACAO COM BRITA GRADUADA, INCLUSIVE COMPACTACAO","M3",4.5,400.19,null,{"$f":"LEFT(TEXT(Tabela_DadosExternos_1[[#This Row],[ITEM ]],\"00\\.00\\.00\"),2)","v":"19"}]
[190215,"SIURB","05-28-00","REVESTIMENTO DE CONCRETO ASFÁLTICO (SEM TRANSPORTE) - CBUQ","M3",4.5,2869.52,null,{"$f":"LEFT(TEXT(Tabela_DadosExternos_1[[#This Row],[ITEM ]],\"00\\.00\\.00\"),2)","v":"19"}]
[190216,"SIURB","05-78-07","TRANSPORTE DE CONCRETO ASFÁLTICO ALÉM DO PRIMEIRO KM","M3XKM",270,448.2,null,{"$f":"LEFT(TEXT(Tabela_DadosExternos_1[[#This Row],[ITEM ]],\"00\\.00\\.00\"),2)","v":"19"}]
[190217,"SIURB","05-78-01","CARGA, DESCARGA E TRANSPORTE DE CONCRETO ASFÁLTICO ATÉ A DISTÂNCIA MÉDIA DE IDA E VOLTA DE 1KM","M3",9,84.51,null,{"$f":"LEFT(TEXT(Tabela_DadosExternos_1[[#This Row],[ITEM ]],\"00\\.00\\.00\"),2)","v":"19"}]
[190218,"SINAPI","83668","CAMADA DRENANTE COM BRITA NUM 2 ","M3",423,39990.42,null,{"$f":"LEFT(TEXT(Tabela_DadosExternos_1[[#This Row],[ITEM ]],\"00\\.00\\.00\"),2)","v":"19"}]
[190219,"SINAPI","72887","TRANSPORTE COMERCIAL COM CAMINHAO BASCULANTE 6 M3, RODOVIA PAVIMENTADA","M3xKM",10800,9288,null,{"$f":"LEFT(TEXT(Tabela_DadosExternos_1[[#This Row],[ITEM ]],\"00\\.00\\.00\"),2)","v":"19"}]
[190220,"SINAPI","83665","FORNECIMENTO E INSTALACAO DE MANTA BIDIM RT - 14",null,570,4896.3,null,{"$f":"LEFT(TEXT(Tabela_DadosExternos_1[[#This Row],[ITEM ]],\"00\\.00\\.00\"),2)","v":"19"}]
[190300,".",".","POÇO DE VISITA",null,null,null,null,{"$f":"LEFT(TEXT(Tabela_DadosExternos_1[[#This Row],[ITEM ]],\"00\\.00\\.00\"),2)","v":"19"}]
[190301,"DNIT","2S0496312","POÇO DE VISITA - PVI 12","UN ",1,2925.38,null,{"$f":"LEFT(TEXT(Tabela_DadosExternos_1[[#This Row],[ITEM ]],\"00\\.00\\.00\"),2)","v":"19"}]
[190302,"CPOS","49.12.120","CHAMINÉ PARA POÇO DE VISITA TIPO PMSP EM ALVENARIA DIÂMETRO INTERNO 70 CM - PESCOÇO","M",3,1172.67,null,{"$f":"LEFT(TEXT(Tabela_DadosExternos_1[[#This Row],[ITEM ]],\"00\\.00\\.00\"),2)","v":"19"}]
[190303,"CPOS","49.06.420","TAMPÃO EM FERRO FUNDIDO DE Ø 600 MM, CLASSE 400 (RUPTURA> 400 KN)","UN ",1,359.12,null,{"$f":"LEFT(TEXT(Tabela_DadosExternos_1[[#This Row],[ITEM ]],\"00\\.00\\.00\"),2)","v":"19"}]
[200000,".",".","MUROS, GRADIL, PORTÕES E ALAMBRADO",null,null,null,null,{"$f":"LEFT(TEXT(Tabela_DadosExternos_1[[#This Row],[ITEM ]],\"00\\.00\\.00\"),2)","v":"20"}]
[200100,".",".","MURETA",null,null,null,null,{"$f":"LEFT(TEXT(Tabela_DadosExternos_1[[#This Row],[ITEM ]],\"00\\.00\\.00\"),2)","v":"20"}]
[200101,"SINAPI","73965/010","ESCAVACAO MANUAL DE VALAS, QQ TERRENO, EXCETO ROCHA ATE 1,50 METROS DE PROFUNDIDADE","M3",1.9228571428571399,105.22,null,{"$f":"LEFT(TEXT(Tabela_DadosExternos_1[[#This Row],[ITEM ]],\"00\\.00\\.00\"),2)","v":"20"}]
[200102,"SINAPI","72819","ESTACA A TRADO (BROCA) DIAMETRO 30 CM EM CONCRETO ARMADO MOLDADA IN-LOCO, 20 MPA","M",1.3571428571428328,124.41,null,{"$f":"LEFT(TEXT(Tabela_DadosExternos_1[[#This Row],[ITEM ]],\"00\\.00\\.00\"),2)","v":"20"}]
[200103,"SINAPI","5622","REGULARIZACAO E COMPACTACAO MANUAL DE TERRENO COM SOQUETE","M2",1.7428571428571615,8.99,null,{"$f":"LEFT(TEXT(Tabela_DadosExternos_1[[#This Row],[ITEM ]],\"00\\.00\\.00\"),2)","v":"20"}]
[200104,"SINAPI","74115/001","EXECUÇÃO DE LASTRO EM CONCRETO (1:2,5:6), PREPARO MANUAL","M3",1.3171428571428567,468.14,null,{"$f":"LEFT(TEXT(Tabela_DadosExternos_1[[#This Row],[ITEM ]],\"00\\.00\\.00\"),2)","v":"20"}]
[200105,"SINAPI","73964/006","REATERRO DE VALA COM COMPACTAÇÃO MANUAL","M3",2.4900000000000091,116.81,null,{"$f":"LEFT(TEXT(Tabela_DadosExternos_1[[#This Row],[ITEM ]],\"00\\.00\\.00\"),2)","v":"20"}]
[200106,"CPOS","10.01.040","ARMADURA EM BARRA DE AÇO CA-50 (A OU B) FYK= 500 MPA","KG",10.185714285714539,52.25,null,{"$f":"LEFT(TEXT(Tabela_DadosExternos_1[[#This Row],[ITEM ]],\"00\\.00\\.00\"),2)","v":"20"}]
[200107,"SINAPI","73972/001","CONCRETO FCK=25MPA, VIRADO EM BETONEIRA, SEM LANCAMENTO","M3",1,349.6,null,{"$f":"LEFT(TEXT(Tabela_DadosExternos_1[[#This Row],[ITEM ]],\"00\\.00\\.00\"),2)","v":"20"}]
[200108,"SINAPI","87457","ALVENARIA DE VEDAÇÃO DE BLOCOS VAZADOS DE CONCRETO DE 19X19X39CM (ESPESSURA 19CM) DE PAREDES COM ÁREA LÍQUIDA MAIOR OU IGUAL A 6M² SEM VÃOS E ARGAMASSA DE ASSENTAMENTO COM PREPARO EM BETONEIRA.","M2",2,122.7,null,{"$f":"LEFT(TEXT(Tabela_DadosExternos_1[[#This Row],[ITEM ]],\"00\\.00\\.00\"),2)","v":"20"}]
[200109,"SINAPI","74004/003","CONCRETO GROUT, FCK=14 MPA","M3",1,468.81,null,{"$f":"LEFT(TEXT(Tabela_DadosExternos_1[[#This Row],[ITEM ]],\"00\\.00\\.00\"),2)","v":"20"}]
[200110,"SINAPI","74199/001","CHAPISCO TRACO 1:3 (CIMENTO E AREIA), ESPESSURA 0,5 CM, PREPARO MANUAL","M2",2,57.1,null,{"$f":"LEFT(TEXT(Tabela_DadosExternos_1[[#This Row],[ITEM ]],\"00\\.00\\.00\"),2)","v":"20"}]
[200111," SINAPI","87533","MASSA ÚNICA, PARA RECEBIMENTO DE PINTURA, EM ARGAMASSA TRAÇO 1:2:8, PREPARO MECÂNICO COM BETONEIRA 400L, APLICADA MANUALMENTE EM FACES INTERNAS DE PAREDES DE AMBIENTES COM ÁREA MAIOR QUE 10M2, ESPESSURA DE 20MM, COM EXECUÇÃO DE TALISCAS. AF_06/2014","M2",2,44.44,null,{"$f":"LEFT(TEXT(Tabela_DadosExternos_1[[#This Row],[ITEM ]],\"00\\.00\\.00\"),2)","v":"20"}]
[200112,"SINAPI","88416","APLICAÇÃO MANUAL DE PINTURA COM TINTA TEXTURIZADA ACRÍLICA EM PANOS COM PRESENÇA DE VÃOS DE EDIFÍCIOS DE MÚLTIPLOS PAVIMENTOS, UMA COR. AF_06/2014","M2",2,26.92,null,{"$f":"LEFT(TEXT(Tabela_DadosExternos_1[[#This Row],[ITEM ]],\"00\\.00\\.00\"),2)","v":"20"}]
[200200,".",".","MURO DE ARRIMO - ZETA",null,null,null,null,{"$f":"LEFT(TEXT(Tabela_DadosExternos_1[[#This Row],[ITEM ]],\"00\\.00\\.00\"),2)","v":"20"}]
[200201,"SINAPI","74010/001","CARGA E DESCARGA MECANICA DE SOLO UTILIZANDO CAMINHÃO BASCULANTE 5,0 M3/11T E PÁ CARREGADEIRA SOBRE PNEUS * 105 HP * CAP. 1,72M3.","M3",13.060000000000002,19.2,null,{"$f":"LEFT(TEXT(Tabela_DadosExternos_1[[#This Row],[ITEM ]],\"00\\.00\\.00\"),2)","v":"20"}]
[200202,"SINAPI","72880","TRANSPORTE LOCAL COM CAMINHAO BASCULANTE 6 M3, RODOVIA PAVIMENTADA, DM T 800 A 1.000 M","M3",13.060000000000002,34.35,null,{"$f":"LEFT(TEXT(Tabela_DadosExternos_1[[#This Row],[ITEM ]],\"00\\.00\\.00\"),2)","v":"20"}]
[200203,"SINAPI","73964/006","REATERRO DE VALA COM COMPACTAÇÃO MANUAL","M3",13.060000000000002,612.64,null,{"$f":"LEFT(TEXT(Tabela_DadosExternos_1[[#This Row],[ITEM ]],\"00\\.00\\.00\"),2)","v":"20"}]
[200204,"SINAPI","5622","REGULARIZACAO E COMPACTACAO MANUAL DE TERRENO COM SOQUETE","M2",243.06,1254.19,null,{"$f":"LEFT(TEXT(Tabela_DadosExternos_1[[#This Row],[ITEM ]],\"00\\.00\\.00\"),2)","v":"20"}]
[200205,"SINAPI","73883/001","EXECUCAO DE DRENO FRANCES COM AREIA MEDIA","M3",3.5200000000000005,323.95,null,{"$f":"LEFT(TEXT(Tabela_DadosExternos_1[[#This Row],[ITEM ]],\"00\\.00\\.00\"),2)","v":"20"}]
[200206,"SINAPI","6130","IMPERMEABILIZACAO DE SUPERFICIE COM ARGAMASSA DE CIMENTO E AREIA (GROSSA), TRACO 1:4, COM ADITIVO IMPERMEABILIZANTE, E=2,5CM","M2",2.039999999999992,40.270000000000003,null,{"$f":"LEFT(TEXT(Tabela_DadosExternos_1[[#This Row],[ITEM ]],\"00\\.00\\.00\"),2)","v":"20"}]
[200207,"SINAPI","83665","FORNECIMENTO E INSTALACAO DE MANTA BIDIM RT - 14","M2",2.039999999999992,17.52,null,{"$f":"LEFT(TEXT(Tabela_DadosExternos_1[[#This Row],[ITEM ]],\"00\\.00\\.00\"),2)","v":"20"}]
[200208,"SINAPI","83668","CAMADA DRENANTE COM BRITA NUM 2 ","M3",2.4000000000000057,226.9,null,{"$f":"LEFT(TEXT(Tabela_DadosExternos_1[[#This Row],[ITEM ]],\"00\\.00\\.00\"),2)","v":"20"}]
[200209,"SINAPI","74199/001","CHAPISCO TRACO 1:3 (CIMENTO E AREIA), ESPESSURA 0,5 CM, PREPARO MANUAL","M2",2.039999999999992,58.24,null,{"$f":"LEFT(TEXT(Tabela_DadosExternos_1[[#This Row],[ITEM ]],\"00\\.00\\.00\"),2)","v":"20"}]
[200210," SINAPI","87533","MASSA ÚNICA, PARA RECEBIMENTO DE PINTURA, EM ARGAMASSA TRAÇO 1:2:8, PREPARO MECÂNICO COM BETONEIRA 400L, APLICADA MANUALMENTE EM FACES INTERNAS DE PAREDES DE AMBIENTES COM ÁREA MAIOR QUE 10M2, ESPESSURA DE 20MM, COM EXECUÇÃO DE TALISCAS. AF_06/2014","M2",2.039999999999992,45.33,null,{"$f":"LEFT(TEXT(Tabela_DadosExternos_1[[#This Row],[ITEM ]],\"00\\.00\\.00\"),2)","v":"20"}]
[200211," SINAPI","90437","FURO EM ALVENARIA PARA DIÂMETROS MAIORES QUE 40 MM E MENORES OU IGUAIS A 75 MM.","UN ",4,113.8,null,{"$f":"LEFT(TEXT(Tabela_DadosExternos_1[[#This Row],[ITEM ]],\"00\\.00\\.00\"),2)","v":"20"}]
[200212,"CPOS","08.06.060","BARBACÃS EM TUBO DE PVC 75 MM","UN ",4,82.76,null,{"$f":"LEFT(TEXT(Tabela_DadosExternos_1[[#This Row],[ITEM ]],\"00\\.00\\.00\"),2)","v":"20"}]
[200213,"SINAPI","73816/001","EXECUCAO DE DRENO COM TUBOS DE PVC CORRUGADO FLEXIVEL PERFURADO - DN 100","M ",2.4000000000000057,63.19,null,{"$f":"LEFT(TEXT(Tabela_DadosExternos_1[[#This Row],[ITEM ]],\"00\\.00\\.00\"),2)","v":"20"}]
[200300,".",".","MURO DE GABIÃO",null,null,null,null,{"$f":"LEFT(TEXT(Tabela_DadosExternos_1[[#This Row],[ITEM ]],\"00\\.00\\.00\"),2)","v":"20"}]
[200301,"SINAPI","92745","MURO DE GABIÃO, ENCHIMENTO COM PEDRA DE MÃO TIPO RACHÃO, DE GRAVIDADE, COM GAIOLAS DE COMPRIMENTO IGUAL A 2 METROS, ALTURA DO MURO ACIMA DE 4 E ATÉ 6 METROS - FORNECIMENTO E EXECUÇÃO","M3 \n",4.7599999999999909,2056.9899999999998,null,{"$f":"LEFT(TEXT(Tabela_DadosExternos_1[[#This Row],[ITEM ]],\"00\\.00\\.00\"),2)","v":"20"}]
[200302,"SINAPI","79480","ESCAVACAO MECANICA CAMPO ABERTO EM SOLO EXCETO ROCHA ATE 2,00M PROFUNDIDADE","M3",6.5100000000002183,16.010000000000002,null,{"$f":"LEFT(TEXT(Tabela_DadosExternos_1[[#This Row],[ITEM ]],\"00\\.00\\.00\"),2)","v":"20"}]
[200303," CPOS","11.18.140","LASTRO E / OU FUNDAÇÃO EM RACHÃO MECANIZADO","M3",4.3199999999999932,474.25,null,{"$f":"LEFT(TEXT(Tabela_DadosExternos_1[[#This Row],[ITEM ]],\"00\\.00\\.00\"),2)","v":"20"}]
[200304,"SINAPI","73692","LASTRO DE AREIA MEDIA","M3",31,3099.69,null,{"$f":"LEFT(TEXT(Tabela_DadosExternos_1[[#This Row],[ITEM ]],\"00\\.00\\.00\"),2)","v":"20"}]
[200305,"SINAPI","74164/004","LASTRO DE BRITA","M3",27,2293.38,null,{"$f":"LEFT(TEXT(Tabela_DadosExternos_1[[#This Row],[ITEM ]],\"00\\.00\\.00\"),2)","v":"20"}]
[200306," SINAPI","93360","REATERRO MECANIZADO DE VALA COM ESCAVADEIRA HIDRÁULICA (CAPACIDADE DA CAÇAMBA: 0,8 M³ / POTÊNCIA: 111 HP), LARGURA DE 1,5 A 2,5 M, PROFUNDIDADE ATÉ 1,5 M, COM SOLO (SEM SUBSTITUIÇÃO) DE 1ª CATEGORIA EM LOCAIS COM ALTO NÍVEL DE INTERFERÊNCIA.","M3",3.3800000000001091,47.15,null,{"$f":"LEFT(TEXT(Tabela_DadosExternos_1[[#This Row],[ITEM ]],\"00\\.00\\.00\"),2)","v":"20"}]
[200307,"SINAPI","73816/001","EXECUCAO DE DRENO COM TUBOS DE PVC CORRUGADO FLEXIVEL PERFURADO - DN 100","M ",6.2699999999999818,165.09,null,{"$f":"LEFT(TEXT(Tabela_DadosExternos_1[[#This Row],[ITEM ]],\"00\\.00\\.00\"),2)","v":"20"}]
[200308,"SINAPI","73881/002","EXECUCAO DE DRENO COM MANTA GEOTEXTIL 300 G/M2 ","M2",6.2699999999999818,71.48,null,{"$f":"LEFT(TEXT(Tabela_DadosExternos_1[[#This Row],[ITEM ]],\"00\\.00\\.00\"),2)","v":"20"}]
[200309,"SINAPI","72880","TRANSPORTE LOCAL COM CAMINHAO BASCULANTE 6 M3, RODOVIA PAVIMENTADA, DM T 800 A 1.000 M","M3",6.5100000000002183,17.12,null,{"$f":"LEFT(TEXT(Tabela_DadosExternos_1[[#This Row],[ITEM ]],\"00\\.00\\.00\"),2)","v":"20"}]
[200310,"SINAPI","74010/001","CARGA E DESCARGA MECANICA DE SOLO UTILIZANDO CAMINHÃO BASCULANTE 5,0 M3/11T E PÁ CARREGADEIRA SOBRE PNEUS * 105 HP * CAP. 1,72M3.","M3",6.5100000000002183,9.57,null,{"$f":"LEFT(TEXT(Tabela_DadosExternos_1[[#This Row],[ITEM ]],\"00\\.00\\.00\"),2)","v":"20"}]
[200400,".",".","GRADIL, PORTÕES E ALAMBRADO",null,null,null,null,{"$f":"LEFT(TEXT(Tabela_DadosExternos_1[[#This Row],[ITEM ]],\"00\\.00\\.00\"),2)","v":"20"}]
[200401,"SINAPI","73787/001","ALAMBRADO EM TUBOS DE ACO GALVANIZADO, COM COSTURA, DIN 2440, DIAMETRO 2\", ALTURA 3M, FIXADOS A CADA 2M EM BLOCOS DE CONCRETO, COM TELA DE ARAME GALVANIZADO REVESTIDO COM PVC, FIO 12 BWG E MALHA 7,5X7,5CM","M2",1,173.31,null,{"$f":"LEFT(TEXT(Tabela_DadosExternos_1[[#This Row],[ITEM ]],\"00\\.00\\.00\"),2)","v":"20"}]
[200402,"CPOS","24.02.270","PORTÃO DE 2 FOLHAS, TUBULAR EM TELA DE AÇO GALVANIZADO ACIMA DE 2,50 M DE ALTURA, COMPLETO","M2",0.5,202.5,null,{"$f":"LEFT(TEXT(Tabela_DadosExternos_1[[#This Row],[ITEM ]],\"00\\.00\\.00\"),2)","v":"20"}]
[200403,"CPOS","34.05.260","GRADIL EM AÇO GALVANIZADO ELETROFUNDIDO, MALHA 65 X 132 MM, E PINTURA ELETROSTÁTICA","M2",81,17149.32,null,{"$f":"LEFT(TEXT(Tabela_DadosExternos_1[[#This Row],[ITEM ]],\"00\\.00\\.00\"),2)","v":"20"}]
[210000,".",".","LIMPEZA",null,null,null,null,{"$f":"LEFT(TEXT(Tabela_DadosExternos_1[[#This Row],[ITEM ]],\"00\\.00\\.00\"),2)","v":"21"}]
[210100,".",".","LIMPEZA - ZETA",null,null,null,null,{"$f":"LEFT(TEXT(Tabela_DadosExternos_1[[#This Row],[ITEM ]],\"00\\.00\\.00\"),2)","v":"21"}]
[210101,"SINAPI","9537","LIMPEZA FINAL DA OBRA","M2",5519.97,12916.73,null,{"$f":"LEFT(TEXT(Tabela_DadosExternos_1[[#This Row],[ITEM ]],\"00\\.00\\.00\"),2)","v":"21"}]
[220000,".",".","SISTEMA DE CLIMATIZAÇÃO, VENTILAÇÃO E EXAUSTÃO",null,null,null,null,{"$f":"LEFT(TEXT(Tabela_DadosExternos_1[[#This Row],[ITEM ]],\"00\\.00\\.00\"),2)","v":"22"}]
[220100,".",".","SISTEMA 001 - 2º PAVIMENTO - EQUIPAMENTOS",null,null,null,null,{"$f":"LEFT(TEXT(Tabela_DadosExternos_1[[#This Row],[ITEM ]],\"00\\.00\\.00\"),2)","v":"22"}]
[220101,"CPU",null,"CASSETE UE2.01A","UN ",1,12142,null,{"$f":"LEFT(TEXT(Tabela_DadosExternos_1[[#This Row],[ITEM ]],\"00\\.00\\.00\"),2)","v":"22"}]
[220102,"CPU",null,"CASSETE UE2.01B","UN ",1,12142,null,{"$f":"LEFT(TEXT(Tabela_DadosExternos_1[[#This Row],[ITEM ]],\"00\\.00\\.00\"),2)","v":"22"}]
[220103,"CPU",null,"CASSETE UE2.02","UN ",1,11889,null,{"$f":"LEFT(TEXT(Tabela_DadosExternos_1[[#This Row],[ITEM ]],\"00\\.00\\.00\"),2)","v":"22"}]
[220104,"CPU",null,"CASSETE UE2.03A","UN ",1,12142,null,{"$f":"LEFT(TEXT(Tabela_DadosExternos_1[[#This Row],[ITEM ]],\"00\\.00\\.00\"),2)","v":"22"}]
[220105,"CPU",null,"CASSETE UE2.03B","UN ",1,12142,null,{"$f":"LEFT(TEXT(Tabela_DadosExternos_1[[#This Row],[ITEM ]],\"00\\.00\\.00\"),2)","v":"22"}]
[220106,"CPU",null,"CASSETE UE2.08A","UN ",1,12142,null,{"$f":"LEFT(TEXT(Tabela_DadosExternos_1[[#This Row],[ITEM ]],\"00\\.00\\.00\"),2)","v":"22"}]
[220107,"CPU",null,"CASSETE UE2.08B","UN ",1,12142,null,{"$f":"LEFT(TEXT(Tabela_DadosExternos_1[[#This Row],[ITEM ]],\"00\\.00\\.00\"),2)","v":"22"}]
[220108,"CPU",null,"CASSETE UE2.09","UN ",1,11712,null,{"$f":"LEFT(TEXT(Tabela_DadosExternos_1[[#This Row],[ITEM ]],\"00\\.00\\.00\"),2)","v":"22"}]
[220109,"CPU",null,"CASSETE UE2.10A","UN ",1,12142,null,{"$f":"LEFT(TEXT(Tabela_DadosExternos_1[[#This Row],[ITEM ]],\"00\\.00\\.00\"),2)","v":"22"}]
[220110,"CPU",null,"CASSETE UE2.10B","UN ",1,14554.6,null,{"$f":"LEFT(TEXT(Tabela_DadosExternos_1[[#This Row],[ITEM ]],\"00\\.00\\.00\"),2)","v":"22"}]
[220111,"CPU",null,"CONDENSADOR UC.001","UN ",1,135724,null,{"$f":"LEFT(TEXT(Tabela_DadosExternos_1[[#This Row],[ITEM ]],\"00\\.00\\.00\"),2)","v":"22"}]
[220112,"CPU",null,"VENTILADOR VE.001","UN ",1,11440,null,{"$f":"LEFT(TEXT(Tabela_DadosExternos_1[[#This Row],[ITEM ]],\"00\\.00\\.00\"),2)","v":"22"}]
[220200,".",".","SISTEMA 001 - 2º PAVIMENTO - DUTOS E ACESSÓRIOS",null,null,null,null,{"$f":"LEFT(TEXT(Tabela_DadosExternos_1[[#This Row],[ITEM ]],\"00\\.00\\.00\"),2)","v":"22"}]
[220201,"CPU",null,"CHAPA GALVANIZADA #26","KG",500,9075,null,{"$f":"LEFT(TEXT(Tabela_DadosExternos_1[[#This Row],[ITEM ]],\"00\\.00\\.00\"),2)","v":"22"}]
[220202,"CPU",null,"PERFILADO TDC","M",215,4730,null,{"$f":"LEFT(TEXT(Tabela_DadosExternos_1[[#This Row],[ITEM ]],\"00\\.00\\.00\"),2)","v":"22"}]
[220203,"CPU",null,"CANTOS","UN ",600,300,null,{"$f":"LEFT(TEXT(Tabela_DadosExternos_1[[#This Row],[ITEM ]],\"00\\.00\\.00\"),2)","v":"22"}]
[220204,"CPU",null,"GRAMPOS","UN ",360,252,null,{"$f":"LEFT(TEXT(Tabela_DadosExternos_1[[#This Row],[ITEM ]],\"00\\.00\\.00\"),2)","v":"22"}]
[220205,"CPU",null,"FITA SILVER TAPE","M",100,200,null,{"$f":"LEFT(TEXT(Tabela_DadosExternos_1[[#This Row],[ITEM ]],\"00\\.00\\.00\"),2)","v":"22"}]
[220206,"CPU",null,"REBITE POP 3/16\"X1/2\"","UN ",2200,550,null,{"$f":"LEFT(TEXT(Tabela_DadosExternos_1[[#This Row],[ITEM ]],\"00\\.00\\.00\"),2)","v":"22"}]
[220207,"CPU",null,"KIT PARAFUSO 5/16\"","UN ",300,600,null,{"$f":"LEFT(TEXT(Tabela_DadosExternos_1[[#This Row],[ITEM ]],\"00\\.00\\.00\"),2)","v":"22"}]
[220208,"CPU",null,"GALVITE","GL",1,120,null,{"$f":"LEFT(TEXT(Tabela_DadosExternos_1[[#This Row],[ITEM ]],\"00\\.00\\.00\"),2)","v":"22"}]
[220209,"CPU",null,"TINTA ACABAMENTO","GL",3,225,null,{"$f":"LEFT(TEXT(Tabela_DadosExternos_1[[#This Row],[ITEM ]],\"00\\.00\\.00\"),2)","v":"22"}]
[220210,"CPU",null,"AGUARRAZ","L",1,16.899999999999999,null,{"$f":"LEFT(TEXT(Tabela_DadosExternos_1[[#This Row],[ITEM ]],\"00\\.00\\.00\"),2)","v":"22"}]
[220211,"CPU",null,"TRINCHA/ROLINHO","UN ",1,15.21,null,{"$f":"LEFT(TEXT(Tabela_DadosExternos_1[[#This Row],[ITEM ]],\"00\\.00\\.00\"),2)","v":"22"}]
[220212,"CPU",null,"GRELHA GR-01","UN ",10,624,null,{"$f":"LEFT(TEXT(Tabela_DadosExternos_1[[#This Row],[ITEM ]],\"00\\.00\\.00\"),2)","v":"22"}]
[220300,".",".","SISTEMA 001 - 2º PAVIMENTO - TUBULAÇÃO FRIGORÍGENA E ACESSÓRIOS",null,null,null,null,{"$f":"LEFT(TEXT(Tabela_DadosExternos_1[[#This Row],[ITEM ]],\"00\\.00\\.00\"),2)","v":"22"}]
[220301,"CPU",null,"TUBULAÇÃO DE COBRE 9,5MM","M",47,401.7,null,{"$f":"LEFT(TEXT(Tabela_DadosExternos_1[[#This Row],[ITEM ]],\"00\\.00\\.00\"),2)","v":"22"}]
[220302,"CPU",null,"TUBULAÇÃO DE COBRE 12,7MM","M",1,11.7,null,{"$f":"LEFT(TEXT(Tabela_DadosExternos_1[[#This Row],[ITEM ]],\"00\\.00\\.00\"),2)","v":"22"}]
[220303,"CPU",null,"TUBULAÇÃO DE COBRE 15,9MM","M",51,1432.6,null,{"$f":"LEFT(TEXT(Tabela_DadosExternos_1[[#This Row],[ITEM ]],\"00\\.00\\.00\"),2)","v":"22"}]
[220304,"CPU",null,"TUBULAÇÃO DE COBRE 19,1MM","M",22,755.3,null,{"$f":"LEFT(TEXT(Tabela_DadosExternos_1[[#This Row],[ITEM ]],\"00\\.00\\.00\"),2)","v":"22"}]
[220305,"CPU",null,"TUBULAÇÃO DE COBRE 22,2MM","M",3,122.2,null,{"$f":"LEFT(TEXT(Tabela_DadosExternos_1[[#This Row],[ITEM ]],\"00\\.00\\.00\"),2)","v":"22"}]
[220306,"CPU",null,"TUBULAÇÃO DE COBRE 28,6MM","M",8,425.1,null,{"$f":"LEFT(TEXT(Tabela_DadosExternos_1[[#This Row],[ITEM ]],\"00\\.00\\.00\"),2)","v":"22"}]
[220307,"CPU",null,"TUBULAÇÃO DE COBRE 31,8MM","M",4,236.6,null,{"$f":"LEFT(TEXT(Tabela_DadosExternos_1[[#This Row],[ITEM ]],\"00\\.00\\.00\"),2)","v":"22"}]
[220308,"CPU",null,"TUBULAÇÃO DE COBRE 38,1MM","M",18,1289.5999999999999,null,{"$f":"LEFT(TEXT(Tabela_DadosExternos_1[[#This Row],[ITEM ]],\"00\\.00\\.00\"),2)","v":"22"}]
[220309,"CPU",null,"KIT REFINETE KHRP26A22T","UN ",4,1628,null,{"$f":"LEFT(TEXT(Tabela_DadosExternos_1[[#This Row],[ITEM ]],\"00\\.00\\.00\"),2)","v":"22"}]
[220310,"CPU",null,"KIT REFINETE KHRP26A33T","UN ",1,407,null,{"$f":"LEFT(TEXT(Tabela_DadosExternos_1[[#This Row],[ITEM ]],\"00\\.00\\.00\"),2)","v":"22"}]
[220311,"CPU",null,"KIT REFINETE KHRP26A72T","UN ",4,1628,null,{"$f":"LEFT(TEXT(Tabela_DadosExternos_1[[#This Row],[ITEM ]],\"00\\.00\\.00\"),2)","v":"22"}]
[220312,"CPU",null,"KIT REFINETE KHRP26A73T","UN ",4,1628,null,{"$f":"LEFT(TEXT(Tabela_DadosExternos_1[[#This Row],[ITEM ]],\"00\\.00\\.00\"),2)","v":"22"}]
[220313,"CPU",null,"KIT DE CONEXÃO COND.","UN ",1,2222,null,{"$f":"LEFT(TEXT(Tabela_DadosExternos_1[[#This Row],[ITEM ]],\"00\\.00\\.00\"),2)","v":"22"}]
[220314,"CPU",null,"VALVULA ESFERA 9,5MM","UN ",10,1500,null,{"$f":"LEFT(TEXT(Tabela_DadosExternos_1[[#This Row],[ITEM ]],\"00\\.00\\.00\"),2)","v":"22"}]
[220315,"CPU",null,"VALVULA ESFERA 15,9MM","UN ",12,3000,null,{"$f":"LEFT(TEXT(Tabela_DadosExternos_1[[#This Row],[ITEM ]],\"00\\.00\\.00\"),2)","v":"22"}]
[220316,"CPU",null,"VALVULA ESFERA 28,6MM","UN ",2,700,null,{"$f":"LEFT(TEXT(Tabela_DadosExternos_1[[#This Row],[ITEM ]],\"00\\.00\\.00\"),2)","v":"22"}]
[220317,"CPU",null,"LOOPING 19,1MM","UN ",1,1105,null,{"$f":"LEFT(TEXT(Tabela_DadosExternos_1[[#This Row],[ITEM ]],\"00\\.00\\.00\"),2)","v":"22"}]
[220318,"CPU",null,"LOOPING 38,1MM","UN ",1,1105,null,{"$f":"LEFT(TEXT(Tabela_DadosExternos_1[[#This Row],[ITEM ]],\"00\\.00\\.00\"),2)","v":"22"}]
[220319,"CPU",null,"SIFÃO SIMPLES 19,1MM","UN ",2,14.79,null,{"$f":"LEFT(TEXT(Tabela_DadosExternos_1[[#This Row],[ITEM ]],\"00\\.00\\.00\"),2)","v":"22"}]
[220320,"CPU",null,"SIFÃO SIMPLES 38,1MM","UN ",2,17.059999999999999,null,{"$f":"LEFT(TEXT(Tabela_DadosExternos_1[[#This Row],[ITEM ]],\"00\\.00\\.00\"),2)","v":"22"}]
[220321,"CPU",null,"ESPUMA ELAST. 13MM - 9,5MM","M",47,443.59,null,{"$f":"LEFT(TEXT(Tabela_DadosExternos_1[[#This Row],[ITEM ]],\"00\\.00\\.00\"),2)","v":"22"}]
[220322,"CPU",null,"ESPUMA ELAST. 13MM - 12.7MM","M",1,10.76,null,{"$f":"LEFT(TEXT(Tabela_DadosExternos_1[[#This Row],[ITEM ]],\"00\\.00\\.00\"),2)","v":"22"}]
[220323,"CPU",null,"ESPUMA ELAST. 13MM - 15,9MM","M",51,696.15,null,{"$f":"LEFT(TEXT(Tabela_DadosExternos_1[[#This Row],[ITEM ]],\"00\\.00\\.00\"),2)","v":"22"}]
[220324,"CPU",null,"ESPUMA ELAST.13MM - 19,1MM","M",22,302.58999999999997,null,{"$f":"LEFT(TEXT(Tabela_DadosExternos_1[[#This Row],[ITEM ]],\"00\\.00\\.00\"),2)","v":"22"}]
[220325,"CPU",null,"ESPUMA ELAST. 13MM - 22,2MM","M",3,52.65,null,{"$f":"LEFT(TEXT(Tabela_DadosExternos_1[[#This Row],[ITEM ]],\"00\\.00\\.00\"),2)","v":"22"}]
[220326,"CPU",null,"ESPUMA ELAST. 13MM - 28,6MM","M",8,142.79,null,{"$f":"LEFT(TEXT(Tabela_DadosExternos_1[[#This Row],[ITEM ]],\"00\\.00\\.00\"),2)","v":"22"}]
[220327,"CPU",null,"ESPUMA ELAST. 13MM - 31,8MM","M",4,74.930000000000007,null,{"$f":"LEFT(TEXT(Tabela_DadosExternos_1[[#This Row],[ITEM ]],\"00\\.00\\.00\"),2)","v":"22"}]
[220328,"CPU",null,"ESPUMA ELAST. 13MM - 38,1MM","M",18,366.44,null,{"$f":"LEFT(TEXT(Tabela_DadosExternos_1[[#This Row],[ITEM ]],\"00\\.00\\.00\"),2)","v":"22"}]
[220400,".",".","SISTEMA 001 - 2º PAVIMENTO - TUBULAÇÃO HIDRAULICA E ACESSÓRIOS",null,null,null,null,{"$f":"LEFT(TEXT(Tabela_DadosExternos_1[[#This Row],[ITEM ]],\"00\\.00\\.00\"),2)","v":"22"}]
[220401,"CPU",null,null,null,0,0,null,{"$f":"LEFT(TEXT(Tabela_DadosExternos_1[[#This Row],[ITEM ]],\"00\\.00\\.00\"),2)","v":"22"}]
[220500,".",".","SISTEMA 001 - 2º PAVIMENTO - CABOS E QUADROS ELÉTRICOS",null,null,null,null,{"$f":"LEFT(TEXT(Tabela_DadosExternos_1[[#This Row],[ITEM ]],\"00\\.00\\.00\"),2)","v":"22"}]
[220501,"CPU",null,"CABO PP 3X2,5MM","M",300,1950,null,{"$f":"LEFT(TEXT(Tabela_DadosExternos_1[[#This Row],[ITEM ]],\"00\\.00\\.00\"),2)","v":"22"}]
[220600,".",".","SISTEMA 001 - 2º PAVIMENTO - INSUMOS DA INSTALAÇÃO",null,null,null,null,{"$f":"LEFT(TEXT(Tabela_DadosExternos_1[[#This Row],[ITEM ]],\"00\\.00\\.00\"),2)","v":"22"}]
[220601,"CPU",null,"CARGA GÁS R410A","KG",19.899999999999999,1194,null,{"$f":"LEFT(TEXT(Tabela_DadosExternos_1[[#This Row],[ITEM ]],\"00\\.00\\.00\"),2)","v":"22"}]
[220602,"CPU",null,"PAINEL DECORATIVO 950X950","UN ",10,0,null,{"$f":"LEFT(TEXT(Tabela_DadosExternos_1[[#This Row],[ITEM ]],\"00\\.00\\.00\"),2)","v":"22"}]
[220603,"CPU",null,"CONTROLE REMOTO COM FIO","UN ",10,0,null,{"$f":"LEFT(TEXT(Tabela_DadosExternos_1[[#This Row],[ITEM ]],\"00\\.00\\.00\"),2)","v":"22"}]
[220700,".",".","SISTEMA 001 - 2º PAVIMENTO - CABOS E QUADROS ELÉTRICOS",null,null,null,null,{"$f":"LEFT(TEXT(Tabela_DadosExternos_1[[#This Row],[ITEM ]],\"00\\.00\\.00\"),2)","v":"22"}]
[220701,"CPU",null,"CANTEIRO DE OBRAS - MOBILIZAÇÃO, PROJETO, DESMOBILIZAÇÃO, MANUTENÇÃO","UN ",1,5000,null,{"$f":"LEFT(TEXT(Tabela_DadosExternos_1[[#This Row],[ITEM ]],\"00\\.00\\.00\"),2)","v":"22"}]
[220702,"CPU",null,"ENGENHARIA ADICIONAL PARA EXECUÇÃO DA OBRA","UN ",1,2000,null,{"$f":"LEFT(TEXT(Tabela_DadosExternos_1[[#This Row],[ITEM ]],\"00\\.00\\.00\"),2)","v":"22"}]
[220703,"CPU",null,"EQUIPE DE APOIO, SEGURANÇA, MEIO AMBIENTE","UN ",1,2000,null,{"$f":"LEFT(TEXT(Tabela_DadosExternos_1[[#This Row],[ITEM ]],\"00\\.00\\.00\"),2)","v":"22"}]
[220704,"CPU",null,"SEGUROS","UN ",1,3500,null,{"$f":"LEFT(TEXT(Tabela_DadosExternos_1[[#This Row],[ITEM ]],\"00\\.00\\.00\"),2)","v":"22"}]
[220705,"CPU",null,"ESTADIAS E VIAGENS","UN ",1,6000,null,{"$f":"LEFT(TEXT(Tabela_DadosExternos_1[[#This Row],[ITEM ]],\"00\\.00\\.00\"),2)","v":"22"}]
[220706,"CPU",null,"TAB - TESTE, AJUSTE E BALANCEAMENTO","UN ",1,5000,null,{"$f":"LEFT(TEXT(Tabela_DadosExternos_1[[#This Row],[ITEM ]],\"00\\.00\\.00\"),2)","v":"22"}]
[220707,"CPU",null,"TESTE DE COMISSIONAMENTO DOS SISTEMAS","UN ",1,2500,null,{"$f":"LEFT(TEXT(Tabela_DadosExternos_1[[#This Row],[ITEM ]],\"00\\.00\\.00\"),2)","v":"22"}]
[220708,"CPU",null,"PROJETO \"AS BUILT\"","UN ",1,7500,null,{"$f":"LEFT(TEXT(Tabela_DadosExternos_1[[#This Row],[ITEM ]],\"00\\.00\\.00\"),2)","v":"22"}]
[220709,"CPU",null,"DATA BOOK DO PROJETO","UN ",1,1600,null,{"$f":"LEFT(TEXT(Tabela_DadosExternos_1[[#This Row],[ITEM ]],\"00\\.00\\.00\"),2)","v":"22"}]
[220710,"CPU",null,"ASSISTENCIA A PARTIDA DA PLANTA E TREINAMENTO DE EQUIPE","UN ",1,700,null,{"$f":"LEFT(TEXT(Tabela_DadosExternos_1[[#This Row],[ITEM ]],\"00\\.00\\.00\"),2)","v":"22"}]
[220800,".",".","SISTEMA 002 - SISTEMA 002 A/B - TELECOM - EQUIPAMENTOS",null,null,null,null,{"$f":"LEFT(TEXT(Tabela_DadosExternos_1[[#This Row],[ITEM ]],\"00\\.00\\.00\"),2)","v":"22"}]
[220801,"CPU",null,"HIWALL UE0.20A","UN ",1,7800,null,{"$f":"LEFT(TEXT(Tabela_DadosExternos_1[[#This Row],[ITEM ]],\"00\\.00\\.00\"),2)","v":"22"}]
[220802,"CPU",null,"HIWALL UE0.20B","UN ",1,7800,null,{"$f":"LEFT(TEXT(Tabela_DadosExternos_1[[#This Row],[ITEM ]],\"00\\.00\\.00\"),2)","v":"22"}]
[220803,"CPU",null,"HIWALL UE1.10A","UN ",1,7800,null,{"$f":"LEFT(TEXT(Tabela_DadosExternos_1[[#This Row],[ITEM ]],\"00\\.00\\.00\"),2)","v":"22"}]
[220804,"CPU",null,"HIWALL UE1.10B","UN ",1,7800,null,{"$f":"LEFT(TEXT(Tabela_DadosExternos_1[[#This Row],[ITEM ]],\"00\\.00\\.00\"),2)","v":"22"}]
[220805,"CPU",null,"HIWALL UE1.11A","UN ",1,7800,null,{"$f":"LEFT(TEXT(Tabela_DadosExternos_1[[#This Row],[ITEM ]],\"00\\.00\\.00\"),2)","v":"22"}]
[220806,"CPU",null,"HIWALL UE1.11B","UN ",1,7800,null,{"$f":"LEFT(TEXT(Tabela_DadosExternos_1[[#This Row],[ITEM ]],\"00\\.00\\.00\"),2)","v":"22"}]
[220807,"CPU",null,"HIWALL UE1.12A","UN ",1,7800,null,{"$f":"LEFT(TEXT(Tabela_DadosExternos_1[[#This Row],[ITEM ]],\"00\\.00\\.00\"),2)","v":"22"}]
[220808,"CPU",null,"HIWALL UE1.12B","UN ",1,7800,null,{"$f":"LEFT(TEXT(Tabela_DadosExternos_1[[#This Row],[ITEM ]],\"00\\.00\\.00\"),2)","v":"22"}]
[220809,"CPU",null,"HIWALL UE2.16A","UN ",1,7800,null,{"$f":"LEFT(TEXT(Tabela_DadosExternos_1[[#This Row],[ITEM ]],\"00\\.00\\.00\"),2)","v":"22"}]
[220810,"CPU",null,"HIWALL UE2.16B","UN ",1,7800,null,{"$f":"LEFT(TEXT(Tabela_DadosExternos_1[[#This Row],[ITEM ]],\"00\\.00\\.00\"),2)","v":"22"}]
[220811,"CPU",null,"HIWALL UE3.18A","UN ",1,7800,null,{"$f":"LEFT(TEXT(Tabela_DadosExternos_1[[#This Row],[ITEM ]],\"00\\.00\\.00\"),2)","v":"22"}]
[220812,"CPU",null,"HIWALL UE3.18B","UN ",1,7800,null,{"$f":"LEFT(TEXT(Tabela_DadosExternos_1[[#This Row],[ITEM ]],\"00\\.00\\.00\"),2)","v":"22"}]
[220813,"CPU",null,"CONDENSADOR UC.002A","UN ",1,21900,null,{"$f":"LEFT(TEXT(Tabela_DadosExternos_1[[#This Row],[ITEM ]],\"00\\.00\\.00\"),2)","v":"22"}]
[220814,"CPU",null,"CONDENSADOR UC.002B","UN ",1,21900,null,{"$f":"LEFT(TEXT(Tabela_DadosExternos_1[[#This Row],[ITEM ]],\"00\\.00\\.00\"),2)","v":"22"}]
[220900,".",".","SISTEMA 002 - SISTEMA 002 A/B - TELECOM - DUTOS E ACESSÓRIOS",null,null,null,null,{"$f":"LEFT(TEXT(Tabela_DadosExternos_1[[#This Row],[ITEM ]],\"00\\.00\\.00\"),2)","v":"22"}]
[220901,"CPU",null,null,null,0,0,null,{"$f":"LEFT(TEXT(Tabela_DadosExternos_1[[#This Row],[ITEM ]],\"00\\.00\\.00\"),2)","v":"22"}]
[221000,".",".","SISTEMA 002 - SISTEMA 002 A/B - TELECOM - TUBULAÇÃO FRIGORÍGENA E ACESSÓRIOS",null,null,null,null,{"$f":"LEFT(TEXT(Tabela_DadosExternos_1[[#This Row],[ITEM ]],\"00\\.00\\.00\"),2)","v":"22"}]
[221001,"CPU",null,"TUBULAÇÃO DE COBRE 9,5MM","M",110,748,null,{"$f":"LEFT(TEXT(Tabela_DadosExternos_1[[#This Row],[ITEM ]],\"00\\.00\\.00\"),2)","v":"22"}]
[221002,"CPU",null,"TUBULAÇÃO DE COBRE 12,7MM","M",40,468,null,{"$f":"LEFT(TEXT(Tabela_DadosExternos_1[[#This Row],[ITEM ]],\"00\\.00\\.00\"),2)","v":"22"}]
[221003,"CPU",null,"TUBULAÇÃO DE COBRE 15,9MM","M",90,2529,null,{"$f":"LEFT(TEXT(Tabela_DadosExternos_1[[#This Row],[ITEM ]],\"00\\.00\\.00\"),2)","v":"22"}]
[221004,"CPU",null,"TUBULAÇÃO DE COBRE 19,1MM","M",15,2295,null,{"$f":"LEFT(TEXT(Tabela_DadosExternos_1[[#This Row],[ITEM ]],\"00\\.00\\.00\"),2)","v":"22"}]
[221005,"CPU",null,"TUBULAÇÃO DE COBRE 22,2MM","M",10,406,null,{"$f":"LEFT(TEXT(Tabela_DadosExternos_1[[#This Row],[ITEM ]],\"00\\.00\\.00\"),2)","v":"22"}]
[221006,"CPU",null,"TUBULAÇÃO DE COBRE 25,4MM","M",40,1876,null,{"$f":"LEFT(TEXT(Tabela_DadosExternos_1[[#This Row],[ITEM ]],\"00\\.00\\.00\"),2)","v":"22"}]
[221007,"CPU",null,"KIT REFINETE KHRP26A22T","UN ",2,814,null,{"$f":"LEFT(TEXT(Tabela_DadosExternos_1[[#This Row],[ITEM ]],\"00\\.00\\.00\"),2)","v":"22"}]
[221008,"CPU",null,"KIT REFINETE KHRP26A33T","UN ",1,407,null,{"$f":"LEFT(TEXT(Tabela_DadosExternos_1[[#This Row],[ITEM ]],\"00\\.00\\.00\"),2)","v":"22"}]
[221009,"CPU",null,"KIT REFINETE KHRP26A72T","UN ",2,814,null,{"$f":"LEFT(TEXT(Tabela_DadosExternos_1[[#This Row],[ITEM ]],\"00\\.00\\.00\"),2)","v":"22"}]
[221010,"CPU",null,"VALVULA ESFERA 9,5MM","UN ",12,1800,null,{"$f":"LEFT(TEXT(Tabela_DadosExternos_1[[#This Row],[ITEM ]],\"00\\.00\\.00\"),2)","v":"22"}]
[221011,"CPU",null,"VALVULA ESFERA 15,9MM","UN ",12,3000,null,{"$f":"LEFT(TEXT(Tabela_DadosExternos_1[[#This Row],[ITEM ]],\"00\\.00\\.00\"),2)","v":"22"}]
[221012,"CPU",null,"VALVULA ESFERA 12,7MM","UN ",2,400,null,{"$f":"LEFT(TEXT(Tabela_DadosExternos_1[[#This Row],[ITEM ]],\"00\\.00\\.00\"),2)","v":"22"}]
[221013,"CPU",null,"VALVULA ESFERA 25,4MM","UN ",2,500,null,{"$f":"LEFT(TEXT(Tabela_DadosExternos_1[[#This Row],[ITEM ]],\"00\\.00\\.00\"),2)","v":"22"}]
[221014,"CPU",null,"LOOPING 12,7MM","UN ",2,2210,null,{"$f":"LEFT(TEXT(Tabela_DadosExternos_1[[#This Row],[ITEM ]],\"00\\.00\\.00\"),2)","v":"22"}]
[221015,"CPU",null,"LOOPING 25,4MM","UN ",2,2210,null,{"$f":"LEFT(TEXT(Tabela_DadosExternos_1[[#This Row],[ITEM ]],\"00\\.00\\.00\"),2)","v":"22"}]
[221016,"CPU",null,"SIFÃO SIMPLES 12,7MM","UN ",2,16.61,null,{"$f":"LEFT(TEXT(Tabela_DadosExternos_1[[#This Row],[ITEM ]],\"00\\.00\\.00\"),2)","v":"22"}]
[221017,"CPU",null,"SIFÃO SIMPLES 25,4MM","UN ",2,85.64,null,{"$f":"LEFT(TEXT(Tabela_DadosExternos_1[[#This Row],[ITEM ]],\"00\\.00\\.00\"),2)","v":"22"}]
[221018,"CPU",null,"ESPUMA ELAST. 13MM - 9,5MM","M",110,813.67,null,{"$f":"LEFT(TEXT(Tabela_DadosExternos_1[[#This Row],[ITEM ]],\"00\\.00\\.00\"),2)","v":"22"}]
[221019,"CPU",null,"ESPUMA ELAST. 13MM - 12.7MM","M",40,341.12,null,{"$f":"LEFT(TEXT(Tabela_DadosExternos_1[[#This Row],[ITEM ]],\"00\\.00\\.00\"),2)","v":"22"}]
[221020,"CPU",null,"ESPUMA ELAST. 13MM - 15,9MM","M",90,849.42,null,{"$f":"LEFT(TEXT(Tabela_DadosExternos_1[[#This Row],[ITEM ]],\"00\\.00\\.00\"),2)","v":"22"}]
[221021,"CPU",null,"ESPUMA ELAST.13MM - 19,1MM","M",15,161.46,null,{"$f":"LEFT(TEXT(Tabela_DadosExternos_1[[#This Row],[ITEM ]],\"00\\.00\\.00\"),2)","v":"22"}]
[221022,"CPU",null,"ESPUMA ELAST. 13MM - 22,2MM","M",10,123.5,null,{"$f":"LEFT(TEXT(Tabela_DadosExternos_1[[#This Row],[ITEM ]],\"00\\.00\\.00\"),2)","v":"22"}]
[221023,"CPU",null,"ESPUMA ELAST. 13MM - 25,4MM","M",40,546,null,{"$f":"LEFT(TEXT(Tabela_DadosExternos_1[[#This Row],[ITEM ]],\"00\\.00\\.00\"),2)","v":"22"}]
[221100,".",".","SISTEMA 002 - SISTEMA 002 A/B - TELECOM - TUBULAÇÃO HIDRAULICA E ACESSÓRIOS",null,null,null,null,{"$f":"LEFT(TEXT(Tabela_DadosExternos_1[[#This Row],[ITEM ]],\"00\\.00\\.00\"),2)","v":"22"}]
[221101,"CPU",null,null,null,0,0,null,{"$f":"LEFT(TEXT(Tabela_DadosExternos_1[[#This Row],[ITEM ]],\"00\\.00\\.00\"),2)","v":"22"}]
[221200,".",".","SISTEMA 002 - SISTEMA 002 A/B - TELECOM - CABOS E QUADROS ELÉTRICOS",null,null,null,null,{"$f":"LEFT(TEXT(Tabela_DadosExternos_1[[#This Row],[ITEM ]],\"00\\.00\\.00\"),2)","v":"22"}]
[221201,"CPU",null,"CABO PP 3X2,5MM","M",300,1950,null,{"$f":"LEFT(TEXT(Tabela_DadosExternos_1[[#This Row],[ITEM ]],\"00\\.00\\.00\"),2)","v":"22"}]
[221300,".",".","SISTEMA 002 - SISTEMA 002 A/B - TELECOM - INSUMOS DA INSTALAÇÃO",null,null,null,null,{"$f":"LEFT(TEXT(Tabela_DadosExternos_1[[#This Row],[ITEM ]],\"00\\.00\\.00\"),2)","v":"22"}]
[221301,"CPU",null,"CARGA GÁS R410A","KG",18,1080,null,{"$f":"LEFT(TEXT(Tabela_DadosExternos_1[[#This Row],[ITEM ]],\"00\\.00\\.00\"),2)","v":"22"}]
[221302,"CPU",null,"CONTROLE REMOTO COM FIO","UN ",12,0,null,{"$f":"LEFT(TEXT(Tabela_DadosExternos_1[[#This Row],[ITEM ]],\"00\\.00\\.00\"),2)","v":"22"}]
[221303,"CPU",null,"CANTEIRO DE OBRAS - MOBILIZAÇÃO, PROJETO, DESMOBILIZAÇÃO, MANUTENÇÃO","UN ",1,5000,null,{"$f":"LEFT(TEXT(Tabela_DadosExternos_1[[#This Row],[ITEM ]],\"00\\.00\\.00\"),2)","v":"22"}]
[221304,"CPU",null,"ENGENHARIA ADICIONAL PARA EXECUÇÃO DA OBRA","UN ",1,2000,null,{"$f":"LEFT(TEXT(Tabela_DadosExternos_1[[#This Row],[ITEM ]],\"00\\.00\\.00\"),2)","v":"22"}]
[221305,"CPU",null,"EQUIPE DE APOIO, SEGURANÇA, MEIO AMBIENTE","UN ",1,2000,null,{"$f":"LEFT(TEXT(Tabela_DadosExternos_1[[#This Row],[ITEM ]],\"00\\.00\\.00\"),2)","v":"22"}]
[221306,"CPU",null,"SEGUROS","UN ",1,3500,null,{"$f":"LEFT(TEXT(Tabela_DadosExternos_1[[#This Row],[ITEM ]],\"00\\.00\\.00\"),2)","v":"22"}]
[221307,"CPU",null,"ESTADIAS E VIAGENS","UN ",1,6000,null,{"$f":"LEFT(TEXT(Tabela_DadosExternos_1[[#This Row],[ITEM ]],\"00\\.00\\.00\"),2)","v":"22"}]
[221308,"CPU",null,"TAB - TESTE, AJUSTE E BALANCEAMENTO","UN ",1,5000,null,{"$f":"LEFT(TEXT(Tabela_DadosExternos_1[[#This Row],[ITEM ]],\"00\\.00\\.00\"),2)","v":"22"}]
[221309,"CPU",null,"TESTE DE COMISSIONAMENTO DOS SISTEMAS","UN ",1,2500,null,{"$f":"LEFT(TEXT(Tabela_DadosExternos_1[[#This Row],[ITEM ]],\"00\\.00\\.00\"),2)","v":"22"}]
[221310,"CPU",null,"PROJETO \"AS BUILT\"","UN ",1,7500,null,{"$f":"LEFT(TEXT(Tabela_DadosExternos_1[[#This Row],[ITEM ]],\"00\\.00\\.00\"),2)","v":"22"}]
[221311,"CPU",null,"DATA BOOK DO PROJETO","UN ",1,1600,null,{"$f":"LEFT(TEXT(Tabela_DadosExternos_1[[#This Row],[ITEM ]],\"00\\.00\\.00\"),2)","v":"22"}]
[221312,"CPU",null,"ASSISTENCIA A PARTIDA DA PLANTA E TREINAMENTO DE EQUIPE","UN ",11,7700,null,{"$f":"LEFT(TEXT(Tabela_DadosExternos_1[[#This Row],[ITEM ]],\"00\\.00\\.00\"),2)","v":"22"}]
[221400,".",".","SISTEMA 003 - 3º PAVIMENTO (W) - EQUIPAMENTOS",null,null,null,null,{"$f":"LEFT(TEXT(Tabela_DadosExternos_1[[#This Row],[ITEM ]],\"00\\.00\\.00\"),2)","v":"22"}]
[221401,"CPU",null,"CASSETE UE3.01A","UN ",1,12300,null,{"$f":"LEFT(TEXT(Tabela_DadosExternos_1[[#This Row],[ITEM ]],\"00\\.00\\.00\"),2)","v":"22"}]
[221402,"CPU",null,"CASSETE UE3.01B","UN ",1,12300,null,{"$f":"LEFT(TEXT(Tabela_DadosExternos_1[[#This Row],[ITEM ]],\"00\\.00\\.00\"),2)","v":"22"}]
[221403,"CPU",null,"CASSETE UE3.02","UN ",1,12300,null,{"$f":"LEFT(TEXT(Tabela_DadosExternos_1[[#This Row],[ITEM ]],\"00\\.00\\.00\"),2)","v":"22"}]
[221404,"CPU",null,"CASSETEUE3.03A","UN ",1,12300,null,{"$f":"LEFT(TEXT(Tabela_DadosExternos_1[[#This Row],[ITEM ]],\"00\\.00\\.00\"),2)","v":"22"}]
[221405,"CPU",null,"CASSETEUE3.03B","UN ",1,12300,null,{"$f":"LEFT(TEXT(Tabela_DadosExternos_1[[#This Row],[ITEM ]],\"00\\.00\\.00\"),2)","v":"22"}]
[221406,"CPU",null,"CASSETEUE3.09A","UN ",1,12300,null,{"$f":"LEFT(TEXT(Tabela_DadosExternos_1[[#This Row],[ITEM ]],\"00\\.00\\.00\"),2)","v":"22"}]
[221407,"CPU",null,"CASSETEUE3.09B","UN ",1,12300,null,{"$f":"LEFT(TEXT(Tabela_DadosExternos_1[[#This Row],[ITEM ]],\"00\\.00\\.00\"),2)","v":"22"}]
[221408,"CPU",null,"CASSETEUE3.10","UN ",1,12300,null,{"$f":"LEFT(TEXT(Tabela_DadosExternos_1[[#This Row],[ITEM ]],\"00\\.00\\.00\"),2)","v":"22"}]
[221409,"CPU",null,"CASSETEUE3.10A","UN ",1,12300,null,{"$f":"LEFT(TEXT(Tabela_DadosExternos_1[[#This Row],[ITEM ]],\"00\\.00\\.00\"),2)","v":"22"}]
[221410,"CPU",null,"CASSETEUE3.10B","UN ",1,12300,null,{"$f":"LEFT(TEXT(Tabela_DadosExternos_1[[#This Row],[ITEM ]],\"00\\.00\\.00\"),2)","v":"22"}]
[221411,"CPU",null,"CONDENSADOR UC.003","UN ",1,178500,null,{"$f":"LEFT(TEXT(Tabela_DadosExternos_1[[#This Row],[ITEM ]],\"00\\.00\\.00\"),2)","v":"22"}]
[221412,"CPU",null,"VENTILADOR VE.002","UN ",1,11440,null,{"$f":"LEFT(TEXT(Tabela_DadosExternos_1[[#This Row],[ITEM ]],\"00\\.00\\.00\"),2)","v":"22"}]
[221500,".",".","SISTEMA 003 - 3º PAVIMENTO (W) - DUTOS E ACESSÓRIOS",null,null,null,null,{"$f":"LEFT(TEXT(Tabela_DadosExternos_1[[#This Row],[ITEM ]],\"00\\.00\\.00\"),2)","v":"22"}]
[221501,"CPU",null,"CHAPA GALVANIZADA #26","KG",500,9075,null,{"$f":"LEFT(TEXT(Tabela_DadosExternos_1[[#This Row],[ITEM ]],\"00\\.00\\.00\"),2)","v":"22"}]
[221502,"CPU",null,"PERFILADO TDC","M",215,6149,null,{"$f":"LEFT(TEXT(Tabela_DadosExternos_1[[#This Row],[ITEM ]],\"00\\.00\\.00\"),2)","v":"22"}]
[221503,"CPU",null,"CANTOS","UN ",600,390,null,{"$f":"LEFT(TEXT(Tabela_DadosExternos_1[[#This Row],[ITEM ]],\"00\\.00\\.00\"),2)","v":"22"}]
[221504,"CPU",null,"GRAMPOS","UN ",360,327.60000000000002,null,{"$f":"LEFT(TEXT(Tabela_DadosExternos_1[[#This Row],[ITEM ]],\"00\\.00\\.00\"),2)","v":"22"}]
[221505,"CPU",null,"FITA SILVER TAPE","M",100,200,null,{"$f":"LEFT(TEXT(Tabela_DadosExternos_1[[#This Row],[ITEM ]],\"00\\.00\\.00\"),2)","v":"22"}]
[221506,"CPU",null,"REBITE POP 3/16\"X1/2\"","UN ",2200,550,null,{"$f":"LEFT(TEXT(Tabela_DadosExternos_1[[#This Row],[ITEM ]],\"00\\.00\\.00\"),2)","v":"22"}]
[221507,"CPU",null,"KIT PARAFUSO 5/16\"","UN ",300,600,null,{"$f":"LEFT(TEXT(Tabela_DadosExternos_1[[#This Row],[ITEM ]],\"00\\.00\\.00\"),2)","v":"22"}]
[221508,"CPU",null,"GALVITE","GL",1,120,null,{"$f":"LEFT(TEXT(Tabela_DadosExternos_1[[#This Row],[ITEM ]],\"00\\.00\\.00\"),2)","v":"22"}]
[221509,"CPU",null,"TINTA ACABAMENTO","GL",3,225,null,{"$f":"LEFT(TEXT(Tabela_DadosExternos_1[[#This Row],[ITEM ]],\"00\\.00\\.00\"),2)","v":"22"}]
[221510,"CPU",null,"AGUARRAZ","L",1,16.899999999999999,null,{"$f":"LEFT(TEXT(Tabela_DadosExternos_1[[#This Row],[ITEM ]],\"00\\.00\\.00\"),2)","v":"22"}]
[221511,"CPU",null,"TRINCHA/ROLINHO","UN ",1,15.21,null,{"$f":"LEFT(TEXT(Tabela_DadosExternos_1[[#This Row],[ITEM ]],\"00\\.00\\.00\"),2)","v":"22"}]
[221512,"CPU",null,"AT 300X150","UN ",10,624,null,{"$f":"LEFT(TEXT(Tabela_DadosExternos_1[[#This Row],[ITEM ]],\"00\\.00\\.00\"),2)","v":"22"}]
[221600,".",".","SISTEMA 003 - 3º PAVIMENTO (W) - TUBULAÇÃO FRIGORÍGENA E ACESSÓRIOS",null,null,null,null,{"$f":"LEFT(TEXT(Tabela_DadosExternos_1[[#This Row],[ITEM ]],\"00\\.00\\.00\"),2)","v":"22"}]
[221601,"CPU",null,"TUBULAÇÃO DE COBRE 9,5MM","M",49,418.6,null,{"$f":"LEFT(TEXT(Tabela_DadosExternos_1[[#This Row],[ITEM ]],\"00\\.00\\.00\"),2)","v":"22"}]
[221602,"CPU",null,"TUBULAÇÃO DE COBRE 12,7MM","M",1,11.7,null,{"$f":"LEFT(TEXT(Tabela_DadosExternos_1[[#This Row],[ITEM ]],\"00\\.00\\.00\"),2)","v":"22"}]
[221603,"CPU",null,"TUBULAÇÃO DE COBRE 15,9MM","M",50,1404,null,{"$f":"LEFT(TEXT(Tabela_DadosExternos_1[[#This Row],[ITEM ]],\"00\\.00\\.00\"),2)","v":"22"}]
[221604,"CPU",null,"TUBULAÇÃO DE COBRE 19,1MM","M",27,926.9,null,{"$f":"LEFT(TEXT(Tabela_DadosExternos_1[[#This Row],[ITEM ]],\"00\\.00\\.00\"),2)","v":"22"}]
[221605,"CPU",null,"TUBULAÇÃO DE COBRE 22,2MM","M",5,202.8,null,{"$f":"LEFT(TEXT(Tabela_DadosExternos_1[[#This Row],[ITEM ]],\"00\\.00\\.00\"),2)","v":"22"}]
[221606,"CPU",null,"TUBULAÇÃO DE COBRE 28,6MM","M",7,371.8,null,{"$f":"LEFT(TEXT(Tabela_DadosExternos_1[[#This Row],[ITEM ]],\"00\\.00\\.00\"),2)","v":"22"}]
[221607,"CPU",null,"TUBULAÇÃO DE COBRE 31,8MM","M",6,356.2,null,{"$f":"LEFT(TEXT(Tabela_DadosExternos_1[[#This Row],[ITEM ]],\"00\\.00\\.00\"),2)","v":"22"}]
[221608,"CPU",null,"TUBULAÇÃO DE COBRE 38,1MM","M",6,430.3,null,{"$f":"LEFT(TEXT(Tabela_DadosExternos_1[[#This Row],[ITEM ]],\"00\\.00\\.00\"),2)","v":"22"}]
[221609,"CPU",null,"TUBULAÇÃO DE COBRE 41,8MM","M",15,1167.4000000000001,null,{"$f":"LEFT(TEXT(Tabela_DadosExternos_1[[#This Row],[ITEM ]],\"00\\.00\\.00\"),2)","v":"22"}]
[221610,"CPU",null,"KIT REFINETE KHRP26A33T","UN ",1,407,null,{"$f":"LEFT(TEXT(Tabela_DadosExternos_1[[#This Row],[ITEM ]],\"00\\.00\\.00\"),2)","v":"22"}]
[221611,"CPU",null,"KIT REFINETE KHRP26A72T","UN ",3,1221,null,{"$f":"LEFT(TEXT(Tabela_DadosExternos_1[[#This Row],[ITEM ]],\"00\\.00\\.00\"),2)","v":"22"}]
[221612,"CPU",null,"KIT REFINETE KHRP26A73T","UN ",5,2035,null,{"$f":"LEFT(TEXT(Tabela_DadosExternos_1[[#This Row],[ITEM ]],\"00\\.00\\.00\"),2)","v":"22"}]
[221613,"CPU",null,"KIT DE CONEXÃO COND.","UN ",1,2888.6,null,{"$f":"LEFT(TEXT(Tabela_DadosExternos_1[[#This Row],[ITEM ]],\"00\\.00\\.00\"),2)","v":"22"}]
[221614,"CPU",null,"VALVULA ESFERA 9,5MM","UN ",10,1500,null,{"$f":"LEFT(TEXT(Tabela_DadosExternos_1[[#This Row],[ITEM ]],\"00\\.00\\.00\"),2)","v":"22"}]
[221615,"CPU",null,"VALVULA ESFERA 15,9MM","UN ",12,3000,null,{"$f":"LEFT(TEXT(Tabela_DadosExternos_1[[#This Row],[ITEM ]],\"00\\.00\\.00\"),2)","v":"22"}]
[221616,"CPU",null,"VALVULA ESFERA 28,6MM","UN ",2,700,null,{"$f":"LEFT(TEXT(Tabela_DadosExternos_1[[#This Row],[ITEM ]],\"00\\.00\\.00\"),2)","v":"22"}]
[221617,"CPU",null,"VALVULA ESFERA 12,7MM","UN ",1,200,null,{"$f":"LEFT(TEXT(Tabela_DadosExternos_1[[#This Row],[ITEM ]],\"00\\.00\\.00\"),2)","v":"22"}]
[221618,"CPU",null,"VALVULA ESFERA 25,4MM","UN ",1,250,null,{"$f":"LEFT(TEXT(Tabela_DadosExternos_1[[#This Row],[ITEM ]],\"00\\.00\\.00\"),2)","v":"22"}]
[221619,"CPU",null,"SIFÃO SIMPLES 19,1MM","UN ",2,21.53,null,{"$f":"LEFT(TEXT(Tabela_DadosExternos_1[[#This Row],[ITEM ]],\"00\\.00\\.00\"),2)","v":"22"}]
[221620,"CPU",null,"SIFÃO SIMPLES 41,3MM","M",2,137.47999999999999,null,{"$f":"LEFT(TEXT(Tabela_DadosExternos_1[[#This Row],[ITEM ]],\"00\\.00\\.00\"),2)","v":"22"}]
[221621,"CPU",null,"ESPUMA ELAST. 13MM - 9,5MM","M",49,362.45,null,{"$f":"LEFT(TEXT(Tabela_DadosExternos_1[[#This Row],[ITEM ]],\"00\\.00\\.00\"),2)","v":"22"}]
[221622,"CPU",null,"ESPUMA ELAST. 13MM - 12.7MM","M",1,8.5299999999999994,null,{"$f":"LEFT(TEXT(Tabela_DadosExternos_1[[#This Row],[ITEM ]],\"00\\.00\\.00\"),2)","v":"22"}]
[221623,"CPU",null,"ESPUMA ELAST. 13MM - 15,9MM","M",50,471.9,null,{"$f":"LEFT(TEXT(Tabela_DadosExternos_1[[#This Row],[ITEM ]],\"00\\.00\\.00\"),2)","v":"22"}]
[221624,"CPU",null,"ESPUMA ELAST.13MM - 19,1MM","M",27,290.63,null,{"$f":"LEFT(TEXT(Tabela_DadosExternos_1[[#This Row],[ITEM ]],\"00\\.00\\.00\"),2)","v":"22"}]
[221625,"CPU",null,"ESPUMA ELAST. 13MM - 22,2MM","M",5,68.25,null,{"$f":"LEFT(TEXT(Tabela_DadosExternos_1[[#This Row],[ITEM ]],\"00\\.00\\.00\"),2)","v":"22"}]
[221626,"CPU",null,"ESPUMA ELAST. 13MM - 28,6MM","M",7,96.28,null,{"$f":"LEFT(TEXT(Tabela_DadosExternos_1[[#This Row],[ITEM ]],\"00\\.00\\.00\"),2)","v":"22"}]
[221627,"CPU",null,"ESPUMA ELAST. 13MM - 31,8MM","M",6,105.3,null,{"$f":"LEFT(TEXT(Tabela_DadosExternos_1[[#This Row],[ITEM ]],\"00\\.00\\.00\"),2)","v":"22"}]
[221628,"CPU",null,"ESPUMA ELAST. 13MM - 38,1MM","M",6,107.09,null,{"$f":"LEFT(TEXT(Tabela_DadosExternos_1[[#This Row],[ITEM ]],\"00\\.00\\.00\"),2)","v":"22"}]
[221629,"CPU",null,"ESPUMA ELAST. 13MM - 41,8MM","M",15,281,null,{"$f":"LEFT(TEXT(Tabela_DadosExternos_1[[#This Row],[ITEM ]],\"00\\.00\\.00\"),2)","v":"22"}]
[221700,".",".","SISTEMA 003 - 3º PAVIMENTO (W) - TUBULAÇÃO HIDRAULICA E ACESSÓRIOS",null,null,null,null,{"$f":"LEFT(TEXT(Tabela_DadosExternos_1[[#This Row],[ITEM ]],\"00\\.00\\.00\"),2)","v":"22"}]
[221701,"CPU",null,null,null,0,0,null,{"$f":"LEFT(TEXT(Tabela_DadosExternos_1[[#This Row],[ITEM ]],\"00\\.00\\.00\"),2)","v":"22"}]
[221800,".",".","SISTEMA 003 - 3º PAVIMENTO (W) - CABOS E QUADROS ELÉTRICOS",null,null,null,null,{"$f":"LEFT(TEXT(Tabela_DadosExternos_1[[#This Row],[ITEM ]],\"00\\.00\\.00\"),2)","v":"22"}]
[221801,"CPU",null,"CABO PP 3X2,5MM","M",300,1950,null,{"$f":"LEFT(TEXT(Tabela_DadosExternos_1[[#This Row],[ITEM ]],\"00\\.00\\.00\"),2)","v":"22"}]
[221900,".",".","SISTEMA 003 - 3º PAVIMENTO (W) - INSUMOS DA INSTALAÇÃO",null,null,null,null,{"$f":"LEFT(TEXT(Tabela_DadosExternos_1[[#This Row],[ITEM ]],\"00\\.00\\.00\"),2)","v":"22"}]
[221901,"CPU",null,"CARGA GÁS R410A","KG",23.5,1410,null,{"$f":"LEFT(TEXT(Tabela_DadosExternos_1[[#This Row],[ITEM ]],\"00\\.00\\.00\"),2)","v":"22"}]
[221902,"CPU",null,"PAINEL DECORATIVO 950X950","UN ",10,0,null,{"$f":"LEFT(TEXT(Tabela_DadosExternos_1[[#This Row],[ITEM ]],\"00\\.00\\.00\"),2)","v":"22"}]
[221903,"CPU",null,"CONTROLE REMOTO COM FIO","UN ",10,0,null,{"$f":"LEFT(TEXT(Tabela_DadosExternos_1[[#This Row],[ITEM ]],\"00\\.00\\.00\"),2)","v":"22"}]
[222000,".",".","SISTEMA 003 - 3º PAVIMENTO (W) - SERVIÇOS E OUTROS",null,null,null,null,{"$f":"LEFT(TEXT(Tabela_DadosExternos_1[[#This Row],[ITEM ]],\"00\\.00\\.00\"),2)","v":"22"}]
[222001,"CPU",null,"CANTEIRO DE OBRAS - MOBILIZAÇÃO, PROJETO, DESMOBILIZAÇÃO, MANUTENÇÃO","UN ",1,5000,null,{"$f":"LEFT(TEXT(Tabela_DadosExternos_1[[#This Row],[ITEM ]],\"00\\.00\\.00\"),2)","v":"22"}]
[222002,"CPU",null,"ENGENHARIA ADICIONAL PARA EXECUÇÃO DA OBRA","UN ",1,2000,null,{"$f":"LEFT(TEXT(Tabela_DadosExternos_1[[#This Row],[ITEM ]],\"00\\.00\\.00\"),2)","v":"22"}]
[222003,"CPU",null,"EQUIPE DE APOIO, SEGURANÇA, MEIO AMBIENTE","UN ",1,2000,null,{"$f":"LEFT(TEXT(Tabela_DadosExternos_1[[#This Row],[ITEM ]],\"00\\.00\\.00\"),2)","v":"22"}]
[222004,"CPU",null,"SEGUROS","UN ",1,3500,null,{"$f":"LEFT(TEXT(Tabela_DadosExternos_1[[#This Row],[ITEM ]],\"00\\.00\\.00\"),2)","v":"22"}]
[222005,"CPU",null,"ESTADIAS E VIAGENS","UN ",1,6000,null,{"$f":"LEFT(TEXT(Tabela_DadosExternos_1[[#This Row],[ITEM ]],\"00\\.00\\.00\"),2)","v":"22"}]
[222006,"CPU",null,"TAB - TESTE, AJUSTE E BALANCEAMENTO","UN ",1,5000,null,{"$f":"LEFT(TEXT(Tabela_DadosExternos_1[[#This Row],[ITEM ]],\"00\\.00\\.00\"),2)","v":"22"}]
[222007,"CPU",null,"TESTE DE COMISSIONAMENTO DOS SISTEMAS","UN ",1,2500,null,{"$f":"LEFT(TEXT(Tabela_DadosExternos_1[[#This Row],[ITEM ]],\"00\\.00\\.00\"),2)","v":"22"}]
[222008,"CPU",null,"PROJETO \"AS BUILT\"","UN ",1,7500,null,{"$f":"LEFT(TEXT(Tabela_DadosExternos_1[[#This Row],[ITEM ]],\"00\\.00\\.00\"),2)","v":"22"}]
[222009,"CPU",null,"DATA BOOK DO PROJETO","UN ",1,1600,null,{"$f":"LEFT(TEXT(Tabela_DadosExternos_1[[#This Row],[ITEM ]],\"00\\.00\\.00\"),2)","v":"22"}]
[222010,"CPU",null,"ASSISTENCIA A PARTIDA DA PLANTA E TREINAMENTO DE EQUIPE","UN ",1,700,null,{"$f":"LEFT(TEXT(Tabela_DadosExternos_1[[#This Row],[ITEM ]],\"00\\.00\\.00\"),2)","v":"22"}]
[222100,".",".","SISTEMA 003 - 3º PAVIMENTO (E) - EQUIPAMENTOS",null,null,null,null,{"$f":"LEFT(TEXT(Tabela_DadosExternos_1[[#This Row],[ITEM ]],\"00\\.00\\.00\"),2)","v":"22"}]
[222101,"CPU",null,"CASSETE UE3.04A","UN ",1,12300,null,{"$f":"LEFT(TEXT(Tabela_DadosExternos_1[[#This Row],[ITEM ]],\"00\\.00\\.00\"),2)","v":"22"}]
[222102,"CPU",null,"CASSETE UE3.04B","UN ",1,12300,null,{"$f":"LEFT(TEXT(Tabela_DadosExternos_1[[#This Row],[ITEM ]],\"00\\.00\\.00\"),2)","v":"22"}]
[222103,"CPU",null,"CASSETE UE3.05","UN ",1,8400,null,{"$f":"LEFT(TEXT(Tabela_DadosExternos_1[[#This Row],[ITEM ]],\"00\\.00\\.00\"),2)","v":"22"}]
[222104,"CPU",null,"CASSETE UE3.06A","UN ",1,12300,null,{"$f":"LEFT(TEXT(Tabela_DadosExternos_1[[#This Row],[ITEM ]],\"00\\.00\\.00\"),2)","v":"22"}]
[222105,"CPU",null,"CASSETE UE3.06B","UN ",1,12300,null,{"$f":"LEFT(TEXT(Tabela_DadosExternos_1[[#This Row],[ITEM ]],\"00\\.00\\.00\"),2)","v":"22"}]
[222106,"CPU",null,"HIWALL UE3.07","UN ",1,8100,null,{"$f":"LEFT(TEXT(Tabela_DadosExternos_1[[#This Row],[ITEM ]],\"00\\.00\\.00\"),2)","v":"22"}]
[222107,"CPU",null,"HIWALL UE3.08","UN ",1,8300,null,{"$f":"LEFT(TEXT(Tabela_DadosExternos_1[[#This Row],[ITEM ]],\"00\\.00\\.00\"),2)","v":"22"}]
[222108,"CPU",null,"HIWALL UE3.12","UN ",1,8400,null,{"$f":"LEFT(TEXT(Tabela_DadosExternos_1[[#This Row],[ITEM ]],\"00\\.00\\.00\"),2)","v":"22"}]
[222109,"CPU",null,"CASSETE UE3.13A","UN ",1,12300,null,{"$f":"LEFT(TEXT(Tabela_DadosExternos_1[[#This Row],[ITEM ]],\"00\\.00\\.00\"),2)","v":"22"}]
[222110,"CPU",null,"CASSETE UE3.13B","UN ",1,12300,null,{"$f":"LEFT(TEXT(Tabela_DadosExternos_1[[#This Row],[ITEM ]],\"00\\.00\\.00\"),2)","v":"22"}]
[222111,"CPU",null,"HIWALL UE3.14","UN ",1,8100,null,{"$f":"LEFT(TEXT(Tabela_DadosExternos_1[[#This Row],[ITEM ]],\"00\\.00\\.00\"),2)","v":"22"}]
[222112,"CPU",null,"CASSETE UE3.15A","UN ",1,12300,null,{"$f":"LEFT(TEXT(Tabela_DadosExternos_1[[#This Row],[ITEM ]],\"00\\.00\\.00\"),2)","v":"22"}]
[222113,"CPU",null,"CASSETE UE3.15B","UN ",1,12300,null,{"$f":"LEFT(TEXT(Tabela_DadosExternos_1[[#This Row],[ITEM ]],\"00\\.00\\.00\"),2)","v":"22"}]
[222114,"CPU",null,"HIWALL UE3.16","UN ",1,8400,null,{"$f":"LEFT(TEXT(Tabela_DadosExternos_1[[#This Row],[ITEM ]],\"00\\.00\\.00\"),2)","v":"22"}]
[222115,"CPU",null,"CONDENSADOR UC.004","UN ",1,186500,null,{"$f":"LEFT(TEXT(Tabela_DadosExternos_1[[#This Row],[ITEM ]],\"00\\.00\\.00\"),2)","v":"22"}]
[222116,"CPU",null,"VENTILADOR VE.004","UN ",1,10140,null,{"$f":"LEFT(TEXT(Tabela_DadosExternos_1[[#This Row],[ITEM ]],\"00\\.00\\.00\"),2)","v":"22"}]
[222200,".",".","SISTEMA 003 - 3º PAVIMENTO (E) - DUTOS E ACESSÓRIOS",null,null,null,null,{"$f":"LEFT(TEXT(Tabela_DadosExternos_1[[#This Row],[ITEM ]],\"00\\.00\\.00\"),2)","v":"22"}]
[222201,"CPU",null,"CHAPA GALVANIZADA #26","KG",460,8349,null,{"$f":"LEFT(TEXT(Tabela_DadosExternos_1[[#This Row],[ITEM ]],\"00\\.00\\.00\"),2)","v":"22"}]
[222202,"CPU",null,"PERFILADO TDC","M",200,4400,null,{"$f":"LEFT(TEXT(Tabela_DadosExternos_1[[#This Row],[ITEM ]],\"00\\.00\\.00\"),2)","v":"22"}]
[222203,"CPU",null,"CANTOS","UN ",680,442,null,{"$f":"LEFT(TEXT(Tabela_DadosExternos_1[[#This Row],[ITEM ]],\"00\\.00\\.00\"),2)","v":"22"}]
[222204,"CPU",null,"GRAMPOS","UN ",340,309.39999999999998,null,{"$f":"LEFT(TEXT(Tabela_DadosExternos_1[[#This Row],[ITEM ]],\"00\\.00\\.00\"),2)","v":"22"}]
[222205,"CPU",null,"FITA SILVER TAPE","M",100,200,null,{"$f":"LEFT(TEXT(Tabela_DadosExternos_1[[#This Row],[ITEM ]],\"00\\.00\\.00\"),2)","v":"22"}]
[222206,"CPU",null,"REBITE POP 3/16\"X1/2\"","UN ",2000,500,null,{"$f":"LEFT(TEXT(Tabela_DadosExternos_1[[#This Row],[ITEM ]],\"00\\.00\\.00\"),2)","v":"22"}]
[222207,"CPU",null,"KIT PARAFUSO 5/16\"","UN ",340,884,null,{"$f":"LEFT(TEXT(Tabela_DadosExternos_1[[#This Row],[ITEM ]],\"00\\.00\\.00\"),2)","v":"22"}]
[222208,"CPU",null,"GALVITE","GL",1,120,null,{"$f":"LEFT(TEXT(Tabela_DadosExternos_1[[#This Row],[ITEM ]],\"00\\.00\\.00\"),2)","v":"22"}]
[222209,"CPU",null,"TINTA ACABAMENTO","GL",3,225,null,{"$f":"LEFT(TEXT(Tabela_DadosExternos_1[[#This Row],[ITEM ]],\"00\\.00\\.00\"),2)","v":"22"}]
[222210,"CPU",null,"AGUARRAZ","L",1,16.899999999999999,null,{"$f":"LEFT(TEXT(Tabela_DadosExternos_1[[#This Row],[ITEM ]],\"00\\.00\\.00\"),2)","v":"22"}]
[222211,"CPU",null,"TRINCHA/ROLINHO","UN ",1,15.21,null,{"$f":"LEFT(TEXT(Tabela_DadosExternos_1[[#This Row],[ITEM ]],\"00\\.00\\.00\"),2)","v":"22"}]
[222212,"CPU",null,"AT 200X150","UN ",6,296.39999999999998,null,{"$f":"LEFT(TEXT(Tabela_DadosExternos_1[[#This Row],[ITEM ]],\"00\\.00\\.00\"),2)","v":"22"}]
[222213,"CPU",null,"AT 300X150","UN ",6,374.4,null,{"$f":"LEFT(TEXT(Tabela_DadosExternos_1[[#This Row],[ITEM ]],\"00\\.00\\.00\"),2)","v":"22"}]
[222300,".",".","SISTEMA 003 - 3º PAVIMENTO (E) - TUBULAÇÃO FRIGORÍGENA E ACESSÓRIOS",null,null,null,null,{"$f":"LEFT(TEXT(Tabela_DadosExternos_1[[#This Row],[ITEM ]],\"00\\.00\\.00\"),2)","v":"22"}]
[222301,"CPU",null,"TUBULAÇÃO DE COBRE 6,4MM","M",8,44.2,null,{"$f":"LEFT(TEXT(Tabela_DadosExternos_1[[#This Row],[ITEM ]],\"00\\.00\\.00\"),2)","v":"22"}]
[222302,"CPU",null,"TUBULAÇÃO DE COBRE 9,5MM","M",50,426.4,null,{"$f":"LEFT(TEXT(Tabela_DadosExternos_1[[#This Row],[ITEM ]],\"00\\.00\\.00\"),2)","v":"22"}]
[222303,"CPU",null,"TUBULAÇÃO DE COBRE 12,7MM","M",12,140.4,null,{"$f":"LEFT(TEXT(Tabela_DadosExternos_1[[#This Row],[ITEM ]],\"00\\.00\\.00\"),2)","v":"22"}]
[222304,"CPU",null,"TUBULAÇÃO DE COBRE 15,9MM","M",58,1628.9,null,{"$f":"LEFT(TEXT(Tabela_DadosExternos_1[[#This Row],[ITEM ]],\"00\\.00\\.00\"),2)","v":"22"}]
[222305,"CPU",null,"TUBULAÇÃO DE COBRE 19,1MM","M",35,1201.2,null,{"$f":"LEFT(TEXT(Tabela_DadosExternos_1[[#This Row],[ITEM ]],\"00\\.00\\.00\"),2)","v":"22"}]
[222306,"CPU",null,"TUBULAÇÃO DE COBRE 28,6MM","M",15,795.6,null,{"$f":"LEFT(TEXT(Tabela_DadosExternos_1[[#This Row],[ITEM ]],\"00\\.00\\.00\"),2)","v":"22"}]
[222307,"CPU",null,"TUBULAÇÃO DE COBRE 31,8MM","M",6,356.2,null,{"$f":"LEFT(TEXT(Tabela_DadosExternos_1[[#This Row],[ITEM ]],\"00\\.00\\.00\"),2)","v":"22"}]
[222308,"CPU",null,"TUBULAÇÃO DE COBRE 38,1MM","M",5,358.8,null,{"$f":"LEFT(TEXT(Tabela_DadosExternos_1[[#This Row],[ITEM ]],\"00\\.00\\.00\"),2)","v":"22"}]
[222309,"CPU",null,"TUBULAÇÃO DE COBRE 41,8MM","M",20,1556.1,null,{"$f":"LEFT(TEXT(Tabela_DadosExternos_1[[#This Row],[ITEM ]],\"00\\.00\\.00\"),2)","v":"22"}]
[222310,"CPU",null,"KIT REFINETE KHRP26A22T","UN ",2,814,null,{"$f":"LEFT(TEXT(Tabela_DadosExternos_1[[#This Row],[ITEM ]],\"00\\.00\\.00\"),2)","v":"22"}]
[222311,"CPU",null,"KIT REFINETE KHRP26A72T","UN ",4,1628,null,{"$f":"LEFT(TEXT(Tabela_DadosExternos_1[[#This Row],[ITEM ]],\"00\\.00\\.00\"),2)","v":"22"}]
[222312,"CPU",null,"KIT REFINETE KHRP26A73T","UN ",7,2849,null,{"$f":"LEFT(TEXT(Tabela_DadosExternos_1[[#This Row],[ITEM ]],\"00\\.00\\.00\"),2)","v":"22"}]
[222313,"CPU",null,"KIT DE CONEXÃO COND.","UN ",1,2222,null,{"$f":"LEFT(TEXT(Tabela_DadosExternos_1[[#This Row],[ITEM ]],\"00\\.00\\.00\"),2)","v":"22"}]
[222314,"CPU",null,"VALVULA ESFERA 6,7MM","UN ",3,169,null,{"$f":"LEFT(TEXT(Tabela_DadosExternos_1[[#This Row],[ITEM ]],\"00\\.00\\.00\"),2)","v":"22"}]
[222315,"CPU",null,"VALVULA ESFERA 9,5MM","UN ",11,195,null,{"$f":"LEFT(TEXT(Tabela_DadosExternos_1[[#This Row],[ITEM ]],\"00\\.00\\.00\"),2)","v":"22"}]
[222316,"CPU",null,"VALVULA ESFERA 12,7MM","UN ",4,260,null,{"$f":"LEFT(TEXT(Tabela_DadosExternos_1[[#This Row],[ITEM ]],\"00\\.00\\.00\"),2)","v":"22"}]
[222317,"CPU",null,"VALVULA ESFERA 15,9MM","UN ",2,325,null,{"$f":"LEFT(TEXT(Tabela_DadosExternos_1[[#This Row],[ITEM ]],\"00\\.00\\.00\"),2)","v":"22"}]
[222318,"CPU",null,"VALVULA ESFERA 28,6MM","UN ",2,455,null,{"$f":"LEFT(TEXT(Tabela_DadosExternos_1[[#This Row],[ITEM ]],\"00\\.00\\.00\"),2)","v":"22"}]
[222319,"CPU",null,"VALVULA ESFERA 25,4MM","UN ",1,325,null,{"$f":"LEFT(TEXT(Tabela_DadosExternos_1[[#This Row],[ITEM ]],\"00\\.00\\.00\"),2)","v":"22"}]
[222320,"CPU",null,"SIFÃO SIMPLES 19,1MM","UN ",2,21.53,null,{"$f":"LEFT(TEXT(Tabela_DadosExternos_1[[#This Row],[ITEM ]],\"00\\.00\\.00\"),2)","v":"22"}]
[222321,"CPU",null,"SIFÃO SIMPLES 41,3MM","M",2,137.47999999999999,null,{"$f":"LEFT(TEXT(Tabela_DadosExternos_1[[#This Row],[ITEM ]],\"00\\.00\\.00\"),2)","v":"22"}]
[222322,"CPU",null,"ESPUMA ELAST. 13MM - 6,4MM","M",8,59.18,null,{"$f":"LEFT(TEXT(Tabela_DadosExternos_1[[#This Row],[ITEM ]],\"00\\.00\\.00\"),2)","v":"22"}]
[222323,"CPU",null,"ESPUMA ELAST. 13MM - 9,5MM","M",50,426.4,null,{"$f":"LEFT(TEXT(Tabela_DadosExternos_1[[#This Row],[ITEM ]],\"00\\.00\\.00\"),2)","v":"22"}]
[222324,"CPU",null,"ESPUMA ELAST. 13MM - 12.7MM","M",12,113.26,null,{"$f":"LEFT(TEXT(Tabela_DadosExternos_1[[#This Row],[ITEM ]],\"00\\.00\\.00\"),2)","v":"22"}]
[222325,"CPU",null,"ESPUMA ELAST. 13MM - 15,9MM","M",58,624.30999999999995,null,{"$f":"LEFT(TEXT(Tabela_DadosExternos_1[[#This Row],[ITEM ]],\"00\\.00\\.00\"),2)","v":"22"}]
[222326,"CPU",null,"ESPUMA ELAST.13MM - 19,1MM","M",35,477.75,null,{"$f":"LEFT(TEXT(Tabela_DadosExternos_1[[#This Row],[ITEM ]],\"00\\.00\\.00\"),2)","v":"22"}]
[222327,"CPU",null,"ESPUMA ELAST. 13MM - 28,6MM","M",15,206.31,null,{"$f":"LEFT(TEXT(Tabela_DadosExternos_1[[#This Row],[ITEM ]],\"00\\.00\\.00\"),2)","v":"22"}]
[222328,"CPU",null,"ESPUMA ELAST. 13MM - 31,8MM","M",6,105.3,null,{"$f":"LEFT(TEXT(Tabela_DadosExternos_1[[#This Row],[ITEM ]],\"00\\.00\\.00\"),2)","v":"22"}]
[222329,"CPU",null,"ESPUMA ELAST. 13MM - 38,1MM","M",5,89.25,null,{"$f":"LEFT(TEXT(Tabela_DadosExternos_1[[#This Row],[ITEM ]],\"00\\.00\\.00\"),2)","v":"22"}]
[222330,"CPU",null,"ESPUMA ELAST. 13MM - 41,8MM","M",20,374.66,null,{"$f":"LEFT(TEXT(Tabela_DadosExternos_1[[#This Row],[ITEM ]],\"00\\.00\\.00\"),2)","v":"22"}]
[222400,".",".","SISTEMA 003 - 3º PAVIMENTO (E) - TUBULAÇÃO HIDRAULICA E ACESSÓRIOS",null,null,null,null,{"$f":"LEFT(TEXT(Tabela_DadosExternos_1[[#This Row],[ITEM ]],\"00\\.00\\.00\"),2)","v":"22"}]
[222401,"CPU",null,null,null,0,0,null,{"$f":"LEFT(TEXT(Tabela_DadosExternos_1[[#This Row],[ITEM ]],\"00\\.00\\.00\"),2)","v":"22"}]
[222500,".",".","SISTEMA 003 - 3º PAVIMENTO (E) - CABOS E QUADROS ELÉTRICOS",null,null,null,null,{"$f":"LEFT(TEXT(Tabela_DadosExternos_1[[#This Row],[ITEM ]],\"00\\.00\\.00\"),2)","v":"22"}]
[222501,"CPU",null,"CABO PP 3X2,5MM","M",300,1950,null,{"$f":"LEFT(TEXT(Tabela_DadosExternos_1[[#This Row],[ITEM ]],\"00\\.00\\.00\"),2)","v":"22"}]
[222600,".",".","SISTEMA 003 - 3º PAVIMENTO (E) - INSUMOS DA INSTALAÇÃO",null,null,null,null,{"$f":"LEFT(TEXT(Tabela_DadosExternos_1[[#This Row],[ITEM ]],\"00\\.00\\.00\"),2)","v":"22"}]
[222601,"CPU",null,"CARGA GÁS R410A","KG",26.7,1602,null,{"$f":"LEFT(TEXT(Tabela_DadosExternos_1[[#This Row],[ITEM ]],\"00\\.00\\.00\"),2)","v":"22"}]
[222602,"CPU",null,"PAINEL DECORATIVO 950X950","UN ",8,0,null,{"$f":"LEFT(TEXT(Tabela_DadosExternos_1[[#This Row],[ITEM ]],\"00\\.00\\.00\"),2)","v":"22"}]
[222603,"CPU",null,"CONTROLE REMOTO COM FIO","UN ",14,0,null,{"$f":"LEFT(TEXT(Tabela_DadosExternos_1[[#This Row],[ITEM ]],\"00\\.00\\.00\"),2)","v":"22"}]
[222700,".",".","SISTEMA 003 - 3º PAVIMENTO (E) - SERVIÇOS E OUTROS",null,null,null,null,{"$f":"LEFT(TEXT(Tabela_DadosExternos_1[[#This Row],[ITEM ]],\"00\\.00\\.00\"),2)","v":"22"}]
[222701,"CPU",null,"CANTEIRO DE OBRAS - MOBILIZAÇÃO, PROJETO, DESMOBILIZAÇÃO, MANUTENÇÃO","UN ",1,5000,null,{"$f":"LEFT(TEXT(Tabela_DadosExternos_1[[#This Row],[ITEM ]],\"00\\.00\\.00\"),2)","v":"22"}]
[222702,"CPU",null,"ENGENHARIA ADICIONAL PARA EXECUÇÃO DA OBRA","UN ",1,2000,null,{"$f":"LEFT(TEXT(Tabela_DadosExternos_1[[#This Row],[ITEM ]],\"00\\.00\\.00\"),2)","v":"22"}]
[222703,"CPU",null,"EQUIPE DE APOIO, SEGURANÇA, MEIO AMBIENTE","UN ",1,2000,null,{"$f":"LEFT(TEXT(Tabela_DadosExternos_1[[#This Row],[ITEM ]],\"00\\.00\\.00\"),2)","v":"22"}]
[222704,"CPU",null,"SEGUROS","UN ",1,3500,null,{"$f":"LEFT(TEXT(Tabela_DadosExternos_1[[#This Row],[ITEM ]],\"00\\.00\\.00\"),2)","v":"22"}]
[222705,"CPU",null,"ESTADIAS E VIAGENS","UN ",1,6000,null,{"$f":"LEFT(TEXT(Tabela_DadosExternos_1[[#This Row],[ITEM ]],\"00\\.00\\.00\"),2)","v":"22"}]
[222706,"CPU",null,"TAB - TESTE, AJUSTE E BALANCEAMENTO","UN ",1,5000,null,{"$f":"LEFT(TEXT(Tabela_DadosExternos_1[[#This Row],[ITEM ]],\"00\\.00\\.00\"),2)","v":"22"}]
[222707,"CPU",null,"TESTE DE COMISSIONAMENTO DOS SISTEMAS","UN ",1,2500,null,{"$f":"LEFT(TEXT(Tabela_DadosExternos_1[[#This Row],[ITEM ]],\"00\\.00\\.00\"),2)","v":"22"}]
[222708,"CPU",null,"PROJETO \"AS BUILT\"","UN ",1,7500,null,{"$f":"LEFT(TEXT(Tabela_DadosExternos_1[[#This Row],[ITEM ]],\"00\\.00\\.00\"),2)","v":"22"}]
[222709,"CPU",null,"DATA BOOK DO PROJETO","UN ",1,1600,null,{"$f":"LEFT(TEXT(Tabela_DadosExternos_1[[#This Row],[ITEM ]],\"00\\.00\\.00\"),2)","v":"22"}]
[222710,"CPU",null,"ASSISTENCIA A PARTIDA DA PLANTA E TREINAMENTO DE EQUIPE","UN ",1,700,null,{"$f":"LEFT(TEXT(Tabela_DadosExternos_1[[#This Row],[ITEM ]],\"00\\.00\\.00\"),2)","v":"22"}]
[222800,".",".","SISTEMA 005 - EXAUTÃO - EQUIPAMENTOS",null,null,null,null,{"$f":"LEFT(TEXT(Tabela_DadosExternos_1[[#This Row],[ITEM ]],\"00\\.00\\.00\"),2)","v":"22"}]
[222801,"CPU",null,"VENTILADOR VE.004","UN ",1,5850,null,{"$f":"LEFT(TEXT(Tabela_DadosExternos_1[[#This Row],[ITEM ]],\"00\\.00\\.00\"),2)","v":"22"}]
[222802,"CPU",null,"VENTILADOR VE.005","UN ",1,5850,null,{"$f":"LEFT(TEXT(Tabela_DadosExternos_1[[#This Row],[ITEM ]],\"00\\.00\\.00\"),2)","v":"22"}]
[222803,"CPU",null,"VENTILADOR VE.006","UN ",1,5850,null,{"$f":"LEFT(TEXT(Tabela_DadosExternos_1[[#This Row],[ITEM ]],\"00\\.00\\.00\"),2)","v":"22"}]
[222804,"CPU",null,"VENTILADOR VE.007","UN ",1,5850,null,{"$f":"LEFT(TEXT(Tabela_DadosExternos_1[[#This Row],[ITEM ]],\"00\\.00\\.00\"),2)","v":"22"}]
[222805,"CPU",null,"VENTILADOR VE.008","UN ",1,5850,null,{"$f":"LEFT(TEXT(Tabela_DadosExternos_1[[#This Row],[ITEM ]],\"00\\.00\\.00\"),2)","v":"22"}]
[222806,"CPU",null,"VENTILADOR VE.009","UN ",1,5850,null,{"$f":"LEFT(TEXT(Tabela_DadosExternos_1[[#This Row],[ITEM ]],\"00\\.00\\.00\"),2)","v":"22"}]
[222900,".",".","SISTEMA 005 - EXAUTÃO - DUTOS E ACESSÓRIOS",null,null,null,null,{"$f":"LEFT(TEXT(Tabela_DadosExternos_1[[#This Row],[ITEM ]],\"00\\.00\\.00\"),2)","v":"22"}]
[222901,"CPU",null,"TUBO DE PVC 4\"","M",150,2722.5,null,{"$f":"LEFT(TEXT(Tabela_DadosExternos_1[[#This Row],[ITEM ]],\"00\\.00\\.00\"),2)","v":"22"}]
[222902,"CPU",null,"KIT SUPORTE PARA TUBULAÇÃO 4\"","UN ",75,487.5,null,{"$f":"LEFT(TEXT(Tabela_DadosExternos_1[[#This Row],[ITEM ]],\"00\\.00\\.00\"),2)","v":"22"}]
[223000,".",".","SISTEMA 005 - EXAUTÃO - TUBULAÇÃO FRIGORÍGENA E ACESSÓRIOS",null,null,null,null,{"$f":"LEFT(TEXT(Tabela_DadosExternos_1[[#This Row],[ITEM ]],\"00\\.00\\.00\"),2)","v":"22"}]
[223001,"CPU",null,null,null,0,0,null,{"$f":"LEFT(TEXT(Tabela_DadosExternos_1[[#This Row],[ITEM ]],\"00\\.00\\.00\"),2)","v":"22"}]
[223100,".",".","SISTEMA 005 - EXAUTÃO - TUBULAÇÃO HIDRAULICA E ACESSÓRIOS",null,null,null,null,{"$f":"LEFT(TEXT(Tabela_DadosExternos_1[[#This Row],[ITEM ]],\"00\\.00\\.00\"),2)","v":"22"}]
[223101,"CPU",null,null,null,0,0,null,{"$f":"LEFT(TEXT(Tabela_DadosExternos_1[[#This Row],[ITEM ]],\"00\\.00\\.00\"),2)","v":"22"}]
[223200,".",".","SISTEMA 005 - EXAUTÃO - CABOS E QUADROS ELÉTRICOS",null,null,null,null,{"$f":"LEFT(TEXT(Tabela_DadosExternos_1[[#This Row],[ITEM ]],\"00\\.00\\.00\"),2)","v":"22"}]
[223201,"CPU",null,null,null,0,0,null,{"$f":"LEFT(TEXT(Tabela_DadosExternos_1[[#This Row],[ITEM ]],\"00\\.00\\.00\"),2)","v":"22"}]
[223300,".",".","SISTEMA 005 - EXAUTÃO - SERVIÇOS E OUTROS",null,null,null,null,{"$f":"LEFT(TEXT(Tabela_DadosExternos_1[[#This Row],[ITEM ]],\"00\\.00\\.00\"),2)","v":"22"}]
[223300,".",".","SISTEMA 005 - EXAUTÃO - INSUMOS DA INSTALAÇÃO",null,null,null,null,{"$f":"LEFT(TEXT(Tabela_DadosExternos_1[[#This Row],[ITEM ]],\"00\\.00\\.00\"),2)","v":"22"}]
[223301,"CPU",null,"CANTEIRO DE OBRAS - MOBILIZAÇÃO, PROJETO, DESMOBILIZAÇÃO, MANUTENÇÃO","UN ",1,5000,null,{"$f":"LEFT(TEXT(Tabela_DadosExternos_1[[#This Row],[ITEM ]],\"00\\.00\\.00\"),2)","v":"22"}]
[223301,"CPU",null,null,null,0,0,null,{"$f":"LEFT(TEXT(Tabela_DadosExternos_1[[#This Row],[ITEM ]],\"00\\.00\\.00\"),2)","v":"22"}]
[223302,"CPU",null,"ENGENHARIA ADICIONAL PARA EXECUÇÃO DA OBRA","UN ",1,2000,null,{"$f":"LEFT(TEXT(Tabela_DadosExternos_1[[#This Row],[ITEM ]],\"00\\.00\\.00\"),2)","v":"22"}]
[223303,"CPU",null,"EQUIPE DE APOIO, SEGURANÇA, MEIO AMBIENTE","UN ",1,2000,null,{"$f":"LEFT(TEXT(Tabela_DadosExternos_1[[#This Row],[ITEM ]],\"00\\.00\\.00\"),2)","v":"22"}]
[223304,"CPU",null,"SEGUROS","UN ",1,3500,null,{"$f":"LEFT(TEXT(Tabela_DadosExternos_1[[#This Row],[ITEM ]],\"00\\.00\\.00\"),2)","v":"22"}]
[223305,"CPU",null,"ESTADIAS E VIAGENS","UN ",1,6000,null,{"$f":"LEFT(TEXT(Tabela_DadosExternos_1[[#This Row],[ITEM ]],\"00\\.00\\.00\"),2)","v":"22"}]
[223306,"CPU",null,"TAB - TESTE, AJUSTE E BALANCEAMENTO","UN ",1,9000,null,{"$f":"LEFT(TEXT(Tabela_DadosExternos_1[[#This Row],[ITEM ]],\"00\\.00\\.00\"),2)","v":"22"}]
[223307,"CPU",null,"TESTE DE COMISSIONAMENTO DOS SISTEMAS","UN ",1,2500,null,{"$f":"LEFT(TEXT(Tabela_DadosExternos_1[[#This Row],[ITEM ]],\"00\\.00\\.00\"),2)","v":"22"}]
[223308,"CPU",null,"PROJETO \"AS BUILT\"","UN ",1,11000,null,{"$f":"LEFT(TEXT(Tabela_DadosExternos_1[[#This Row],[ITEM ]],\"00\\.00\\.00\"),2)","v":"22"}]
[223309,"CPU",null,"DATA BOOK DO PROJETO","UN ",1,2200,null,{"$f":"LEFT(TEXT(Tabela_DadosExternos_1[[#This Row],[ITEM ]],\"00\\.00\\.00\"),2)","v":"22"}]
[223310,"CPU",null,"ASSISTENCIA A PARTIDA DA PLANTA E TREINAMENTO DE EQUIPE","UN ",1,700,null,{"$f":"LEFT(TEXT(Tabela_DadosExternos_1[[#This Row],[ITEM ]],\"00\\.00\\.00\"),2)","v":"22"}]

{"sheet":"Modelo de Cronograma","index":1,"n_rows":129,"n_cols":88,"rows_kept":129,"cut":false,"hidden":false,"merged":[[89,75,89,76],[89,78,89,79],[89,81,89,82],[89,84,89,85],[104,5,105,5],[125,5,126,5],[89,57,89,58],[89,60,89,61],[89,63,89,64],[89,66,89,67],[89,69,89,70],[89,72,89,73],[89,39,89,40],[89,42,89,43],[89,45,89,46],[89,48,89,49],[89,51,89,52],[89,54,89,55],[89,12,89,13],[89,15,89,16],[89,18,89,19],[89,21,89,22],[89,24,89,25],[89,27,89,28],[85,78,85,79],[85,81,85,82],[85,48,85,49],[85,51,85,52],[85,54,85,55],[85,57,85,58],[85,60,85,61],[85,63,85,64],[85,30,85,31],[85,33,85,34],[85,69,85,70],[85,72,85,73],[85,75,85,76],[89,30,89,31],[89,33,89,34],[89,36,89,37],[81,78,81,79],[81,81,81,82],[81,84,81,85],[85,12,85,13],[85,15,85,16],[85,18,85,19],[85,21,85,22],[85,24,85,25],[85,27,85,28],[81,57,81,58],[81,60,81,61],[81,63,81,64],[81,66,81,67],[81,69,81,70],[81,72,81,73],[81,39,81,40],[81,42,81,43],[81,45,81,46],[81,48,81,49],[85,84,85,85],[85,66,85,67],[77,57,77,58],[77,60,77,61],[77,63,77,64],[85,36,85,37],[85,39,85,40],[85,42,85,43],[85,45,85,46],[81,75,81,76],[77,45,77,46],[73,75,73,76],[73,78,73,79],[73,81,73,82],[81,51,81,52],[81,54,81,55],[77,84,77,85],[81,12,81,13],[81,15,81,16],[81,18,81,19],[81,21,81,22],[81,24,81,25],[81,27,81,28],[81,30,81,31],[81,33,81,34],[81,36,81,37],[77,66,77,67],[77,69,77,70],[77,72,77,73],[77,75,77,76],[77,78,77,79],[77,81,77,82],[77,48,77,49],[77,51,77,52],[73,84,73,85],[77,12,77,13],[77,15,77,16],[77,18,77,19],[77,21,77,22],[77,24,77,25],[77,27,77,28],[73,57,73,58],[73,60,73,61],[73,63,73,64],[77,30,77,31],[77,33,77,34],[77,36,77,37],[77,39,77,40],[77,42,77,43],[73,12,73,13],[73,15,73,16],[73,18,73,19],[73,21,73,22],[73,24,73,25],[73,27,73,28],[73,30,73,31],[73,33,73,34],[73,36,73,37],[77,54,77,55],[73,66,73,67],[73,69,73,70],[73,72,73,73],[73,39,73,40],[73,42,73,43],[73,45,73,46],[73,48,73,49],[73,51,73,52],[73,54,73,55],[69,78,69,79],[69,81,69,82],[69,48,69,49],[69,51,69,52],[69,54,69,55],[69,57,69,58],[69,60,69,61],[69,63,69,64],[69,30,69,31],[69,33,69,34],[65,78,65,79],[65,81,65,82],[65,84,65,85],[69,12,69,13],[69,15,69,16],[69,18,69,19],[69,21,69,22],[69,24,69,25],[69,27,69,28],[65,57,65,58],[65,60,65,61],[65,63,65,64],[65,66,65,67],[65,69,65,70],[65,72,65,73],[65,39,65,40],[65,42,65,43],[65,45,65,46],[65,48,65,49],[69,84,69,85],[69,66,69,67],[69,69,69,70],[69,72,69,73],[69,75,69,76],[61,57,61,58],[61,60,61,61],[61,63,61,64],[69,36,69,37],[69,39,69,40],[69,42,69,43],[69,45,69,46],[65,75,65,76],[61,45,61,46],[57,75,57,76],[57,78,57,79],[57,81,57,82],[65,51,65,52],[65,54,65,55],[61,84,61,85],[65,12,65,13],[65,15,65,16],[65,18,65,19],[65,21,65,22],[65,24,65,25],[65,27,65,28],[65,30,65,31],[65,33,65,34],[65,36,65,37],[61,66,61,67],[61,69,61,70],[61,72,61,73],[61,75,61,76],[61,78,61,79],[61,81,61,82],[61,48,61,49],[61,51,61,52],[57,84,57,85],[61,12,61,13],[61,15,61,16],[61,18,61,19],[61,21,61,22],[61,24,61,25],[61,27,61,28],[57,57,57,58],[57,60,57,61],[57,63,57,64],[61,30,61,31],[61,33,61,34],[61,36,61,37],[61,39,61,40],[61,42,61,43],[57,12,57,13],[57,15,57,16],[57,18,57,19],[57,21,57,22],[57,24,57,25],[57,27,57,28],[57,30,57,31],[57,33,57,34],[57,36,57,37],[61,54,61,55],[57,66,57,67],[57,69,57,70],[57,72,57,73],[57,39,57,40],[57,42,57,43],[57,45,57,46],[57,48,57,49],[57,51,57,52],[57,54,57,55],[53,78,53,79],[53,81,53,82],[53,48,53,49],[53,51,53,52],[53,54,53,55],[53,57,53,58],[53,60,53,61],[53,63,53,64],[53,30,53,31],[53,33,53,34],[49,78,49,79],[49,81,49,82],[49,84,49,85],[53,12,53,13],[53,15,53,16],[53,18,53,19],[53,21,53,22],[53,24,53,25],[53,27,53,28],[49,57,49,58],[49,60,49,61],[49,63,49,64],[49,66,49,67],[49,69,49,70],[49,72,49,73],[49,39,49,40],[49,42,49,43],[49,45,49,46],[49,48,49,49],[53,84,53,85],[53,66,53,67],[53,69,53,70],[53,72,53,73],[53,75,53,76],[45,57,45,58],[45,60,45,61],[45,63,45,64],[53,36,53,37],[53,39,53,40],[53,42,53,43],[53,45,53,46],[49,75,49,76],[45,45,45,46],[41,75,41,76],[41,78,41,79],[41,81,41,82],[49,51,49,52],[49,54,49,55],[45,84,45,85],[49,12,49,13],[49,15,49,16],[49,18,49,19],[49,21,49,22],[49,24,49,25],[49,27,49,28],[49,30,49,31],[49,33,49,34],[49,36,49,37],[45,66,45,67],[45,69,45,70],[45,72,45,73],[45,75,45,76],[45,78,45,79],[45,81,45,82],[45,48,45,49],[45,51,45,52],[41,84,41,85],[45,12,45,13],[45,15,45,16],[45,18,45,19],[45,21,45,22],[45,24,45,25],[45,27,45,28],[41,57,41,58],[41,60,41,61],[41,63,41,64],[45,30,45,31],[45,33,45,34],[45,36,45,37],[45,39,45,40],[45,42,45,43],[41,12,41,13],[41,15,41,16],[41,18,41,19],[41,21,41,22],[41,24,41,25],[41,27,41,28],[41,30,41,31],[41,33,41,34],[41,36,41,37],[45,54,45,55],[41,66,41,67],[41,69,41,70],[41,72,41,73],[41,39,41,40],[41,42,41,43],[41,45,41,46],[41,48,41,49],[41,51,41,52],[41,54,41,55],[37,78,37,79],[37,81,37,82],[37,48,37,49],[37,51,37,52],[37,54,37,55],[37,57,37,58],[37,60,37,61],[37,63,37,64],[37,30,37,31],[37,33,37,34],[33,78,33,79],[33,81,33,82],[33,84,33,85],[37,12,37,13],[37,15,37,16],[37,18,37,19],[37,21,37,22],[37,24,37,25],[37,27,37,28],[33,57,33,58],[33,60,33,61],[33,63,33,64],[33,66,33,67],[33,69,33,70],[33,72,33,73],[33,39,33,40],[33,42,33,43],[33,45,33,46],[33,48,33,49],[37,84,37,85],[37,66,37,67],[37,69,37,70],[37,72,37,73],[37,75,37,76],[29,57,29,58],[29,60,29,61],[29,63,29,64],[37,36,37,37],[37,39,37,40],[37,42,37,43],[37,45,37,46],[33,75,33,76],[29,45,29,46],[25,75,25,76],[25,78,25,79],[25,81,25,82],[33,51,33,52],[33,54,33,55],[29,84,29,85],[33,12,33,13],[33,15,33,16],[33,18,33,19],[33,21,33,22],[33,24,33,25],[33,27,33,28],[33,30,33,31],[33,33,33,34],[33,36,33,37],[29,66,29,67],[29,69,29,70],[29,72,29,73],[29,75,29,76],[29,78,29,79],[29,81,29,82],[29,48,29,49],[29,51,29,52],[25,84,25,85],[29,12,29,13],[29,15,29,16],[29,18,29,19],[29,21,29,22],[29,24,29,25],[29,27,29,28],[25,57,25,58],[25,60,25,61],[25,63,25,64],[29,30,29,31],[29,33,29,34],[29,36,29,37],[29,39,29,40],[29,42,29,43],[25,12,25,13],[25,15,25,16],[25,18,25,19],[25,21,25,22],[25,24,25,25],[25,27,25,28],[25,30,25,31],[25,33,25,34],[25,36,25,37],[29,54,29,55],[25,66,25,67],[25,69,25,70],[25,72,25,73],[25,39,25,40],[25,42,25,43],[25,45,25,46],[25,48,25,49],[25,51,25,52],[25,54,25,55],[21,12,21,13],[21,15,21,16],[21,18,21,19],[21,21,21,22],[21,24,21,25],[21,27,21,28],[17,57,17,58],[17,60,17,61],[17,63,17,64],[17,39,17,40],[17,42,17,43],[17,45,17,46],[17,48,17,49],[21,48,21,49],[21,51,21,52],[21,54,21,55],[21,57,21,58],[21,60,21,61],[21,63,21,64],[21,30,21,31],[21,33,21,34],[21,36,21,37],[21,39,21,40],[21,42,21,43],[21,45,21,46],[17,75,17,76],[13,45,13,46],[17,78,17,79],[17,81,17,82],[17,84,17,85],[17,66,17,67],[17,69,17,70],[17,72,17,73],[21,84,21,85],[21,66,21,67],[21,69,21,70],[21,72,21,73],[21,75,21,76],[21,78,21,79],[21,81,21,82],[9,75,9,76],[9,78,9,79],[9,81,9,82],[17,51,17,52],[17,54,17,55],[13,84,13,85],[17,12,17,13],[17,15,17,16],[17,18,17,19],[17,21,17,22],[17,24,17,25],[17,27,17,28],[17,30,17,31],[17,33,17,34],[17,36,17,37],[13,66,13,67],[13,69,13,70],[13,72,13,73],[13,75,13,76],[13,78,13,79],[13,81,13,82],[13,48,13,49],[13,51,13,52],[9,84,9,85],[13,12,13,13],[13,15,13,16],[13,18,13,19],[13,21,13,22],[13,24,13,25],[13,27,13,28],[9,57,9,58],[9,60,9,61],[9,63,9,64],[13,30,13,31],[13,33,13,34],[13,36,13,37],[13,39,13,40],[13,42,13,43],[13,54,13,55],[13,57,13,58],[13,60,13,61],[13,63,13,64],[9,66,9,67],[9,69,9,70],[9,72,9,73],[9,39,9,40],[9,42,9,43],[9,45,9,46],[9,48,9,49],[9,51,9,52],[9,54,9,55],[6,84,6,85],[9,12,9,13],[9,15,9,16],[9,18,9,19],[9,21,9,22],[9,24,9,25],[9,27,9,28],[9,30,9,31],[9,33,9,34],[9,36,9,37],[6,66,6,67],[6,69,6,70],[6,72,6,73],[6,75,6,76],[6,78,6,79],[6,81,6,82],[6,48,6,49],[6,51,6,52],[6,54,6,55],[6,57,6,58],[6,60,6,61],[6,63,6,64],[6,30,6,31],[6,33,6,34],[6,39,6,40],[6,42,6,43],[6,45,6,46],[6,12,6,13],[6,15,6,16],[6,18,6,19],[6,21,6,22],[6,24,6,25],[6,27,6,28],[0,5,0,6],[1,5,3,10],[4,5,4,10],[5,2,7,2],[5,3,7,4],[5,5,7,5],[5,6,7,6],[6,8,7,8],[6,36,6,37],[93,12,93,13],[93,15,93,16],[93,18,93,19],[93,21,93,22],[93,24,93,25],[93,27,93,28],[93,30,93,31],[93,33,93,34],[93,36,93,37],[93,66,93,67],[93,69,93,70],[93,72,93,73],[93,75,93,76],[93,78,93,79],[93,81,93,82],[93,84,93,85],[93,39,93,40],[93,42,93,43],[93,45,93,46],[93,48,93,49],[93,51,93,52],[93,54,93,55],[93,57,93,58],[93,60,93,61],[93,63,93,64]]}
[]
[null,null,null,null,null,"CONCLUSÃO DAS OBRAS DE EDIFICAÇÃO E INFRAESTRUTURA DO \nCAMPUS SÃO BERNARDO DO CAMPO"]
[]
[]
[null,null,null,null,null,"ANEXO V - MODELO DE CRONOGRAMA FÍSICO-FINANCEIRO"]
[null,null,"ITEM ","REFERÊNCIA",null,"DESCRIÇÃO DOS SERVIÇOS","UNID",null,"CONTRATO",null,"CONTRATO",null,1,2,null,1,2,null,1,2,null,1,2,null,1,2,null,1,2,null,1,2,null,1,2,null,1,2,null,1,2,null,1,2,null,1,null,null,1,null,null,1,null,null,1,null,null,1,null,null,1,null,null,1,null,null,1,null,null,1,null,null,1,null,null,1,null,null,1,null,null,1]
[null,null,null,null,null,null,null,null,"QUANTIDADE","CUSTO (R$)","CUSTO",null,1,null,null,{"$f":"M7+1","v":2},null,null,{"$f":"P7+1","v":3},null,null,{"$f":"S7+1","v":4},null,null,{"$f":"V7+1","v":5},null,null,{"$f":"Y7+1","v":6},null,null,{"$f":"AB7+1","v":7},null,null,{"$f":"AE7+1","v":8},null,null,{"$f":"AH7+1","v":9},null,null,{"$f":"AK7+1","v":10},null,null,{"$f":"AN7+1","v":11},null,null,{"$f":"AQ7+1","v":12},null,null,{"$f":"AT7+1","v":13},null,null,{"$f":"AW7+1","v":14},null,null,{"$f":"AZ7+1","v":15},null,null,{"$f":"BC7+1","v":16},null,null,{"$f":"BF7+1","v":17},null,null,{"$f":"BI7+1","v":18},null,null,{"$f":"BL7+1","v":19},null,null,{"$f":"BO7+1","v":20},null,null,{"$f":"BR7+1","v":21},null,null,{"$f":"BU7+1","v":22},null,null,{"$f":"BX7+1","v":23},null,null,{"$f":"CA7+1","v":24},null,null,"TOTAL"]
[null,null,null,null,null,null,null,null,null,"UNITÁRIO","TOTAL",null,"CUSTO (R$)","%",null,"CUSTO (R$)","%",null,"CUSTO (R$)","%",null,"CUSTO (R$)","%",null,"CUSTO (R$)","%",null,"CUSTO (R$)","%",null,"CUSTO (R$)","%",null,"CUSTO (R$)","%",null,"CUSTO (R$)","%",null,"CUSTO (R$)","%",null,"CUSTO (R$)","%",null,"CUSTO (R$)","%",null,"CUSTO (R$)","%",null,"CUSTO (R$)","%",null,"CUSTO (R$)","%",null,"CUSTO (R$)","%",null,"CUSTO (R$)","%",null,"CUSTO (R$)","%",null,"CUSTO (R$)","%",null,"CUSTO (R$)","%",null,"CUSTO (R$)","%",null,"CUSTO (R$)","%",null,"CUSTO (R$)","%",null,"CUSTO (R$)","%",null,"CUSTO (R$)","%"]
[null,null,null,null,null,null,null,null,1]
[{"$f":"A9+1","v":1},null,10000,".",".",{"$f":"VLOOKUP(C10,Orc,4)","v":"CANTEIRO DE OBRAS"},null,null,".",null,null,null,{"$f":"IF(N12=0,0,N12)","v":0},null,null,{"$f":"IF(Q12=0,M10,M10+Q12)","v":0},null,null,{"$f":"IF(T12=0,P10,P10+T12)","v":0},null,null,{"$f":"IF(W12=0,S10,S10+W12)","v":0},null,null,{"$f":"IF(Z12=0,V10,V10+Z12)","v":0},null,null,{"$f":"IF(AC12=0,Y10,Y10+AC12)","v":0},null,null,{"$f":"IF(AF12=0,AB10,AB10+AF12)","v":0},null,null,{"$f":"IF(AI12=0,AE10,AE10+AI12)","v":0},null,null,{"$f":"IF(AL12=0,AH10,AH10+AL12)","v":0},null,null,{"$f":"IF(AO12=0,AK10,AK10+AO12)","v":0},null,null,{"$f":"IF(AR12=0,AN10,AN10+AR12)","v":0},null,null,{"$f":"IF(AU12=0,AQ10,AQ10+AU12)","v":0},null,null,{"$f":"IF(AX12=0,AT10,AT10+AX12)","v":0},null,null,{"$f":"IF(BA12=0,AW10,AW10+BA12)","v":0},null,null,{"$f":"IF(BD12=0,AZ10,AZ10+BD12)","v":0},null,null,{"$f":"IF(BG12=0,BC10,BC10+BG12)","v":0},null,null,{"$f":"IF(BJ12=0,BF10,BF10+BJ12)","v":0},null,null,{"$f":"IF(BM12=0,BI10,BI10+BM12)","v":0},null,null,{"$f":"IF(BP12=0,BL10,BL10+BP12)","v":0},null,null,{"$f":"IF(BS12=0,BO10,BO10+BS12)","v":0},null,null,{"$f":"IF(BV12=0,BR10,BR10+BV12)","v":0},null,null,{"$f":"IF(BY12=0,BU10,BU10+BY12)","v":0},null,null,{"$f":"IF(CB12=0,BX10,BX10+CB12)","v":0},null,null,{"$f":"IF(CE12=0,CA10,CA10+CE12)","v":0},null,null,{"$f":"IFERROR(CG12/K12,0)","v":0}]
[null,null,".",null,"0",null,null,null,"."]
[{"$f":"#REF!+1","v":{"$error":"#REF!"}},null,"$",{"$f":"F12","v":10000},"$$",{"$f":"C10","v":10000},null,null,".",null,0,null,{"$f":"ROUND(N12*$K12,2)","v":0},null,null,{"$f":"ROUND(Q12*$K12,2)","v":0},null,null,{"$f":"ROUND(T12*$K12,2)","v":0},null,null,{"$f":"ROUND(W12*$K12,2)","v":0},null,null,{"$f":"ROUND(Z12*$K12,2)","v":0},null,null,{"$f":"ROUND(AC12*$K12,2)","v":0},null,null,{"$f":"ROUND(AF12*$K12,2)","v":0},null,null,{"$f":"ROUND(AI12*$K12,2)","v":0},null,null,{"$f":"ROUND(AL12*$K12,2)","v":0},null,null,{"$f":"ROUND(AO12*$K12,2)","v":0},null,null,{"$f":"ROUND(AR12*$K12,2)","v":0},null,null,{"$f":"ROUND(AU12*$K12,2)","v":0},null,null,{"$f":"ROUND(AX12*$K12,2)","v":0},null,null,{"$f":"ROUND(BA12*$K12,2)","v":0},null,null,{"$f":"ROUND(BD12*$K12,2)","v":0},null,null,{"$f":"ROUND(BG12*$K12,2)","v":0},null,null,{"$f":"ROUND(BJ12*$K12,2)","v":0},null,null,{"$f":"ROUND(BM12*$K12,2)","v":0},null,null,{"$f":"ROUND(BP12*$K12,2)","v":0},null,null,{"$f":"ROUND(BS12*$K12,2)","v":0},null,null,{"$f":"ROUND(BV12*$K12,2)","v":0},null,null,{"$f":"ROUND(BY12*$K12,2)","v":0},null,null,{"$f":"ROUND(CB12*$K12,2)","v":0},null,null,{"$f":"ROUND(CE12*$K12,2)","v":0},null,null,{"$f":"SUMIF(L$6:CF$6,\"=1\",$L12:$CF12)","v":0},null,null,{"$f":"K12-CG12","v":0}]
[{"$f":"A12+1","v":{"$error":"#REF!"}},null,"."]
[{"$f":"A13+1","v":{"$error":"#REF!"}},null,{"$f":"C10+10000","v":20000},".",".",{"$f":"VLOOKUP(C14,Orc,4)","v":"PROJETOS EXECUTIVOS"},null,null,".",null,null,null,{"$f":"IF(N16=0,0,N16)","v":0},null,null,{"$f":"IF(Q16=0,M14,M14+Q16)","v":0},null,null,{"$f":"IF(T16=0,P14,P14+T16)","v":0},null,null,{"$f":"IF(W16=0,S14,S14+W16)","v":0},null,null,{"$f":"IF(Z16=0,V14,V14+Z16)","v":0},null,null,{"$f":"IF(AC16=0,Y14,Y14+AC16)","v":0},null,null,{"$f":"IF(AF16=0,AB14,AB14+AF16)","v":0},null,null,{"$f":"IF(AI16=0,AE14,AE14+AI16)","v":0},null,null,{"$f":"IF(AL16=0,AH14,AH14+AL16)","v":0},null,null,{"$f":"IF(AO16=0,AK14,AK14+AO16)","v":0},null,null,{"$f":"IF(AR16=0,AN14,AN14+AR16)","v":0},null,null,{"$f":"IF(AU16=0,AQ14,AQ14+AU16)","v":0},null,null,{"$f":"IF(AX16=0,AT14,AT14+AX16)","v":0},null,null,{"$f":"IF(BA16=0,AW14,AW14+BA16)","v":0},null,null,{"$f":"IF(BD16=0,AZ14,AZ14+BD16)","v":0},null,null,{"$f":"IF(BG16=0,BC14,BC14+BG16)","v":0},null,null,{"$f":"IF(BJ16=0,BF14,BF14+BJ16)","v":0},null,null,{"$f":"IF(BM16=0,BI14,BI14+BM16)","v":0},null,null,{"$f":"IF(BP16=0,BL14,BL14+BP16)","v":0},null,null,{"$f":"IF(BS16=0,BO14,BO14+BS16)","v":0},null,null,{"$f":"IF(BV16=0,BR14,BR14+BV16)","v":0},null,null,{"$f":"IF(BY16=0,BU14,BU14+BY16)","v":0},null,null,{"$f":"IF(CB16=0,BX14,BX14+CB16)","v":0},null,null,{"$f":"IF(CE16=0,CA14,CA14+CE16)","v":0},null,null,{"$f":"IFERROR(CG16/K16,0)","v":0}]
[null,null,null,null,"0",null,null,null,"."]
[{"$f":"#REF!+1","v":{"$error":"#REF!"}},null,"$",{"$f":"F16","v":20000},"$$",{"$f":"C14","v":20000},null,null,".",null,0,null,{"$f":"ROUND(N16*$K16,2)","v":0},null,null,{"$f":"ROUND(Q16*$K16,2)","v":0},null,{"$f":"ROUND(S16*$K16,2)","v":0},null,{"$f":"ROUND(U16*$K16,2)","v":0},null,{"$f":"ROUND(W16*$K16,2)","v":0},null,{"$f":"ROUND(Y16*$K16,2)","v":0},null,{"$f":"ROUND(AA16*$K16,2)","v":0},null,{"$f":"ROUND(AC16*$K16,2)","v":0},null,{"$f":"ROUND(AE16*$K16,2)","v":0},null,{"$f":"ROUND(AG16*$K16,2)","v":0},null,{"$f":"ROUND(AI16*$K16,2)","v":0},null,{"$f":"ROUND(AK16*$K16,2)","v":0},null,{"$f":"ROUND(AM16*$K16,2)","v":0},null,{"$f":"ROUND(AO16*$K16,2)","v":0},null,{"$f":"ROUND(AQ16*$K16,2)","v":0},null,{"$f":"ROUND(AS16*$K16,2)","v":0},null,{"$f":"ROUND(AU16*$K16,2)","v":0},null,{"$f":"ROUND(AW16*$K16,2)","v":0},null,{"$f":"ROUND(AY16*$K16,2)","v":0},null,{"$f":"ROUND(BA16*$K16,2)","v":0},null,{"$f":"ROUND(BC16*$K16,2)","v":0},null,{"$f":"ROUND(BE16*$K16,2)","v":0},null,{"$f":"ROUND(BG16*$K16,2)","v":0},null,{"$f":"ROUND(BI16*$K16,2)","v":0},null,{"$f":"ROUND(BK16*$K16,2)","v":0},null,{"$f":"ROUND(BM16*$K16,2)","v":0},null,{"$f":"ROUND(BO16*$K16,2)","v":0},null,{"$f":"ROUND(BQ16*$K16,2)","v":0},null,{"$f":"ROUND(BS16*$K16,2)","v":0},null,{"$f":"ROUND(BU16*$K16,2)","v":0},null,{"$f":"ROUND(BW16*$K16,2)","v":0},null,{"$f":"ROUND(BY16*$K16,2)","v":0},null,{"$f":"ROUND(CA16*$K16,2)","v":0},null,{"$f":"ROUND(CC16*$K16,2)","v":0},null,{"$f":"ROUND(CE16*$K16,2)","v":0},null,null,{"$f":"SUMIF(L$6:CF$6,\"=1\",$L16:$CF16)","v":0},null,null,{"$f":"K16-CG16","v":0}]
[{"$f":"A16+1","v":{"$error":"#REF!"}},null,"."]
[{"$f":"A17+1","v":{"$error":"#REF!"}},null,{"$f":"C14+10000","v":30000},".",".",{"$f":"VLOOKUP(C18,Orc,4)","v":"PAISAGISMO"},null,null,".",null,null,null,{"$f":"IF(N20=0,0,N20)","v":0},null,null,{"$f":"IF(Q20=0,M18,M18+Q20)","v":0},null,null,{"$f":"IF(T20=0,P18,P18+T20)","v":0},null,null,{"$f":"IF(W20=0,S18,S18+W20)","v":0},null,null,{"$f":"IF(Z20=0,V18,V18+Z20)","v":0},null,null,{"$f":"IF(AC20=0,Y18,Y18+AC20)","v":0},null,null,{"$f":"IF(AF20=0,AB18,AB18+AF20)","v":0},null,null,{"$f":"IF(AI20=0,AE18,AE18+AI20)","v":0},null,null,{"$f":"IF(AL20=0,AH18,AH18+AL20)","v":0},null,null,{"$f":"IF(AO20=0,AK18,AK18+AO20)","v":0},null,null,{"$f":"IF(AR20=0,AN18,AN18+AR20)","v":0},null,null,{"$f":"IF(AU20=0,AQ18,AQ18+AU20)","v":0},null,null,{"$f":"IF(AX20=0,AT18,AT18+AX20)","v":0},null,null,{"$f":"IF(BA20=0,AW18,AW18+BA20)","v":0},null,null,{"$f":"IF(BD20=0,AZ18,AZ18+BD20)","v":0},null,null,{"$f":"IF(BG20=0,BC18,BC18+BG20)","v":0},null,null,{"$f":"IF(BJ20=0,BF18,BF18+BJ20)","v":0},null,null,{"$f":"IF(BM20=0,BI18,BI18+BM20)","v":0},null,null,{"$f":"IF(BP20=0,BL18,BL18+BP20)","v":0},null,null,{"$f":"IF(BS20=0,BO18,BO18+BS20)","v":0},null,null,{"$f":"IF(BV20=0,BR18,BR18+BV20)","v":0},null,null,{"$f":"IF(BY20=0,BU18,BU18+BY20)","v":0},null,null,{"$f":"IF(CB20=0,BX18,BX18+CB20)","v":0},null,null,{"$f":"IF(CE20=0,CA18,CA18+CE20)","v":0},null,null,{"$f":"IFERROR(CG20/K20,0)","v":0}]
[null,null,null,null,"0",null,null,null,"."]
[{"$f":"#REF!+1","v":{"$error":"#REF!"}},null,"$",{"$f":"F20","v":30000},"$$",{"$f":"C18","v":30000},null,null,".",null,0,null,{"$f":"ROUND(N20*$K20,2)","v":0},null,null,{"$f":"ROUND(Q20*$K20,2)","v":0},null,{"$f":"ROUND(S20*$K20,2)","v":0},null,{"$f":"ROUND(U20*$K20,2)","v":0},null,{"$f":"ROUND(W20*$K20,2)","v":0},null,{"$f":"ROUND(Y20*$K20,2)","v":0},null,{"$f":"ROUND(AA20*$K20,2)","v":0},null,{"$f":"ROUND(AC20*$K20,2)","v":0},null,{"$f":"ROUND(AE20*$K20,2)","v":0},null,{"$f":"ROUND(AG20*$K20,2)","v":0},null,{"$f":"ROUND(AI20*$K20,2)","v":0},null,{"$f":"ROUND(AK20*$K20,2)","v":0},null,{"$f":"ROUND(AM20*$K20,2)","v":0},null,{"$f":"ROUND(AO20*$K20,2)","v":0},null,{"$f":"ROUND(AQ20*$K20,2)","v":0},null,{"$f":"ROUND(AS20*$K20,2)","v":0},null,{"$f":"ROUND(AU20*$K20,2)","v":0},null,{"$f":"ROUND(AW20*$K20,2)","v":0},null,{"$f":"ROUND(AY20*$K20,2)","v":0},null,{"$f":"ROUND(BA20*$K20,2)","v":0},null,{"$f":"ROUND(BC20*$K20,2)","v":0},null,{"$f":"ROUND(BE20*$K20,2)","v":0},null,{"$f":"ROUND(BG20*$K20,2)","v":0},null,{"$f":"ROUND(BI20*$K20,2)","v":0},null,{"$f":"ROUND(BK20*$K20,2)","v":0},null,{"$f":"ROUND(BM20*$K20,2)","v":0},null,{"$f":"ROUND(BO20*$K20,2)","v":0},null,{"$f":"ROUND(BQ20*$K20,2)","v":0},null,{"$f":"ROUND(BS20*$K20,2)","v":0},null,{"$f":"ROUND(BU20*$K20,2)","v":0},null,{"$f":"ROUND(BW20*$K20,2)","v":0},null,{"$f":"ROUND(BY20*$K20,2)","v":0},null,{"$f":"ROUND(CA20*$K20,2)","v":0},null,{"$f":"ROUND(CC20*$K20,2)","v":0},null,{"$f":"ROUND(CE20*$K20,2)","v":0},null,null,{"$f":"SUMIF(L$6:CF$6,\"=1\",$L20:$CF20)","v":0},null,null,{"$f":"K20-CG20","v":0}]
[{"$f":"A20+1","v":{"$error":"#REF!"}}]
[{"$f":"A21+1","v":{"$error":"#REF!"}},null,{"$f":"C18+10000","v":40000},".",".",{"$f":"VLOOKUP(C22,Orc,4)","v":"SERVIÇOS PRELIMINARES"},null,null,".",null,null,null,{"$f":"IF(N24=0,0,N24)","v":0},null,null,{"$f":"IF(Q24=0,M22,M22+Q24)","v":0},null,null,{"$f":"IF(T24=0,P22,P22+T24)","v":0},null,null,{"$f":"IF(W24=0,S22,S22+W24)","v":0},null,null,{"$f":"IF(Z24=0,V22,V22+Z24)","v":0},null,null,{"$f":"IF(AC24=0,Y22,Y22+AC24)","v":0},null,null,{"$f":"IF(AF24=0,AB22,AB22+AF24)","v":0},null,null,{"$f":"IF(AI24=0,AE22,AE22+AI24)","v":0},null,null,{"$f":"IF(AL24=0,AH22,AH22+AL24)","v":0},null,null,{"$f":"IF(AO24=0,AK22,AK22+AO24)","v":0},null,null,{"$f":"IF(AR24=0,AN22,AN22+AR24)","v":0},null,null,{"$f":"IF(AU24=0,AQ22,AQ22+AU24)","v":0},null,null,{"$f":"IF(AX24=0,AT22,AT22+AX24)","v":0},null,null,{"$f":"IF(BA24=0,AW22,AW22+BA24)","v":0},null,null,{"$f":"IF(BD24=0,AZ22,AZ22+BD24)","v":0},null,null,{"$f":"IF(BG24=0,BC22,BC22+BG24)","v":0},null,null,{"$f":"IF(BJ24=0,BF22,BF22+BJ24)","v":0},null,null,{"$f":"IF(BM24=0,BI22,BI22+BM24)","v":0},null,null,{"$f":"IF(BP24=0,BL22,BL22+BP24)","v":0},null,null,{"$f":"IF(BS24=0,BO22,BO22+BS24)","v":0},null,null,{"$f":"IF(BV24=0,BR22,BR22+BV24)","v":0},null,null,{"$f":"IF(BY24=0,BU22,BU22+BY24)","v":0},null,null,{"$f":"IF(CB24=0,BX22,BX22+CB24)","v":0},null,null,{"$f":"IF(CE24=0,CA22,CA22+CE24)","v":0},null,null,{"$f":"IFERROR(CG24/K24,0)","v":0}]
[null,null,".",null,"0",null,null,null,"."]
[{"$f":"#REF!+1","v":{"$error":"#REF!"}},null,"$",{"$f":"F24","v":40000},"$$",{"$f":"C22","v":40000},null,null,".",null,0,null,{"$f":"ROUND(N24*$K24,2)","v":0},null,null,{"$f":"ROUND(Q24*$K24,2)","v":0},null,{"$f":"ROUND(S24*$K24,2)","v":0},null,{"$f":"ROUND(U24*$K24,2)","v":0},null,{"$f":"ROUND(W24*$K24,2)","v":0},null,{"$f":"ROUND(Y24*$K24,2)","v":0},null,{"$f":"ROUND(AA24*$K24,2)","v":0},null,{"$f":"ROUND(AC24*$K24,2)","v":0},null,{"$f":"ROUND(AE24*$K24,2)","v":0},null,{"$f":"ROUND(AG24*$K24,2)","v":0},null,{"$f":"ROUND(AI24*$K24,2)","v":0},null,{"$f":"ROUND(AK24*$K24,2)","v":0},null,{"$f":"ROUND(AM24*$K24,2)","v":0},null,{"$f":"ROUND(AO24*$K24,2)","v":0},null,{"$f":"ROUND(AQ24*$K24,2)","v":0},null,{"$f":"ROUND(AS24*$K24,2)","v":0},null,{"$f":"ROUND(AU24*$K24,2)","v":0},null,{"$f":"ROUND(AW24*$K24,2)","v":0},null,{"$f":"ROUND(AY24*$K24,2)","v":0},null,{"$f":"ROUND(BA24*$K24,2)","v":0},null,{"$f":"ROUND(BC24*$K24,2)","v":0},null,{"$f":"ROUND(BE24*$K24,2)","v":0},null,{"$f":"ROUND(BG24*$K24,2)","v":0},null,{"$f":"ROUND(BI24*$K24,2)","v":0},null,{"$f":"ROUND(BK24*$K24,2)","v":0},null,{"$f":"ROUND(BM24*$K24,2)","v":0},null,{"$f":"ROUND(BO24*$K24,2)","v":0},null,{"$f":"ROUND(BQ24*$K24,2)","v":0},null,{"$f":"ROUND(BS24*$K24,2)","v":0},null,{"$f":"ROUND(BU24*$K24,2)","v":0},null,{"$f":"ROUND(BW24*$K24,2)","v":0},null,{"$f":"ROUND(BY24*$K24,2)","v":0},null,{"$f":"ROUND(CA24*$K24,2)","v":0},null,{"$f":"ROUND(CC24*$K24,2)","v":0},null,{"$f":"ROUND(CE24*$K24,2)","v":0},null,null,{"$f":"SUMIF(L$6:CF$6,\"=1\",$L24:$CF24)","v":0},null,null,{"$f":"K24-CG24","v":0}]
[{"$f":"A24+1","v":{"$error":"#REF!"}},null,"."]
[{"$f":"A25+1","v":{"$error":"#REF!"}},null,{"$f":"C22+10000","v":50000},".",".",{"$f":"VLOOKUP(C26,Orc,4)","v":"PAVIMENTAÇÃO"},null,null,".",null,null,null,{"$f":"IF(N28=0,0,N28)","v":0},null,null,{"$f":"IF(Q28=0,M26,M26+Q28)","v":0},null,null,{"$f":"IF(T28=0,P26,P26+T28)","v":0},null,null,{"$f":"IF(W28=0,S26,S26+W28)","v":0},null,null,{"$f":"IF(Z28=0,V26,V26+Z28)","v":0},null,null,{"$f":"IF(AC28=0,Y26,Y26+AC28)","v":0},null,null,{"$f":"IF(AF28=0,AB26,AB26+AF28)","v":0},null,null,{"$f":"IF(AI28=0,AE26,AE26+AI28)","v":0},null,null,{"$f":"IF(AL28=0,AH26,AH26+AL28)","v":0},null,null,{"$f":"IF(AO28=0,AK26,AK26+AO28)","v":0},null,null,{"$f":"IF(AR28=0,AN26,AN26+AR28)","v":0},null,null,{"$f":"IF(AU28=0,AQ26,AQ26+AU28)","v":0},null,null,{"$f":"IF(AX28=0,AT26,AT26+AX28)","v":0},null,null,{"$f":"IF(BA28=0,AW26,AW26+BA28)","v":0},null,null,{"$f":"IF(BD28=0,AZ26,AZ26+BD28)","v":0},null,null,{"$f":"IF(BG28=0,BC26,BC26+BG28)","v":0},null,null,{"$f":"IF(BJ28=0,BF26,BF26+BJ28)","v":0},null,null,{"$f":"IF(BM28=0,BI26,BI26+BM28)","v":0},null,null,{"$f":"IF(BP28=0,BL26,BL26+BP28)","v":0},null,null,{"$f":"IF(BS28=0,BO26,BO26+BS28)","v":0},null,null,{"$f":"IF(BV28=0,BR26,BR26+BV28)","v":0},null,null,{"$f":"IF(BY28=0,BU26,BU26+BY28)","v":0},null,null,{"$f":"IF(CB28=0,BX26,BX26+CB28)","v":0},null,null,{"$f":"IF(CE28=0,CA26,CA26+CE28)","v":0},null,null,{"$f":"IFERROR(CG28/K28,0)","v":0}]
[null,null,".",null,"0",null,null,null,"."]
[{"$f":"#REF!+1","v":{"$error":"#REF!"}},null,"$",{"$f":"F28","v":50000},"$$",{"$f":"C26","v":50000},null,null,".",null,0,null,{"$f":"ROUND(N28*$K28,2)","v":0},null,null,{"$f":"ROUND(Q28*$K28,2)","v":0},null,{"$f":"ROUND(S28*$K28,2)","v":0},null,{"$f":"ROUND(U28*$K28,2)","v":0},null,{"$f":"ROUND(W28*$K28,2)","v":0},null,{"$f":"ROUND(Y28*$K28,2)","v":0},null,{"$f":"ROUND(AA28*$K28,2)","v":0},null,{"$f":"ROUND(AC28*$K28,2)","v":0},null,{"$f":"ROUND(AE28*$K28,2)","v":0},null,{"$f":"ROUND(AG28*$K28,2)","v":0},null,{"$f":"ROUND(AI28*$K28,2)","v":0},null,{"$f":"ROUND(AK28*$K28,2)","v":0},null,{"$f":"ROUND(AM28*$K28,2)","v":0},null,{"$f":"ROUND(AO28*$K28,2)","v":0},null,{"$f":"ROUND(AQ28*$K28,2)","v":0},null,{"$f":"ROUND(AS28*$K28,2)","v":0},null,{"$f":"ROUND(AU28*$K28,2)","v":0},null,{"$f":"ROUND(AW28*$K28,2)","v":0},null,{"$f":"ROUND(AY28*$K28,2)","v":0},null,{"$f":"ROUND(BA28*$K28,2)","v":0},null,{"$f":"ROUND(BC28*$K28,2)","v":0},null,{"$f":"ROUND(BE28*$K28,2)","v":0},null,{"$f":"ROUND(BG28*$K28,2)","v":0},null,{"$f":"ROUND(BI28*$K28,2)","v":0},null,{"$f":"ROUND(BK28*$K28,2)","v":0},null,{"$f":"ROUND(BM28*$K28,2)","v":0},null,{"$f":"ROUND(BO28*$K28,2)","v":0},null,{"$f":"ROUND(BQ28*$K28,2)","v":0},null,{"$f":"ROUND(BS28*$K28,2)","v":0},null,{"$f":"ROUND(BU28*$K28,2)","v":0},null,{"$f":"ROUND(BW28*$K28,2)","v":0},null,{"$f":"ROUND(BY28*$K28,2)","v":0},null,{"$f":"ROUND(CA28*$K28,2)","v":0},null,{"$f":"ROUND(CC28*$K28,2)","v":0},null,{"$f":"ROUND(CE28*$K28,2)","v":0},null,null,{"$f":"SUMIF(L$6:CF$6,\"=1\",$L28:$CF28)","v":0},null,null,{"$f":"K28-CG28","v":0}]
[{"$f":"A28+1","v":{"$error":"#REF!"}},null,"."]
[{"$f":"A29+1","v":{"$error":"#REF!"}},null,{"$f":"C26+10000","v":60000},".",".",{"$f":"VLOOKUP(C30,Orc,4)","v":"PISOS EXTERNOS"},null,null,".",null,null,null,{"$f":"IF(N32=0,0,N32)","v":0},null,null,{"$f":"IF(Q32=0,M30,M30+Q32)","v":0},null,null,{"$f":"IF(T32=0,P30,P30+T32)","v":0},null,null,{"$f":"IF(W32=0,S30,S30+W32)","v":0},null,null,{"$f":"IF(Z32=0,V30,V30+Z32)","v":0},null,null,{"$f":"IF(AC32=0,Y30,Y30+AC32)","v":0},null,null,{"$f":"IF(AF32=0,AB30,AB30+AF32)","v":0},null,null,{"$f":"IF(AI32=0,AE30,AE30+AI32)","v":0},null,null,{"$f":"IF(AL32=0,AH30,AH30+AL32)","v":0},null,null,{"$f":"IF(AO32=0,AK30,AK30+AO32)","v":0},null,null,{"$f":"IF(AR32=0,AN30,AN30+AR32)","v":0},null,null,{"$f":"IF(AU32=0,AQ30,AQ30+AU32)","v":0},null,null,{"$f":"IF(AX32=0,AT30,AT30+AX32)","v":0},null,null,{"$f":"IF(BA32=0,AW30,AW30+BA32)","v":0},null,null,{"$f":"IF(BD32=0,AZ30,AZ30+BD32)","v":0},null,null,{"$f":"IF(BG32=0,BC30,BC30+BG32)","v":0},null,null,{"$f":"IF(BJ32=0,BF30,BF30+BJ32)","v":0},null,null,{"$f":"IF(BM32=0,BI30,BI30+BM32)","v":0},null,null,{"$f":"IF(BP32=0,BL30,BL30+BP32)","v":0},null,null,{"$f":"IF(BS32=0,BO30,BO30+BS32)","v":0},null,null,{"$f":"IF(BV32=0,BR30,BR30+BV32)","v":0},null,null,{"$f":"IF(BY32=0,BU30,BU30+BY32)","v":0},null,null,{"$f":"IF(CB32=0,BX30,BX30+CB32)","v":0},null,null,{"$f":"IF(CE32=0,CA30,CA30+CE32)","v":0},null,null,{"$f":"IFERROR(CG32/K32,0)","v":0}]
[null,null,".",null,"0",null,null,null,"."]
[{"$f":"#REF!+1","v":{"$error":"#REF!"}},null,"$",{"$f":"F32","v":60000},"$$",{"$f":"C30","v":60000},null,null,".",null,0,null,{"$f":"ROUND(N32*$K32,2)","v":0},null,null,{"$f":"ROUND(Q32*$K32,2)","v":0},null,{"$f":"ROUND(S32*$K32,2)","v":0},null,{"$f":"ROUND(U32*$K32,2)","v":0},null,{"$f":"ROUND(W32*$K32,2)","v":0},null,{"$f":"ROUND(Y32*$K32,2)","v":0},null,{"$f":"ROUND(AA32*$K32,2)","v":0},null,{"$f":"ROUND(AC32*$K32,2)","v":0},null,{"$f":"ROUND(AE32*$K32,2)","v":0},null,{"$f":"ROUND(AG32*$K32,2)","v":0},null,{"$f":"ROUND(AI32*$K32,2)","v":0},null,{"$f":"ROUND(AK32*$K32,2)","v":0},null,{"$f":"ROUND(AM32*$K32,2)","v":0},null,{"$f":"ROUND(AO32*$K32,2)","v":0},null,{"$f":"ROUND(AQ32*$K32,2)","v":0},null,{"$f":"ROUND(AS32*$K32,2)","v":0},null,{"$f":"ROUND(AU32*$K32,2)","v":0},null,{"$f":"ROUND(AW32*$K32,2)","v":0},null,{"$f":"ROUND(AY32*$K32,2)","v":0},null,{"$f":"ROUND(BA32*$K32,2)","v":0},null,{"$f":"ROUND(BC32*$K32,2)","v":0},null,{"$f":"ROUND(BE32*$K32,2)","v":0},null,{"$f":"ROUND(BG32*$K32,2)","v":0},null,{"$f":"ROUND(BI32*$K32,2)","v":0},null,{"$f":"ROUND(BK32*$K32,2)","v":0},null,{"$f":"ROUND(BM32*$K32,2)","v":0},null,{"$f":"ROUND(BO32*$K32,2)","v":0},null,{"$f":"ROUND(BQ32*$K32,2)","v":0},null,{"$f":"ROUND(BS32*$K32,2)","v":0},null,{"$f":"ROUND(BU32*$K32,2)","v":0},null,{"$f":"ROUND(BW32*$K32,2)","v":0},null,{"$f":"ROUND(BY32*$K32,2)","v":0},null,{"$f":"ROUND(CA32*$K32,2)","v":0},null,{"$f":"ROUND(CC32*$K32,2)","v":0},null,{"$f":"ROUND(CE32*$K32,2)","v":0},null,null,{"$f":"SUMIF(L$6:CF$6,\"=1\",$L32:$CF32)","v":0},null,null,{"$f":"K32-CG32","v":0}]
[{"$f":"#REF!+1","v":{"$error":"#REF!"}},null,"."]
[{"$f":"A33+1","v":{"$error":"#REF!"}},null,{"$f":"C30+10000","v":70000},".",".",{"$f":"VLOOKUP(C34,Orc,4)","v":"INFRA-ESTRUTURA"},null,null,".",null,null,null,{"$f":"IF(N36=0,0,N36)","v":0},null,null,{"$f":"IF(Q36=0,M34,M34+Q36)","v":0},null,null,{"$f":"IF(T36=0,P34,P34+T36)","v":0},null,null,{"$f":"IF(W36=0,S34,S34+W36)","v":0},null,null,{"$f":"IF(Z36=0,V34,V34+Z36)","v":0},null,null,{"$f":"IF(AC36=0,Y34,Y34+AC36)","v":0},null,null,{"$f":"IF(AF36=0,AB34,AB34+AF36)","v":0},null,null,{"$f":"IF(AI36=0,AE34,AE34+AI36)","v":0},null,null,{"$f":"IF(AL36=0,AH34,AH34+AL36)","v":0},null,null,{"$f":"IF(AO36=0,AK34,AK34+AO36)","v":0},null,null,{"$f":"IF(AR36=0,AN34,AN34+AR36)","v":0},null,null,{"$f":"IF(AU36=0,AQ34,AQ34+AU36)","v":0},null,null,{"$f":"IF(AX36=0,AT34,AT34+AX36)","v":0},null,null,{"$f":"IF(BA36=0,AW34,AW34+BA36)","v":0},null,null,{"$f":"IF(BD36=0,AZ34,AZ34+BD36)","v":0},null,null,{"$f":"IF(BG36=0,BC34,BC34+BG36)","v":0},null,null,{"$f":"IF(BJ36=0,BF34,BF34+BJ36)","v":0},null,null,{"$f":"IF(BM36=0,BI34,BI34+BM36)","v":0},null,null,{"$f":"IF(BP36=0,BL34,BL34+BP36)","v":0},null,null,{"$f":"IF(BS36=0,BO34,BO34+BS36)","v":0},null,null,{"$f":"IF(BV36=0,BR34,BR34+BV36)","v":0},null,null,{"$f":"IF(BY36=0,BU34,BU34+BY36)","v":0},null,null,{"$f":"IF(CB36=0,BX34,BX34+CB36)","v":0},null,null,{"$f":"IF(CE36=0,CA34,CA34+CE36)","v":0},null,null,{"$f":"IFERROR(CG36/K36,0)","v":0}]
[null,null,".",null,"0",null,null,null,"."]
[{"$f":"#REF!+1","v":{"$error":"#REF!"}},null,"$",{"$f":"F36","v":70000},"$$",{"$f":"C34","v":70000},null,null,".",null,0,null,{"$f":"ROUND(N36*$K36,2)","v":0},null,null,{"$f":"ROUND(Q36*$K36,2)","v":0},null,{"$f":"ROUND(S36*$K36,2)","v":0},null,{"$f":"ROUND(U36*$K36,2)","v":0},null,{"$f":"ROUND(W36*$K36,2)","v":0},null,{"$f":"ROUND(Y36*$K36,2)","v":0},null,{"$f":"ROUND(AA36*$K36,2)","v":0},null,{"$f":"ROUND(AC36*$K36,2)","v":0},null,{"$f":"ROUND(AE36*$K36,2)","v":0},null,{"$f":"ROUND(AG36*$K36,2)","v":0},null,{"$f":"ROUND(AI36*$K36,2)","v":0},null,{"$f":"ROUND(AK36*$K36,2)","v":0},null,{"$f":"ROUND(AM36*$K36,2)","v":0},null,{"$f":"ROUND(AO36*$K36,2)","v":0},null,{"$f":"ROUND(AQ36*$K36,2)","v":0},null,{"$f":"ROUND(AS36*$K36,2)","v":0},null,{"$f":"ROUND(AU36*$K36,2)","v":0},null,{"$f":"ROUND(AW36*$K36,2)","v":0},null,{"$f":"ROUND(AY36*$K36,2)","v":0},null,{"$f":"ROUND(BA36*$K36,2)","v":0},null,{"$f":"ROUND(BC36*$K36,2)","v":0},null,{"$f":"ROUND(BE36*$K36,2)","v":0},null,{"$f":"ROUND(BG36*$K36,2)","v":0},null,{"$f":"ROUND(BI36*$K36,2)","v":0},null,{"$f":"ROUND(BK36*$K36,2)","v":0},null,{"$f":"ROUND(BM36*$K36,2)","v":0},null,{"$f":"ROUND(BO36*$K36,2)","v":0},null,{"$f":"ROUND(BQ36*$K36,2)","v":0},null,{"$f":"ROUND(BS36*$K36,2)","v":0},null,{"$f":"ROUND(BU36*$K36,2)","v":0},null,{"$f":"ROUND(BW36*$K36,2)","v":0},null,{"$f":"ROUND(BY36*$K36,2)","v":0},null,{"$f":"ROUND(CA36*$K36,2)","v":0},null,{"$f":"ROUND(CC36*$K36,2)","v":0},null,{"$f":"ROUND(CE36*$K36,2)","v":0},null,null,{"$f":"SUMIF(L$6:CF$6,\"=1\",$L36:$CF36)","v":0},null,null,{"$f":"K36-CG36","v":0}]
[{"$f":"A36+1","v":{"$error":"#REF!"}}]
[{"$f":"A37+1","v":{"$error":"#REF!"}},null,{"$f":"C34+10000","v":80000},".",".",{"$f":"VLOOKUP(C38,Orc,4)","v":"PÓRTICO"},null,null,".",null,null,null,{"$f":"IF(N40=0,0,N40)","v":0},null,null,{"$f":"IF(Q40=0,M38,M38+Q40)","v":0},null,null,{"$f":"IF(T40=0,P38,P38+T40)","v":0},null,null,{"$f":"IF(W40=0,S38,S38+W40)","v":0},null,null,{"$f":"IF(Z40=0,V38,V38+Z40)","v":0},null,null,{"$f":"IF(AC40=0,Y38,Y38+AC40)","v":0},null,null,{"$f":"IF(AF40=0,AB38,AB38+AF40)","v":0},null,null,{"$f":"IF(AI40=0,AE38,AE38+AI40)","v":0},null,null,{"$f":"IF(AL40=0,AH38,AH38+AL40)","v":0},null,null,{"$f":"IF(AO40=0,AK38,AK38+AO40)","v":0},null,null,{"$f":"IF(AR40=0,AN38,AN38+AR40)","v":0},null,null,{"$f":"IF(AU40=0,AQ38,AQ38+AU40)","v":0},null,null,{"$f":"IF(AX40=0,AT38,AT38+AX40)","v":0},null,null,{"$f":"IF(BA40=0,AW38,AW38+BA40)","v":0},null,null,{"$f":"IF(BD40=0,AZ38,AZ38+BD40)","v":0},null,null,{"$f":"IF(BG40=0,BC38,BC38+BG40)","v":0},null,null,{"$f":"IF(BJ40=0,BF38,BF38+BJ40)","v":0},null,null,{"$f":"IF(BM40=0,BI38,BI38+BM40)","v":0},null,null,{"$f":"IF(BP40=0,BL38,BL38+BP40)","v":0},null,null,{"$f":"IF(BS40=0,BO38,BO38+BS40)","v":0},null,null,{"$f":"IF(BV40=0,BR38,BR38+BV40)","v":0},null,null,{"$f":"IF(BY40=0,BU38,BU38+BY40)","v":0},null,null,{"$f":"IF(CB40=0,BX38,BX38+CB40)","v":0},null,null,{"$f":"IF(CE40=0,CA38,CA38+CE40)","v":0},null,null,{"$f":"IFERROR(CG40/K40,0)","v":0}]
[null,null,".",null,"0",null,null,null,"."]
[{"$f":"#REF!+1","v":{"$error":"#REF!"}},null,"$",{"$f":"F40","v":80000},"$$",{"$f":"C38","v":80000},null,null,".",null,0,null,{"$f":"ROUND(N40*$K40,2)","v":0},null,null,{"$f":"ROUND(Q40*$K40,2)","v":0},null,{"$f":"ROUND(S40*$K40,2)","v":0},null,{"$f":"ROUND(U40*$K40,2)","v":0},null,{"$f":"ROUND(W40*$K40,2)","v":0},null,{"$f":"ROUND(Y40*$K40,2)","v":0},null,{"$f":"ROUND(AA40*$K40,2)","v":0},null,{"$f":"ROUND(AC40*$K40,2)","v":0},null,{"$f":"ROUND(AE40*$K40,2)","v":0},null,{"$f":"ROUND(AG40*$K40,2)","v":0},null,{"$f":"ROUND(AI40*$K40,2)","v":0},null,{"$f":"ROUND(AK40*$K40,2)","v":0},null,{"$f":"ROUND(AM40*$K40,2)","v":0},null,{"$f":"ROUND(AO40*$K40,2)","v":0},null,{"$f":"ROUND(AQ40*$K40,2)","v":0},null,{"$f":"ROUND(AS40*$K40,2)","v":0},null,{"$f":"ROUND(AU40*$K40,2)","v":0},null,{"$f":"ROUND(AW40*$K40,2)","v":0},null,{"$f":"ROUND(AY40*$K40,2)","v":0},null,{"$f":"ROUND(BA40*$K40,2)","v":0},null,{"$f":"ROUND(BC40*$K40,2)","v":0},null,{"$f":"ROUND(BE40*$K40,2)","v":0},null,{"$f":"ROUND(BG40*$K40,2)","v":0},null,{"$f":"ROUND(BI40*$K40,2)","v":0},null,{"$f":"ROUND(BK40*$K40,2)","v":0},null,{"$f":"ROUND(BM40*$K40,2)","v":0},null,{"$f":"ROUND(BO40*$K40,2)","v":0},null,{"$f":"ROUND(BQ40*$K40,2)","v":0},null,{"$f":"ROUND(BS40*$K40,2)","v":0},null,{"$f":"ROUND(BU40*$K40,2)","v":0},null,{"$f":"ROUND(BW40*$K40,2)","v":0},null,{"$f":"ROUND(BY40*$K40,2)","v":0},null,{"$f":"ROUND(CA40*$K40,2)","v":0},null,{"$f":"ROUND(CC40*$K40,2)","v":0},null,{"$f":"ROUND(CE40*$K40,2)","v":0},null,null,{"$f":"SUMIF(L$6:CF$6,\"=1\",$L40:$CF40)","v":0},null,null,{"$f":"K40-CG40","v":0}]
[{"$f":"A40+1","v":{"$error":"#REF!"}},null,"."]
[{"$f":"A41+1","v":{"$error":"#REF!"}},null,{"$f":"C38+10000","v":90000},".",".",{"$f":"VLOOKUP(C42,Orc,4)","v":"PAREDES E PAINÉIS"},null,null,".",null,null,null,{"$f":"IF(N44=0,0,N44)","v":0},null,null,{"$f":"IF(Q44=0,M42,M42+Q44)","v":0},null,null,{"$f":"IF(T44=0,P42,P42+T44)","v":0},null,null,{"$f":"IF(W44=0,S42,S42+W44)","v":0},null,null,{"$f":"IF(Z44=0,V42,V42+Z44)","v":0},null,null,{"$f":"IF(AC44=0,Y42,Y42+AC44)","v":0},null,null,{"$f":"IF(AF44=0,AB42,AB42+AF44)","v":0},null,null,{"$f":"IF(AI44=0,AE42,AE42+AI44)","v":0},null,null,{"$f":"IF(AL44=0,AH42,AH42+AL44)","v":0},null,null,{"$f":"IF(AO44=0,AK42,AK42+AO44)","v":0},null,null,{"$f":"IF(AR44=0,AN42,AN42+AR44)","v":0},null,null,{"$f":"IF(AU44=0,AQ42,AQ42+AU44)","v":0},null,null,{"$f":"IF(AX44=0,AT42,AT42+AX44)","v":0},null,null,{"$f":"IF(BA44=0,AW42,AW42+BA44)","v":0},null,null,{"$f":"IF(BD44=0,AZ42,AZ42+BD44)","v":0},null,null,{"$f":"IF(BG44=0,BC42,BC42+BG44)","v":0},null,null,{"$f":"IF(BJ44=0,BF42,BF42+BJ44)","v":0},null,null,{"$f":"IF(BM44=0,BI42,BI42+BM44)","v":0},null,null,{"$f":"IF(BP44=0,BL42,BL42+BP44)","v":0},null,null,{"$f":"IF(BS44=0,BO42,BO42+BS44)","v":0},null,null,{"$f":"IF(BV44=0,BR42,BR42+BV44)","v":0},null,null,{"$f":"IF(BY44=0,BU42,BU42+BY44)","v":0},null,null,{"$f":"IF(CB44=0,BX42,BX42+CB44)","v":0},null,null,{"$f":"IF(CE44=0,CA42,CA42+CE44)","v":0},null,null,{"$f":"IFERROR(CG44/K44,0)","v":0}]
[null,null,".",null,"0",null,null,null,"."]
[{"$f":"#REF!+1","v":{"$error":"#REF!"}},null,"$",{"$f":"F44","v":90000},"$$",{"$f":"C42","v":90000},null,null,".",null,0,null,{"$f":"ROUND(N44*$K44,2)","v":0},null,null,{"$f":"ROUND(Q44*$K44,2)","v":0},null,{"$f":"ROUND(S44*$K44,2)","v":0},null,{"$f":"ROUND(U44*$K44,2)","v":0},null,{"$f":"ROUND(W44*$K44,2)","v":0},null,{"$f":"ROUND(Y44*$K44,2)","v":0},null,{"$f":"ROUND(AA44*$K44,2)","v":0},null,{"$f":"ROUND(AC44*$K44,2)","v":0},null,{"$f":"ROUND(AE44*$K44,2)","v":0},null,{"$f":"ROUND(AG44*$K44,2)","v":0},null,{"$f":"ROUND(AI44*$K44,2)","v":0},null,{"$f":"ROUND(AK44*$K44,2)","v":0},null,{"$f":"ROUND(AM44*$K44,2)","v":0},null,{"$f":"ROUND(AO44*$K44,2)","v":0},null,{"$f":"ROUND(AQ44*$K44,2)","v":0},null,{"$f":"ROUND(AS44*$K44,2)","v":0},null,{"$f":"ROUND(AU44*$K44,2)","v":0},null,{"$f":"ROUND(AW44*$K44,2)","v":0},null,{"$f":"ROUND(AY44*$K44,2)","v":0},null,{"$f":"ROUND(BA44*$K44,2)","v":0},null,{"$f":"ROUND(BC44*$K44,2)","v":0},null,{"$f":"ROUND(BE44*$K44,2)","v":0},null,{"$f":"ROUND(BG44*$K44,2)","v":0},null,{"$f":"ROUND(BI44*$K44,2)","v":0},null,{"$f":"ROUND(BK44*$K44,2)","v":0},null,{"$f":"ROUND(BM44*$K44,2)","v":0},null,{"$f":"ROUND(BO44*$K44,2)","v":0},null,{"$f":"ROUND(BQ44*$K44,2)","v":0},null,{"$f":"ROUND(BS44*$K44,2)","v":0},null,{"$f":"ROUND(BU44*$K44,2)","v":0},null,{"$f":"ROUND(BW44*$K44,2)","v":0},null,{"$f":"ROUND(BY44*$K44,2)","v":0},null,{"$f":"ROUND(CA44*$K44,2)","v":0},null,{"$f":"ROUND(CC44*$K44,2)","v":0},null,{"$f":"ROUND(CE44*$K44,2)","v":0},null,null,{"$f":"SUMIF(L$6:CF$6,\"=1\",$L44:$CF44)","v":0},null,null,{"$f":"K44-CG44","v":0}]
[{"$f":"A44+1","v":{"$error":"#REF!"}},null,"."]
[{"$f":"A45+1","v":{"$error":"#REF!"}},null,{"$f":"C42+10000","v":100000},".",".",{"$f":"VLOOKUP(C46,Orc,4)","v":"ESQUADRIAS"},null,null,".",null,null,null,{"$f":"IF(N48=0,0,N48)","v":0},null,null,{"$f":"IF(Q48=0,M46,M46+Q48)","v":0},null,null,{"$f":"IF(T48=0,P46,P46+T48)","v":0},null,null,{"$f":"IF(W48=0,S46,S46+W48)","v":0},null,null,{"$f":"IF(Z48=0,V46,V46+Z48)","v":0},null,null,{"$f":"IF(AC48=0,Y46,Y46+AC48)","v":0},null,null,{"$f":"IF(AF48=0,AB46,AB46+AF48)","v":0},null,null,{"$f":"IF(AI48=0,AE46,AE46+AI48)","v":0},null,null,{"$f":"IF(AL48=0,AH46,AH46+AL48)","v":0},null,null,{"$f":"IF(AO48=0,AK46,AK46+AO48)","v":0},null,null,{"$f":"IF(AR48=0,AN46,AN46+AR48)","v":0},null,null,{"$f":"IF(AU48=0,AQ46,AQ46+AU48)","v":0},null,null,{"$f":"IF(AX48=0,AT46,AT46+AX48)","v":0},null,null,{"$f":"IF(BA48=0,AW46,AW46+BA48)","v":0},null,null,{"$f":"IF(BD48=0,AZ46,AZ46+BD48)","v":0},null,null,{"$f":"IF(BG48=0,BC46,BC46+BG48)","v":0},null,null,{"$f":"IF(BJ48=0,BF46,BF46+BJ48)","v":0},null,null,{"$f":"IF(BM48=0,BI46,BI46+BM48)","v":0},null,null,{"$f":"IF(BP48=0,BL46,BL46+BP48)","v":0},null,null,{"$f":"IF(BS48=0,BO46,BO46+BS48)","v":0},null,null,{"$f":"IF(BV48=0,BR46,BR46+BV48)","v":0},null,null,{"$f":"IF(BY48=0,BU46,BU46+BY48)","v":0},null,null,{"$f":"IF(CB48=0,BX46,BX46+CB48)","v":0},null,null,{"$f":"IF(CE48=0,CA46,CA46+CE48)","v":0},null,null,{"$f":"IFERROR(CG48/K48,0)","v":0}]
[null,null,".",null,"0",null,null,null,"."]
[{"$f":"#REF!+1","v":{"$error":"#REF!"}},null,"$",{"$f":"F48","v":100000},"$$",{"$f":"C46","v":100000},null,null,".",null,0,null,{"$f":"ROUND(N48*$K48,2)","v":0},null,null,{"$f":"ROUND(Q48*$K48,2)","v":0},null,{"$f":"ROUND(S48*$K48,2)","v":0},null,{"$f":"ROUND(U48*$K48,2)","v":0},null,{"$f":"ROUND(W48*$K48,2)","v":0},null,{"$f":"ROUND(Y48*$K48,2)","v":0},null,{"$f":"ROUND(AA48*$K48,2)","v":0},null,{"$f":"ROUND(AC48*$K48,2)","v":0},null,{"$f":"ROUND(AE48*$K48,2)","v":0},null,{"$f":"ROUND(AG48*$K48,2)","v":0},null,{"$f":"ROUND(AI48*$K48,2)","v":0},null,{"$f":"ROUND(AK48*$K48,2)","v":0},null,{"$f":"ROUND(AM48*$K48,2)","v":0},null,{"$f":"ROUND(AO48*$K48,2)","v":0},null,{"$f":"ROUND(AQ48*$K48,2)","v":0},null,{"$f":"ROUND(AS48*$K48,2)","v":0},null,{"$f":"ROUND(AU48*$K48,2)","v":0},null,{"$f":"ROUND(AW48*$K48,2)","v":0},null,{"$f":"ROUND(AY48*$K48,2)","v":0},null,{"$f":"ROUND(BA48*$K48,2)","v":0},null,{"$f":"ROUND(BC48*$K48,2)","v":0},null,{"$f":"ROUND(BE48*$K48,2)","v":0},null,{"$f":"ROUND(BG48*$K48,2)","v":0},null,{"$f":"ROUND(BI48*$K48,2)","v":0},null,{"$f":"ROUND(BK48*$K48,2)","v":0},null,{"$f":"ROUND(BM48*$K48,2)","v":0},null,{"$f":"ROUND(BO48*$K48,2)","v":0},null,{"$f":"ROUND(BQ48*$K48,2)","v":0},null,{"$f":"ROUND(BS48*$K48,2)","v":0},null,{"$f":"ROUND(BU48*$K48,2)","v":0},null,{"$f":"ROUND(BW48*$K48,2)","v":0},null,{"$f":"ROUND(BY48*$K48,2)","v":0},null,{"$f":"ROUND(CA48*$K48,2)","v":0},null,{"$f":"ROUND(CC48*$K48,2)","v":0},null,{"$f":"ROUND(CE48*$K48,2)","v":0},null,null,{"$f":"SUMIF(L$6:CF$6,\"=1\",$L48:$CF48)","v":0},null,null,{"$f":"K48-CG48","v":0}]
[{"$f":"A48+1","v":{"$error":"#REF!"}},null,"."]
[{"$f":"#REF!+1","v":{"$error":"#REF!"}},null,{"$f":"C46+10000","v":110000},".",".",{"$f":"VLOOKUP(C50,Orc,4)","v":"COBERTURA"},null,null,".",null,null,null,{"$f":"IF(N52=0,0,N52)","v":0},null,null,{"$f":"IF(Q52=0,M50,M50+Q52)","v":0},null,null,{"$f":"IF(T52=0,P50,P50+T52)","v":0},null,null,{"$f":"IF(W52=0,S50,S50+W52)","v":0},null,null,{"$f":"IF(Z52=0,V50,V50+Z52)","v":0},null,null,{"$f":"IF(AC52=0,Y50,Y50+AC52)","v":0},null,null,{"$f":"IF(AF52=0,AB50,AB50+AF52)","v":0},null,null,{"$f":"IF(AI52=0,AE50,AE50+AI52)","v":0},null,null,{"$f":"IF(AL52=0,AH50,AH50+AL52)","v":0},null,null,{"$f":"IF(AO52=0,AK50,AK50+AO52)","v":0},null,null,{"$f":"IF(AR52=0,AN50,AN50+AR52)","v":0},null,null,{"$f":"IF(AU52=0,AQ50,AQ50+AU52)","v":0},null,null,{"$f":"IF(AX52=0,AT50,AT50+AX52)","v":0},null,null,{"$f":"IF(BA52=0,AW50,AW50+BA52)","v":0},null,null,{"$f":"IF(BD52=0,AZ50,AZ50+BD52)","v":0},null,null,{"$f":"IF(BG52=0,BC50,BC50+BG52)","v":0},null,null,{"$f":"IF(BJ52=0,BF50,BF50+BJ52)","v":0},null,null,{"$f":"IF(BM52=0,BI50,BI50+BM52)","v":0},null,null,{"$f":"IF(BP52=0,BL50,BL50+BP52)","v":0},null,null,{"$f":"IF(BS52=0,BO50,BO50+BS52)","v":0},null,null,{"$f":"IF(BV52=0,BR50,BR50+BV52)","v":0},null,null,{"$f":"IF(BY52=0,BU50,BU50+BY52)","v":0},null,null,{"$f":"IF(CB52=0,BX50,BX50+CB52)","v":0},null,null,{"$f":"IF(CE52=0,CA50,CA50+CE52)","v":0},null,null,{"$f":"IFERROR(CG52/K52,0)","v":0}]
[null,null,".",null,"0",null,null,null,"."]
[{"$f":"#REF!+1","v":{"$error":"#REF!"}},null,"$",{"$f":"F52","v":110000},"$$",{"$f":"C50","v":110000},null,null,".",null,0,null,{"$f":"ROUND(N52*$K52,2)","v":0},null,null,{"$f":"ROUND(Q52*$K52,2)","v":0},null,{"$f":"ROUND(S52*$K52,2)","v":0},null,{"$f":"ROUND(U52*$K52,2)","v":0},null,{"$f":"ROUND(W52*$K52,2)","v":0},null,{"$f":"ROUND(Y52*$K52,2)","v":0},null,{"$f":"ROUND(AA52*$K52,2)","v":0},null,{"$f":"ROUND(AC52*$K52,2)","v":0},null,{"$f":"ROUND(AE52*$K52,2)","v":0},null,{"$f":"ROUND(AG52*$K52,2)","v":0},null,{"$f":"ROUND(AI52*$K52,2)","v":0},null,{"$f":"ROUND(AK52*$K52,2)","v":0},null,{"$f":"ROUND(AM52*$K52,2)","v":0},null,{"$f":"ROUND(AO52*$K52,2)","v":0},null,{"$f":"ROUND(AQ52*$K52,2)","v":0},null,{"$f":"ROUND(AS52*$K52,2)","v":0},null,{"$f":"ROUND(AU52*$K52,2)","v":0},null,{"$f":"ROUND(AW52*$K52,2)","v":0},null,{"$f":"ROUND(AY52*$K52,2)","v":0},null,{"$f":"ROUND(BA52*$K52,2)","v":0},null,{"$f":"ROUND(BC52*$K52,2)","v":0},null,{"$f":"ROUND(BE52*$K52,2)","v":0},null,{"$f":"ROUND(BG52*$K52,2)","v":0},null,{"$f":"ROUND(BI52*$K52,2)","v":0},null,{"$f":"ROUND(BK52*$K52,2)","v":0},null,{"$f":"ROUND(BM52*$K52,2)","v":0},null,{"$f":"ROUND(BO52*$K52,2)","v":0},null,{"$f":"ROUND(BQ52*$K52,2)","v":0},null,{"$f":"ROUND(BS52*$K52,2)","v":0},null,{"$f":"ROUND(BU52*$K52,2)","v":0},null,{"$f":"ROUND(BW52*$K52,2)","v":0},null,{"$f":"ROUND(BY52*$K52,2)","v":0},null,{"$f":"ROUND(CA52*$K52,2)","v":0},null,{"$f":"ROUND(CC52*$K52,2)","v":0},null,{"$f":"ROUND(CE52*$K52,2)","v":0},null,null,{"$f":"SUMIF(L$6:CF$6,\"=1\",$L52:$CF52)","v":0},null,null,{"$f":"K52-CG52","v":0}]
[{"$f":"A52+1","v":{"$error":"#REF!"}},null,"."]
[{"$f":"A53+1","v":{"$error":"#REF!"}},null,{"$f":"C50+10000","v":120000},".",".",{"$f":"VLOOKUP(C54,Orc,4)","v":"IMPERMEABILIZAÇÃO"},null,null,".",null,null,null,{"$f":"IF(N56=0,0,N56)","v":0},null,null,{"$f":"IF(Q56=0,M54,M54+Q56)","v":0},null,null,{"$f":"IF(T56=0,P54,P54+T56)","v":0},null,null,{"$f":"IF(W56=0,S54,S54+W56)","v":0},null,null,{"$f":"IF(Z56=0,V54,V54+Z56)","v":0},null,null,{"$f":"IF(AC56=0,Y54,Y54+AC56)","v":0},null,null,{"$f":"IF(AF56=0,AB54,AB54+AF56)","v":0},null,null,{"$f":"IF(AI56=0,AE54,AE54+AI56)","v":0},null,null,{"$f":"IF(AL56=0,AH54,AH54+AL56)","v":0},null,null,{"$f":"IF(AO56=0,AK54,AK54+AO56)","v":0},null,null,{"$f":"IF(AR56=0,AN54,AN54+AR56)","v":0},null,null,{"$f":"IF(AU56=0,AQ54,AQ54+AU56)","v":0},null,null,{"$f":"IF(AX56=0,AT54,AT54+AX56)","v":0},null,null,{"$f":"IF(BA56=0,AW54,AW54+BA56)","v":0},null,null,{"$f":"IF(BD56=0,AZ54,AZ54+BD56)","v":0},null,null,{"$f":"IF(BG56=0,BC54,BC54+BG56)","v":0},null,null,{"$f":"IF(BJ56=0,BF54,BF54+BJ56)","v":0},null,null,{"$f":"IF(BM56=0,BI54,BI54+BM56)","v":0},null,null,{"$f":"IF(BP56=0,BL54,BL54+BP56)","v":0},null,null,{"$f":"IF(BS56=0,BO54,BO54+BS56)","v":0},null,null,{"$f":"IF(BV56=0,BR54,BR54+BV56)","v":0},null,null,{"$f":"IF(BY56=0,BU54,BU54+BY56)","v":0},null,null,{"$f":"IF(CB56=0,BX54,BX54+CB56)","v":0},null,null,{"$f":"IF(CE56=0,CA54,CA54+CE56)","v":0},null,null,{"$f":"IFERROR(CG56/K56,0)","v":0}]
[null,null,".",null,"0",null,null,null,"."]
[{"$f":"#REF!+1","v":{"$error":"#REF!"}},null,"$",{"$f":"F56","v":120000},"$$",{"$f":"C54","v":120000},null,null,".",null,0,null,{"$f":"ROUND(N56*$K56,2)","v":0},null,null,{"$f":"ROUND(Q56*$K56,2)","v":0},null,{"$f":"ROUND(S56*$K56,2)","v":0},null,{"$f":"ROUND(U56*$K56,2)","v":0},null,{"$f":"ROUND(W56*$K56,2)","v":0},null,{"$f":"ROUND(Y56*$K56,2)","v":0},null,{"$f":"ROUND(AA56*$K56,2)","v":0},null,{"$f":"ROUND(AC56*$K56,2)","v":0},null,{"$f":"ROUND(AE56*$K56,2)","v":0},null,{"$f":"ROUND(AG56*$K56,2)","v":0},null,{"$f":"ROUND(AI56*$K56,2)","v":0},null,{"$f":"ROUND(AK56*$K56,2)","v":0},null,{"$f":"ROUND(AM56*$K56,2)","v":0},null,{"$f":"ROUND(AO56*$K56,2)","v":0},null,{"$f":"ROUND(AQ56*$K56,2)","v":0},null,{"$f":"ROUND(AS56*$K56,2)","v":0},null,{"$f":"ROUND(AU56*$K56,2)","v":0},null,{"$f":"ROUND(AW56*$K56,2)","v":0},null,{"$f":"ROUND(AY56*$K56,2)","v":0},null,{"$f":"ROUND(BA56*$K56,2)","v":0},null,{"$f":"ROUND(BC56*$K56,2)","v":0},null,{"$f":"ROUND(BE56*$K56,2)","v":0},null,{"$f":"ROUND(BG56*$K56,2)","v":0},null,{"$f":"ROUND(BI56*$K56,2)","v":0},null,{"$f":"ROUND(BK56*$K56,2)","v":0},null,{"$f":"ROUND(BM56*$K56,2)","v":0},null,{"$f":"ROUND(BO56*$K56,2)","v":0},null,{"$f":"ROUND(BQ56*$K56,2)","v":0},null,{"$f":"ROUND(BS56*$K56,2)","v":0},null,{"$f":"ROUND(BU56*$K56,2)","v":0},null,{"$f":"ROUND(BW56*$K56,2)","v":0},null,{"$f":"ROUND(BY56*$K56,2)","v":0},null,{"$f":"ROUND(CA56*$K56,2)","v":0},null,{"$f":"ROUND(CC56*$K56,2)","v":0},null,{"$f":"ROUND(CE56*$K56,2)","v":0},null,null,{"$f":"SUMIF(L$6:CF$6,\"=1\",$L56:$CF56)","v":0},null,null,{"$f":"K56-CG56","v":0}]
[{"$f":"A56+1","v":{"$error":"#REF!"}},null,"."]
[{"$f":"A57+1","v":{"$error":"#REF!"}},null,{"$f":"C54+10000","v":130000},".",".",{"$f":"VLOOKUP(C58,Orc,4)","v":"FORRO"},null,null,".",null,null,null,{"$f":"IF(N60=0,0,N60)","v":0},null,null,{"$f":"IF(Q60=0,M58,M58+Q60)","v":0},null,null,{"$f":"IF(T60=0,P58,P58+T60)","v":0},null,null,{"$f":"IF(W60=0,S58,S58+W60)","v":0},null,null,{"$f":"IF(Z60=0,V58,V58+Z60)","v":0},null,null,{"$f":"IF(AC60=0,Y58,Y58+AC60)","v":0},null,null,{"$f":"IF(AF60=0,AB58,AB58+AF60)","v":0},null,null,{"$f":"IF(AI60=0,AE58,AE58+AI60)","v":0},null,null,{"$f":"IF(AL60=0,AH58,AH58+AL60)","v":0},null,null,{"$f":"IF(AO60=0,AK58,AK58+AO60)","v":0},null,null,{"$f":"IF(AR60=0,AN58,AN58+AR60)","v":0},null,null,{"$f":"IF(AU60=0,AQ58,AQ58+AU60)","v":0},null,null,{"$f":"IF(AX60=0,AT58,AT58+AX60)","v":0},null,null,{"$f":"IF(BA60=0,AW58,AW58+BA60)","v":0},null,null,{"$f":"IF(BD60=0,AZ58,AZ58+BD60)","v":0},null,null,{"$f":"IF(BG60=0,BC58,BC58+BG60)","v":0},null,null,{"$f":"IF(BJ60=0,BF58,BF58+BJ60)","v":0},null,null,{"$f":"IF(BM60=0,BI58,BI58+BM60)","v":0},null,null,{"$f":"IF(BP60=0,BL58,BL58+BP60)","v":0},null,null,{"$f":"IF(BS60=0,BO58,BO58+BS60)","v":0},null,null,{"$f":"IF(BV60=0,BR58,BR58+BV60)","v":0},null,null,{"$f":"IF(BY60=0,BU58,BU58+BY60)","v":0},null,null,{"$f":"IF(CB60=0,BX58,BX58+CB60)","v":0},null,null,{"$f":"IF(CE60=0,CA58,CA58+CE60)","v":0},null,null,{"$f":"IFERROR(CG60/K60,0)","v":0}]
[null,null,".",null,"0",null,null,null,"."]
[{"$f":"#REF!+1","v":{"$error":"#REF!"}},null,"$",{"$f":"F60","v":130000},"$$",{"$f":"C58","v":130000},null,null,".",null,0,null,{"$f":"ROUND(N60*$K60,2)","v":0},null,null,{"$f":"ROUND(Q60*$K60,2)","v":0},null,{"$f":"ROUND(S60*$K60,2)","v":0},null,{"$f":"ROUND(U60*$K60,2)","v":0},null,{"$f":"ROUND(W60*$K60,2)","v":0},null,{"$f":"ROUND(Y60*$K60,2)","v":0},null,{"$f":"ROUND(AA60*$K60,2)","v":0},null,{"$f":"ROUND(AC60*$K60,2)","v":0},null,{"$f":"ROUND(AE60*$K60,2)","v":0},null,{"$f":"ROUND(AG60*$K60,2)","v":0},null,{"$f":"ROUND(AI60*$K60,2)","v":0},null,{"$f":"ROUND(AK60*$K60,2)","v":0},null,{"$f":"ROUND(AM60*$K60,2)","v":0},null,{"$f":"ROUND(AO60*$K60,2)","v":0},null,{"$f":"ROUND(AQ60*$K60,2)","v":0},null,{"$f":"ROUND(AS60*$K60,2)","v":0},null,{"$f":"ROUND(AU60*$K60,2)","v":0},null,{"$f":"ROUND(AW60*$K60,2)","v":0},null,{"$f":"ROUND(AY60*$K60,2)","v":0},null,{"$f":"ROUND(BA60*$K60,2)","v":0},null,{"$f":"ROUND(BC60*$K60,2)","v":0},null,{"$f":"ROUND(BE60*$K60,2)","v":0},null,{"$f":"ROUND(BG60*$K60,2)","v":0},null,{"$f":"ROUND(BI60*$K60,2)","v":0},null,{"$f":"ROUND(BK60*$K60,2)","v":0},null,{"$f":"ROUND(BM60*$K60,2)","v":0},null,{"$f":"ROUND(BO60*$K60,2)","v":0},null,{"$f":"ROUND(BQ60*$K60,2)","v":0},null,{"$f":"ROUND(BS60*$K60,2)","v":0},null,{"$f":"ROUND(BU60*$K60,2)","v":0},null,{"$f":"ROUND(BW60*$K60,2)","v":0},null,{"$f":"ROUND(BY60*$K60,2)","v":0},null,{"$f":"ROUND(CA60*$K60,2)","v":0},null,{"$f":"ROUND(CC60*$K60,2)","v":0},null,{"$f":"ROUND(CE60*$K60,2)","v":0},null,null,{"$f":"SUMIF(L$6:CF$6,\"=1\",$L60:$CF60)","v":0},null,null,{"$f":"K60-CG60","v":0}]
[{"$f":"A60+1","v":{"$error":"#REF!"}},null,"."]
[{"$f":"A61+1","v":{"$error":"#REF!"}},null,{"$f":"C58+10000","v":140000},".",".",{"$f":"VLOOKUP(C62,Orc,4)","v":"REVESTIMENTOS"},null,null,".",null,null,null,{"$f":"IF(N64=0,0,N64)","v":0},null,null,{"$f":"IF(Q64=0,M62,M62+Q64)","v":0},null,null,{"$f":"IF(T64=0,P62,P62+T64)","v":0},null,null,{"$f":"IF(W64=0,S62,S62+W64)","v":0},null,null,{"$f":"IF(Z64=0,V62,V62+Z64)","v":0},null,null,{"$f":"IF(AC64=0,Y62,Y62+AC64)","v":0},null,null,{"$f":"IF(AF64=0,AB62,AB62+AF64)","v":0},null,null,{"$f":"IF(AI64=0,AE62,AE62+AI64)","v":0},null,null,{"$f":"IF(AL64=0,AH62,AH62+AL64)","v":0},null,null,{"$f":"IF(AO64=0,AK62,AK62+AO64)","v":0},null,null,{"$f":"IF(AR64=0,AN62,AN62+AR64)","v":0},null,null,{"$f":"IF(AU64=0,AQ62,AQ62+AU64)","v":0},null,null,{"$f":"IF(AX64=0,AT62,AT62+AX64)","v":0},null,null,{"$f":"IF(BA64=0,AW62,AW62+BA64)","v":0},null,null,{"$f":"IF(BD64=0,AZ62,AZ62+BD64)","v":0},null,null,{"$f":"IF(BG64=0,BC62,BC62+BG64)","v":0},null,null,{"$f":"IF(BJ64=0,BF62,BF62+BJ64)","v":0},null,null,{"$f":"IF(BM64=0,BI62,BI62+BM64)","v":0},null,null,{"$f":"IF(BP64=0,BL62,BL62+BP64)","v":0},null,null,{"$f":"IF(BS64=0,BO62,BO62+BS64)","v":0},null,null,{"$f":"IF(BV64=0,BR62,BR62+BV64)","v":0},null,null,{"$f":"IF(BY64=0,BU62,BU62+BY64)","v":0},null,null,{"$f":"IF(CB64=0,BX62,BX62+CB64)","v":0},null,null,{"$f":"IF(CE64=0,CA62,CA62+CE64)","v":0},null,null,{"$f":"IFERROR(CG64/K64,0)","v":0}]
[null,null,".",null,"0",null,null,null,"."]
[{"$f":"#REF!+1","v":{"$error":"#REF!"}},null,"$",{"$f":"F64","v":140000},"$$",{"$f":"C62","v":140000},null,null,".",null,0,null,{"$f":"ROUND(N64*$K64,2)","v":0},null,null,{"$f":"ROUND(Q64*$K64,2)","v":0},null,{"$f":"ROUND(S64*$K64,2)","v":0},null,{"$f":"ROUND(U64*$K64,2)","v":0},null,{"$f":"ROUND(W64*$K64,2)","v":0},null,{"$f":"ROUND(Y64*$K64,2)","v":0},null,{"$f":"ROUND(AA64*$K64,2)","v":0},null,{"$f":"ROUND(AC64*$K64,2)","v":0},null,{"$f":"ROUND(AE64*$K64,2)","v":0},null,{"$f":"ROUND(AG64*$K64,2)","v":0},null,{"$f":"ROUND(AI64*$K64,2)","v":0},null,{"$f":"ROUND(AK64*$K64,2)","v":0},null,{"$f":"ROUND(AM64*$K64,2)","v":0},null,{"$f":"ROUND(AO64*$K64,2)","v":0},null,{"$f":"ROUND(AQ64*$K64,2)","v":0},null,{"$f":"ROUND(AS64*$K64,2)","v":0},null,{"$f":"ROUND(AU64*$K64,2)","v":0},null,{"$f":"ROUND(AW64*$K64,2)","v":0},null,{"$f":"ROUND(AY64*$K64,2)","v":0},null,{"$f":"ROUND(BA64*$K64,2)","v":0},null,{"$f":"ROUND(BC64*$K64,2)","v":0},null,{"$f":"ROUND(BE64*$K64,2)","v":0},null,{"$f":"ROUND(BG64*$K64,2)","v":0},null,{"$f":"ROUND(BI64*$K64,2)","v":0},null,{"$f":"ROUND(BK64*$K64,2)","v":0},null,{"$f":"ROUND(BM64*$K64,2)","v":0},null,{"$f":"ROUND(BO64*$K64,2)","v":0},null,{"$f":"ROUND(BQ64*$K64,2)","v":0},null,{"$f":"ROUND(BS64*$K64,2)","v":0},null,{"$f":"ROUND(BU64*$K64,2)","v":0},null,{"$f":"ROUND(BW64*$K64,2)","v":0},null,{"$f":"ROUND(BY64*$K64,2)","v":0},null,{"$f":"ROUND(CA64*$K64,2)","v":0},null,{"$f":"ROUND(CC64*$K64,2)","v":0},null,{"$f":"ROUND(CE64*$K64,2)","v":0},null,null,{"$f":"SUMIF(L$6:CF$6,\"=1\",$L64:$CF64)","v":0},null,null,{"$f":"K64-CG64","v":0}]
[{"$f":"A64+1","v":{"$error":"#REF!"}},null,"."]
[{"$f":"A65+1","v":{"$error":"#REF!"}},null,{"$f":"C62+10000","v":150000},".",".",{"$f":"VLOOKUP(C66,Orc,4)","v":"INSTALAÇÕES HIDRÁULICAS"},null,null,".",null,null,null,{"$f":"IF(N68=0,0,N68)","v":0},null,null,{"$f":"IF(Q68=0,M66,M66+Q68)","v":0},null,null,{"$f":"IF(T68=0,P66,P66+T68)","v":0},null,null,{"$f":"IF(W68=0,S66,S66+W68)","v":0},null,null,{"$f":"IF(Z68=0,V66,V66+Z68)","v":0},null,null,{"$f":"IF(AC68=0,Y66,Y66+AC68)","v":0},null,null,{"$f":"IF(AF68=0,AB66,AB66+AF68)","v":0},null,null,{"$f":"IF(AI68=0,AE66,AE66+AI68)","v":0},null,null,{"$f":"IF(AL68=0,AH66,AH66+AL68)","v":0},null,null,{"$f":"IF(AO68=0,AK66,AK66+AO68)","v":0},null,null,{"$f":"IF(AR68=0,AN66,AN66+AR68)","v":0},null,null,{"$f":"IF(AU68=0,AQ66,AQ66+AU68)","v":0},null,null,{"$f":"IF(AX68=0,AT66,AT66+AX68)","v":0},null,null,{"$f":"IF(BA68=0,AW66,AW66+BA68)","v":0},null,null,{"$f":"IF(BD68=0,AZ66,AZ66+BD68)","v":0},null,null,{"$f":"IF(BG68=0,BC66,BC66+BG68)","v":0},null,null,{"$f":"IF(BJ68=0,BF66,BF66+BJ68)","v":0},null,null,{"$f":"IF(BM68=0,BI66,BI66+BM68)","v":0},null,null,{"$f":"IF(BP68=0,BL66,BL66+BP68)","v":0},null,null,{"$f":"IF(BS68=0,BO66,BO66+BS68)","v":0},null,null,{"$f":"IF(BV68=0,BR66,BR66+BV68)","v":0},null,null,{"$f":"IF(BY68=0,BU66,BU66+BY68)","v":0},null,null,{"$f":"IF(CB68=0,BX66,BX66+CB68)","v":0},null,null,{"$f":"IF(CE68=0,CA66,CA66+CE68)","v":0},null,null,{"$f":"IFERROR(CG68/K68,0)","v":0}]
[null,null,".",null,"0",null,null,null,"."]
[{"$f":"#REF!+1","v":{"$error":"#REF!"}},null,"$",{"$f":"F68","v":150000},"$$",{"$f":"C66","v":150000},null,null,".",null,0,null,{"$f":"ROUND(N68*$K68,2)","v":0},null,null,{"$f":"ROUND(Q68*$K68,2)","v":0},null,{"$f":"ROUND(S68*$K68,2)","v":0},null,{"$f":"ROUND(U68*$K68,2)","v":0},null,{"$f":"ROUND(W68*$K68,2)","v":0},null,{"$f":"ROUND(Y68*$K68,2)","v":0},null,{"$f":"ROUND(AA68*$K68,2)","v":0},null,{"$f":"ROUND(AC68*$K68,2)","v":0},null,{"$f":"ROUND(AE68*$K68,2)","v":0},null,{"$f":"ROUND(AG68*$K68,2)","v":0},null,{"$f":"ROUND(AI68*$K68,2)","v":0},null,{"$f":"ROUND(AK68*$K68,2)","v":0},null,{"$f":"ROUND(AM68*$K68,2)","v":0},null,{"$f":"ROUND(AO68*$K68,2)","v":0},null,{"$f":"ROUND(AQ68*$K68,2)","v":0},null,{"$f":"ROUND(AS68*$K68,2)","v":0},null,{"$f":"ROUND(AU68*$K68,2)","v":0},null,{"$f":"ROUND(AW68*$K68,2)","v":0},null,{"$f":"ROUND(AY68*$K68,2)","v":0},null,{"$f":"ROUND(BA68*$K68,2)","v":0},null,{"$f":"ROUND(BC68*$K68,2)","v":0},null,{"$f":"ROUND(BE68*$K68,2)","v":0},null,{"$f":"ROUND(BG68*$K68,2)","v":0},null,{"$f":"ROUND(BI68*$K68,2)","v":0},null,{"$f":"ROUND(BK68*$K68,2)","v":0},null,{"$f":"ROUND(BM68*$K68,2)","v":0},null,{"$f":"ROUND(BO68*$K68,2)","v":0},null,{"$f":"ROUND(BQ68*$K68,2)","v":0},null,{"$f":"ROUND(BS68*$K68,2)","v":0},null,{"$f":"ROUND(BU68*$K68,2)","v":0},null,{"$f":"ROUND(BW68*$K68,2)","v":0},null,{"$f":"ROUND(BY68*$K68,2)","v":0},null,{"$f":"ROUND(CA68*$K68,2)","v":0},null,{"$f":"ROUND(CC68*$K68,2)","v":0},null,{"$f":"ROUND(CE68*$K68,2)","v":0},null,null,{"$f":"SUMIF(L$6:CF$6,\"=1\",$L68:$CF68)","v":0},null,null,{"$f":"K68-CG68","v":0}]
[{"$f":"A68+1","v":{"$error":"#REF!"}},null,"."]
[{"$f":"A69+1","v":{"$error":"#REF!"}},null,{"$f":"C66+10000","v":160000},".",".",{"$f":"VLOOKUP(C70,Orc,4)","v":"INSTALAÇÕES ELÉTRICA"},null,null,".",null,null,null,{"$f":"IF(N72=0,0,N72)","v":0},null,null,{"$f":"IF(Q72=0,M70,M70+Q72)","v":0},null,null,{"$f":"IF(T72=0,P70,P70+T72)","v":0},null,null,{"$f":"IF(W72=0,S70,S70+W72)","v":0},null,null,{"$f":"IF(Z72=0,V70,V70+Z72)","v":0},null,null,{"$f":"IF(AC72=0,Y70,Y70+AC72)","v":0},null,null,{"$f":"IF(AF72=0,AB70,AB70+AF72)","v":0},null,null,{"$f":"IF(AI72=0,AE70,AE70+AI72)","v":0},null,null,{"$f":"IF(AL72=0,AH70,AH70+AL72)","v":0},null,null,{"$f":"IF(AO72=0,AK70,AK70+AO72)","v":0},null,null,{"$f":"IF(AR72=0,AN70,AN70+AR72)","v":0},null,null,{"$f":"IF(AU72=0,AQ70,AQ70+AU72)","v":0},null,null,{"$f":"IF(AX72=0,AT70,AT70+AX72)","v":0},null,null,{"$f":"IF(BA72=0,AW70,AW70+BA72)","v":0},null,null,{"$f":"IF(BD72=0,AZ70,AZ70+BD72)","v":0},null,null,{"$f":"IF(BG72=0,BC70,BC70+BG72)","v":0},null,null,{"$f":"IF(BJ72=0,BF70,BF70+BJ72)","v":0},null,null,{"$f":"IF(BM72=0,BI70,BI70+BM72)","v":0},null,null,{"$f":"IF(BP72=0,BL70,BL70+BP72)","v":0},null,null,{"$f":"IF(BS72=0,BO70,BO70+BS72)","v":0},null,null,{"$f":"IF(BV72=0,BR70,BR70+BV72)","v":0},null,null,{"$f":"IF(BY72=0,BU70,BU70+BY72)","v":0},null,null,{"$f":"IF(CB72=0,BX70,BX70+CB72)","v":0},null,null,{"$f":"IF(CE72=0,CA70,CA70+CE72)","v":0},null,null,{"$f":"IFERROR(CG72/K72,0)","v":0}]
[null,null,".",null,"0",null,null,null,"."]
[{"$f":"#REF!+1","v":{"$error":"#REF!"}},null,"$",{"$f":"F72","v":160000},"$$",{"$f":"C70","v":160000},null,null,".",null,0,null,{"$f":"ROUND(N72*$K72,2)","v":0},null,null,{"$f":"ROUND(Q72*$K72,2)","v":0},null,{"$f":"ROUND(S72*$K72,2)","v":0},null,{"$f":"ROUND(U72*$K72,2)","v":0},null,{"$f":"ROUND(W72*$K72,2)","v":0},null,{"$f":"ROUND(Y72*$K72,2)","v":0},null,{"$f":"ROUND(AA72*$K72,2)","v":0},null,{"$f":"ROUND(AC72*$K72,2)","v":0},null,{"$f":"ROUND(AE72*$K72,2)","v":0},null,{"$f":"ROUND(AG72*$K72,2)","v":0},null,{"$f":"ROUND(AI72*$K72,2)","v":0},null,{"$f":"ROUND(AK72*$K72,2)","v":0},null,{"$f":"ROUND(AM72*$K72,2)","v":0},null,{"$f":"ROUND(AO72*$K72,2)","v":0},null,{"$f":"ROUND(AQ72*$K72,2)","v":0},null,{"$f":"ROUND(AS72*$K72,2)","v":0},null,{"$f":"ROUND(AU72*$K72,2)","v":0},null,{"$f":"ROUND(AW72*$K72,2)","v":0},null,{"$f":"ROUND(AY72*$K72,2)","v":0},null,{"$f":"ROUND(BA72*$K72,2)","v":0},null,{"$f":"ROUND(BC72*$K72,2)","v":0},null,{"$f":"ROUND(BE72*$K72,2)","v":0},null,{"$f":"ROUND(BG72*$K72,2)","v":0},null,{"$f":"ROUND(BI72*$K72,2)","v":0},null,{"$f":"ROUND(BK72*$K72,2)","v":0},null,{"$f":"ROUND(BM72*$K72,2)","v":0},null,{"$f":"ROUND(BO72*$K72,2)","v":0},null,{"$f":"ROUND(BQ72*$K72,2)","v":0},null,{"$f":"ROUND(BS72*$K72,2)","v":0},null,{"$f":"ROUND(BU72*$K72,2)","v":0},null,{"$f":"ROUND(BW72*$K72,2)","v":0},null,{"$f":"ROUND(BY72*$K72,2)","v":0},null,{"$f":"ROUND(CA72*$K72,2)","v":0},null,{"$f":"ROUND(CC72*$K72,2)","v":0},null,{"$f":"ROUND(CE72*$K72,2)","v":0},null,null,{"$f":"SUMIF(L$6:CF$6,\"=1\",$L72:$CF72)","v":0},null,null,{"$f":"K72-CG72","v":0}]
[{"$f":"A72+1","v":{"$error":"#REF!"}}]
[{"$f":"A73+1","v":{"$error":"#REF!"}},null,{"$f":"C70+10000","v":170000},".",".",{"$f":"VLOOKUP(C74,Orc,4)","v":"EQUIPAMENTOS"},null,null,".",null,null,null,{"$f":"IF(N76=0,0,N76)","v":0},null,null,{"$f":"IF(Q76=0,M74,M74+Q76)","v":0},null,null,{"$f":"IF(T76=0,P74,P74+T76)","v":0},null,null,{"$f":"IF(W76=0,S74,S74+W76)","v":0},null,null,{"$f":"IF(Z76=0,V74,V74+Z76)","v":0},null,null,{"$f":"IF(AC76=0,Y74,Y74+AC76)","v":0},null,null,{"$f":"IF(AF76=0,AB74,AB74+AF76)","v":0},null,null,{"$f":"IF(AI76=0,AE74,AE74+AI76)","v":0},null,null,{"$f":"IF(AL76=0,AH74,AH74+AL76)","v":0},null,null,{"$f":"IF(AO76=0,AK74,AK74+AO76)","v":0},null,null,{"$f":"IF(AR76=0,AN74,AN74+AR76)","v":0},null,null,{"$f":"IF(AU76=0,AQ74,AQ74+AU76)","v":0},null,null,{"$f":"IF(AX76=0,AT74,AT74+AX76)","v":0},null,null,{"$f":"IF(BA76=0,AW74,AW74+BA76)","v":0},null,null,{"$f":"IF(BD76=0,AZ74,AZ74+BD76)","v":0},null,null,{"$f":"IF(BG76=0,BC74,BC74+BG76)","v":0},null,null,{"$f":"IF(BJ76=0,BF74,BF74+BJ76)","v":0},null,null,{"$f":"IF(BM76=0,BI74,BI74+BM76)","v":0},null,null,{"$f":"IF(BP76=0,BL74,BL74+BP76)","v":0},null,null,{"$f":"IF(BS76=0,BO74,BO74+BS76)","v":0},null,null,{"$f":"IF(BV76=0,BR74,BR74+BV76)","v":0},null,null,{"$f":"IF(BY76=0,BU74,BU74+BY76)","v":0},null,null,{"$f":"IF(CB76=0,BX74,BX74+CB76)","v":0},null,null,{"$f":"IF(CE76=0,CA74,CA74+CE76)","v":0},null,null,{"$f":"IFERROR(CG76/K76,0)","v":0}]
[null,null,null,null,"0",null,null,null,"."]
[{"$f":"#REF!+1","v":{"$error":"#REF!"}},null,"$",{"$f":"F76","v":170000},"$$",{"$f":"C74","v":170000},null,null,".",null,0,null,{"$f":"ROUND(N76*$K76,2)","v":0},null,null,{"$f":"ROUND(Q76*$K76,2)","v":0},null,{"$f":"ROUND(S76*$K76,2)","v":0},null,{"$f":"ROUND(U76*$K76,2)","v":0},null,{"$f":"ROUND(W76*$K76,2)","v":0},null,{"$f":"ROUND(Y76*$K76,2)","v":0},null,{"$f":"ROUND(AA76*$K76,2)","v":0},null,{"$f":"ROUND(AC76*$K76,2)","v":0},null,{"$f":"ROUND(AE76*$K76,2)","v":0},null,{"$f":"ROUND(AG76*$K76,2)","v":0},null,{"$f":"ROUND(AI76*$K76,2)","v":0},null,{"$f":"ROUND(AK76*$K76,2)","v":0},null,{"$f":"ROUND(AM76*$K76,2)","v":0},null,{"$f":"ROUND(AO76*$K76,2)","v":0},null,{"$f":"ROUND(AQ76*$K76,2)","v":0},null,{"$f":"ROUND(AS76*$K76,2)","v":0},null,{"$f":"ROUND(AU76*$K76,2)","v":0},null,{"$f":"ROUND(AW76*$K76,2)","v":0},null,{"$f":"ROUND(AY76*$K76,2)","v":0},null,{"$f":"ROUND(BA76*$K76,2)","v":0},null,{"$f":"ROUND(BC76*$K76,2)","v":0},null,{"$f":"ROUND(BE76*$K76,2)","v":0},null,{"$f":"ROUND(BG76*$K76,2)","v":0},null,{"$f":"ROUND(BI76*$K76,2)","v":0},null,{"$f":"ROUND(BK76*$K76,2)","v":0},null,{"$f":"ROUND(BM76*$K76,2)","v":0},null,{"$f":"ROUND(BO76*$K76,2)","v":0},null,{"$f":"ROUND(BQ76*$K76,2)","v":0},null,{"$f":"ROUND(BS76*$K76,2)","v":0},null,{"$f":"ROUND(BU76*$K76,2)","v":0},null,{"$f":"ROUND(BW76*$K76,2)","v":0},null,{"$f":"ROUND(BY76*$K76,2)","v":0},null,{"$f":"ROUND(CA76*$K76,2)","v":0},null,{"$f":"ROUND(CC76*$K76,2)","v":0},null,{"$f":"ROUND(CE76*$K76,2)","v":0},null,null,{"$f":"SUMIF(L$6:CF$6,\"=1\",$L76:$CF76)","v":0},null,null,{"$f":"K76-CG76","v":0}]
[{"$f":"A76+1","v":{"$error":"#REF!"}},null,"."]
[{"$f":"A77+1","v":{"$error":"#REF!"}},null,{"$f":"C74+10000","v":180000},".",".",{"$f":"VLOOKUP(C78,Orc,4)","v":"PINTURAS E TEXTURAS"},null,null,".",null,null,null,{"$f":"IF(N80=0,0,N80)","v":0},null,null,{"$f":"IF(Q80=0,M78,M78+Q80)","v":0},null,null,{"$f":"IF(T80=0,P78,P78+T80)","v":0},null,null,{"$f":"IF(W80=0,S78,S78+W80)","v":0},null,null,{"$f":"IF(Z80=0,V78,V78+Z80)","v":0},null,null,{"$f":"IF(AC80=0,Y78,Y78+AC80)","v":0},null,null,{"$f":"IF(AF80=0,AB78,AB78+AF80)","v":0},null,null,{"$f":"IF(AI80=0,AE78,AE78+AI80)","v":0},null,null,{"$f":"IF(AL80=0,AH78,AH78+AL80)","v":0},null,null,{"$f":"IF(AO80=0,AK78,AK78+AO80)","v":0},null,null,{"$f":"IF(AR80=0,AN78,AN78+AR80)","v":0},null,null,{"$f":"IF(AU80=0,AQ78,AQ78+AU80)","v":0},null,null,{"$f":"IF(AX80=0,AT78,AT78+AX80)","v":0},null,null,{"$f":"IF(BA80=0,AW78,AW78+BA80)","v":0},null,null,{"$f":"IF(BD80=0,AZ78,AZ78+BD80)","v":0},null,null,{"$f":"IF(BG80=0,BC78,BC78+BG80)","v":0},null,null,{"$f":"IF(BJ80=0,BF78,BF78+BJ80)","v":0},null,null,{"$f":"IF(BM80=0,BI78,BI78+BM80)","v":0},null,null,{"$f":"IF(BP80=0,BL78,BL78+BP80)","v":0},null,null,{"$f":"IF(BS80=0,BO78,BO78+BS80)","v":0},null,null,{"$f":"IF(BV80=0,BR78,BR78+BV80)","v":0},null,null,{"$f":"IF(BY80=0,BU78,BU78+BY80)","v":0},null,null,{"$f":"IF(CB80=0,BX78,BX78+CB80)","v":0},null,null,{"$f":"IF(CE80=0,CA78,CA78+CE80)","v":0},null,null,{"$f":"IFERROR(CG80/K80,0)","v":0}]
[null,null,".",null,"0",null,null,null,"."]
[{"$f":"#REF!+1","v":{"$error":"#REF!"}},null,"$",{"$f":"F80","v":180000},"$$",{"$f":"C78","v":180000},null,null,".",null,0,null,{"$f":"ROUND(N80*$K80,2)","v":0},null,null,{"$f":"ROUND(Q80*$K80,2)","v":0},null,{"$f":"ROUND(S80*$K80,2)","v":0},null,{"$f":"ROUND(U80*$K80,2)","v":0},null,{"$f":"ROUND(W80*$K80,2)","v":0},null,{"$f":"ROUND(Y80*$K80,2)","v":0},null,{"$f":"ROUND(AA80*$K80,2)","v":0},null,{"$f":"ROUND(AC80*$K80,2)","v":0},null,{"$f":"ROUND(AE80*$K80,2)","v":0},null,{"$f":"ROUND(AG80*$K80,2)","v":0},null,{"$f":"ROUND(AI80*$K80,2)","v":0},null,{"$f":"ROUND(AK80*$K80,2)","v":0},null,{"$f":"ROUND(AM80*$K80,2)","v":0},null,{"$f":"ROUND(AO80*$K80,2)","v":0},null,{"$f":"ROUND(AQ80*$K80,2)","v":0},null,{"$f":"ROUND(AS80*$K80,2)","v":0},null,{"$f":"ROUND(AU80*$K80,2)","v":0},null,{"$f":"ROUND(AW80*$K80,2)","v":0},null,{"$f":"ROUND(AY80*$K80,2)","v":0},null,{"$f":"ROUND(BA80*$K80,2)","v":0},null,{"$f":"ROUND(BC80*$K80,2)","v":0},null,{"$f":"ROUND(BE80*$K80,2)","v":0},null,{"$f":"ROUND(BG80*$K80,2)","v":0},null,{"$f":"ROUND(BI80*$K80,2)","v":0},null,{"$f":"ROUND(BK80*$K80,2)","v":0},null,{"$f":"ROUND(BM80*$K80,2)","v":0},null,{"$f":"ROUND(BO80*$K80,2)","v":0},null,{"$f":"ROUND(BQ80*$K80,2)","v":0},null,{"$f":"ROUND(BS80*$K80,2)","v":0},null,{"$f":"ROUND(BU80*$K80,2)","v":0},null,{"$f":"ROUND(BW80*$K80,2)","v":0},null,{"$f":"ROUND(BY80*$K80,2)","v":0},null,{"$f":"ROUND(CA80*$K80,2)","v":0},null,{"$f":"ROUND(CC80*$K80,2)","v":0},null,{"$f":"ROUND(CE80*$K80,2)","v":0},null,null,{"$f":"SUMIF(L$6:CF$6,\"=1\",$L80:$CF80)","v":0},null,null,{"$f":"K80-CG80","v":0}]
[{"$f":"A80+1","v":{"$error":"#REF!"}},null,"."]
[{"$f":"A81+1","v":{"$error":"#REF!"}},null,{"$f":"C78+10000","v":190000},".",".",{"$f":"VLOOKUP(C82,Orc,4)","v":"DRENAGEM"},null,null,".",null,null,null,{"$f":"IF(N84=0,0,N84)","v":0},null,null,{"$f":"IF(Q84=0,M82,M82+Q84)","v":0},null,null,{"$f":"IF(T84=0,P82,P82+T84)","v":0},null,null,{"$f":"IF(W84=0,S82,S82+W84)","v":0},null,null,{"$f":"IF(Z84=0,V82,V82+Z84)","v":0},null,null,{"$f":"IF(AC84=0,Y82,Y82+AC84)","v":0},null,null,{"$f":"IF(AF84=0,AB82,AB82+AF84)","v":0},null,null,{"$f":"IF(AI84=0,AE82,AE82+AI84)","v":0},null,null,{"$f":"IF(AL84=0,AH82,AH82+AL84)","v":0},null,null,{"$f":"IF(AO84=0,AK82,AK82+AO84)","v":0},null,null,{"$f":"IF(AR84=0,AN82,AN82+AR84)","v":0},null,null,{"$f":"IF(AU84=0,AQ82,AQ82+AU84)","v":0},null,null,{"$f":"IF(AX84=0,AT82,AT82+AX84)","v":0},null,null,{"$f":"IF(BA84=0,AW82,AW82+BA84)","v":0},null,null,{"$f":"IF(BD84=0,AZ82,AZ82+BD84)","v":0},null,null,{"$f":"IF(BG84=0,BC82,BC82+BG84)","v":0},null,null,{"$f":"IF(BJ84=0,BF82,BF82+BJ84)","v":0},null,null,{"$f":"IF(BM84=0,BI82,BI82+BM84)","v":0},null,null,{"$f":"IF(BP84=0,BL82,BL82+BP84)","v":0},null,null,{"$f":"IF(BS84=0,BO82,BO82+BS84)","v":0},null,null,{"$f":"IF(BV84=0,BR82,BR82+BV84)","v":0},null,null,{"$f":"IF(BY84=0,BU82,BU82+BY84)","v":0},null,null,{"$f":"IF(CB84=0,BX82,BX82+CB84)","v":0},null,null,{"$f":"IF(CE84=0,CA82,CA82+CE84)","v":0},null,null,{"$f":"IFERROR(CG84/K84,0)","v":0}]
[null,null,".",null,"0",null,null,null,"."]
[{"$f":"#REF!+1","v":{"$error":"#REF!"}},null,"$",{"$f":"F84","v":190000},"$$",{"$f":"C82","v":190000},null,null,".",null,0,null,{"$f":"ROUND(N84*$K84,2)","v":0},null,null,{"$f":"ROUND(Q84*$K84,2)","v":0},null,{"$f":"ROUND(S84*$K84,2)","v":0},null,{"$f":"ROUND(U84*$K84,2)","v":0},null,{"$f":"ROUND(W84*$K84,2)","v":0},null,{"$f":"ROUND(Y84*$K84,2)","v":0},null,{"$f":"ROUND(AA84*$K84,2)","v":0},null,{"$f":"ROUND(AC84*$K84,2)","v":0},null,{"$f":"ROUND(AE84*$K84,2)","v":0},null,{"$f":"ROUND(AG84*$K84,2)","v":0},null,{"$f":"ROUND(AI84*$K84,2)","v":0},null,{"$f":"ROUND(AK84*$K84,2)","v":0},null,{"$f":"ROUND(AM84*$K84,2)","v":0},null,{"$f":"ROUND(AO84*$K84,2)","v":0},null,{"$f":"ROUND(AQ84*$K84,2)","v":0},null,{"$f":"ROUND(AS84*$K84,2)","v":0},null,{"$f":"ROUND(AU84*$K84,2)","v":0},null,{"$f":"ROUND(AW84*$K84,2)","v":0},null,{"$f":"ROUND(AY84*$K84,2)","v":0},null,{"$f":"ROUND(BA84*$K84,2)","v":0},null,{"$f":"ROUND(BC84*$K84,2)","v":0},null,{"$f":"ROUND(BE84*$K84,2)","v":0},null,{"$f":"ROUND(BG84*$K84,2)","v":0},null,{"$f":"ROUND(BI84*$K84,2)","v":0},null,{"$f":"ROUND(BK84*$K84,2)","v":0},null,{"$f":"ROUND(BM84*$K84,2)","v":0},null,{"$f":"ROUND(BO84*$K84,2)","v":0},null,{"$f":"ROUND(BQ84*$K84,2)","v":0},null,{"$f":"ROUND(BS84*$K84,2)","v":0},null,{"$f":"ROUND(BU84*$K84,2)","v":0},null,{"$f":"ROUND(BW84*$K84,2)","v":0},null,{"$f":"ROUND(BY84*$K84,2)","v":0},null,{"$f":"ROUND(CA84*$K84,2)","v":0},null,{"$f":"ROUND(CC84*$K84,2)","v":0},null,{"$f":"ROUND(CE84*$K84,2)","v":0},null,null,{"$f":"SUMIF(L$6:CF$6,\"=1\",$L84:$CF84)","v":0},null,null,{"$f":"K84-CG84","v":0}]
[{"$f":"A84+1","v":{"$error":"#REF!"}},null,"."]
[{"$f":"A85+1","v":{"$error":"#REF!"}},null,{"$f":"C82+10000","v":200000},".",".",{"$f":"VLOOKUP(C86,Orc,4)","v":"MUROS, GRADIL, PORTÕES E ALAMBRADO"},null,null,".",null,null,null,{"$f":"IF(N88=0,0,N88)","v":0},null,null,{"$f":"IF(Q88=0,M86,M86+Q88)","v":0},null,null,{"$f":"IF(T88=0,P86,P86+T88)","v":0},null,null,{"$f":"IF(W88=0,S86,S86+W88)","v":0},null,null,{"$f":"IF(Z88=0,V86,V86+Z88)","v":0},null,null,{"$f":"IF(AC88=0,Y86,Y86+AC88)","v":0},null,null,{"$f":"IF(AF88=0,AB86,AB86+AF88)","v":0},null,null,{"$f":"IF(AI88=0,AE86,AE86+AI88)","v":0},null,null,{"$f":"IF(AL88=0,AH86,AH86+AL88)","v":0},null,null,{"$f":"IF(AO88=0,AK86,AK86+AO88)","v":0},null,null,{"$f":"IF(AR88=0,AN86,AN86+AR88)","v":0},null,null,{"$f":"IF(AU88=0,AQ86,AQ86+AU88)","v":0},null,null,{"$f":"IF(AX88=0,AT86,AT86+AX88)","v":0},null,null,{"$f":"IF(BA88=0,AW86,AW86+BA88)","v":0},null,null,{"$f":"IF(BD88=0,AZ86,AZ86+BD88)","v":0},null,null,{"$f":"IF(BG88=0,BC86,BC86+BG88)","v":0},null,null,{"$f":"IF(BJ88=0,BF86,BF86+BJ88)","v":0},null,null,{"$f":"IF(BM88=0,BI86,BI86+BM88)","v":0},null,null,{"$f":"IF(BP88=0,BL86,BL86+BP88)","v":0},null,null,{"$f":"IF(BS88=0,BO86,BO86+BS88)","v":0},null,null,{"$f":"IF(BV88=0,BR86,BR86+BV88)","v":0},null,null,{"$f":"IF(BY88=0,BU86,BU86+BY88)","v":0},null,null,{"$f":"IF(CB88=0,BX86,BX86+CB88)","v":0},null,null,{"$f":"IF(CE88=0,CA86,CA86+CE88)","v":0},null,null,{"$f":"IFERROR(CG88/K88,0)","v":0}]
[null,null,".",null,"0",null,null,null,"."]
[{"$f":"#REF!+1","v":{"$error":"#REF!"}},null,"$",{"$f":"F88","v":200000},"$$",{"$f":"C86","v":200000},null,null,".",null,0,null,{"$f":"ROUND(N88*$K88,2)","v":0},null,null,{"$f":"ROUND(Q88*$K88,2)","v":0},null,{"$f":"ROUND(S88*$K88,2)","v":0},null,{"$f":"ROUND(U88*$K88,2)","v":0},null,{"$f":"ROUND(W88*$K88,2)","v":0},null,{"$f":"ROUND(Y88*$K88,2)","v":0},null,{"$f":"ROUND(AA88*$K88,2)","v":0},null,{"$f":"ROUND(AC88*$K88,2)","v":0},null,{"$f":"ROUND(AE88*$K88,2)","v":0},null,{"$f":"ROUND(AG88*$K88,2)","v":0},null,{"$f":"ROUND(AI88*$K88,2)","v":0},null,{"$f":"ROUND(AK88*$K88,2)","v":0},null,{"$f":"ROUND(AM88*$K88,2)","v":0},null,{"$f":"ROUND(AO88*$K88,2)","v":0},null,{"$f":"ROUND(AQ88*$K88,2)","v":0},null,{"$f":"ROUND(AS88*$K88,2)","v":0},null,{"$f":"ROUND(AU88*$K88,2)","v":0},null,{"$f":"ROUND(AW88*$K88,2)","v":0},null,{"$f":"ROUND(AY88*$K88,2)","v":0},null,{"$f":"ROUND(BA88*$K88,2)","v":0},null,{"$f":"ROUND(BC88*$K88,2)","v":0},null,{"$f":"ROUND(BE88*$K88,2)","v":0},null,{"$f":"ROUND(BG88*$K88,2)","v":0},null,{"$f":"ROUND(BI88*$K88,2)","v":0},null,{"$f":"ROUND(BK88*$K88,2)","v":0},null,{"$f":"ROUND(BM88*$K88,2)","v":0},null,{"$f":"ROUND(BO88*$K88,2)","v":0},null,{"$f":"ROUND(BQ88*$K88,2)","v":0},null,{"$f":"ROUND(BS88*$K88,2)","v":0},null,{"$f":"ROUND(BU88*$K88,2)","v":0},null,{"$f":"ROUND(BW88*$K88,2)","v":0},null,{"$f":"ROUND(BY88*$K88,2)","v":0},null,{"$f":"ROUND(CA88*$K88,2)","v":0},null,{"$f":"ROUND(CC88*$K88,2)","v":0},null,{"$f":"ROUND(CE88*$K88,2)","v":0},null,null,{"$f":"SUMIF(L$6:CF$6,\"=1\",$L88:$CF88)","v":0},null,null,{"$f":"K88-CG88","v":0}]
[{"$f":"A88+1","v":{"$error":"#REF!"}},null,"."]
[{"$f":"A89+1","v":{"$error":"#REF!"}},null,{"$f":"C86+10000","v":210000},".",".",{"$f":"VLOOKUP(C90,Orc,4)","v":"LIMPEZA"},null,null,".",null,null,null,{"$f":"IF(N92=0,0,N92)","v":0},null,null,{"$f":"IF(Q92=0,M90,M90+Q92)","v":0},null,null,{"$f":"IF(T92=0,P90,P90+T92)","v":0},null,null,{"$f":"IF(W92=0,S90,S90+W92)","v":0},null,null,{"$f":"IF(Z92=0,V90,V90+Z92)","v":0},null,null,{"$f":"IF(AC92=0,Y90,Y90+AC92)","v":0},null,null,{"$f":"IF(AF92=0,AB90,AB90+AF92)","v":0},null,null,{"$f":"IF(AI92=0,AE90,AE90+AI92)","v":0},null,null,{"$f":"IF(AL92=0,AH90,AH90+AL92)","v":0},null,null,{"$f":"IF(AO92=0,AK90,AK90+AO92)","v":0},null,null,{"$f":"IF(AR92=0,AN90,AN90+AR92)","v":0},null,null,{"$f":"IF(AU92=0,AQ90,AQ90+AU92)","v":0},null,null,{"$f":"IF(AX92=0,AT90,AT90+AX92)","v":0},null,null,{"$f":"IF(BA92=0,AW90,AW90+BA92)","v":0},null,null,{"$f":"IF(BD92=0,AZ90,AZ90+BD92)","v":0},null,null,{"$f":"IF(BG92=0,BC90,BC90+BG92)","v":0},null,null,{"$f":"IF(BJ92=0,BF90,BF90+BJ92)","v":0},null,null,{"$f":"IF(BM92=0,BI90,BI90+BM92)","v":0},null,null,{"$f":"IF(BP92=0,BL90,BL90+BP92)","v":0},null,null,{"$f":"IF(BS92=0,BO90,BO90+BS92)","v":0},null,null,{"$f":"IF(BV92=0,BR90,BR90+BV92)","v":0},null,null,{"$f":"IF(BY92=0,BU90,BU90+BY92)","v":0},null,null,{"$f":"IF(CB92=0,BX90,BX90+CB92)","v":0},null,null,{"$f":"IF(CE92=0,CA90,CA90+CE92)","v":0},null,null,{"$f":"IFERROR(CG92/K92,0)","v":0}]
[null,null,".",null,"0",null,null,null,"."]
[{"$f":"#REF!+1","v":{"$error":"#REF!"}},null,"$",{"$f":"F92","v":210000},"$$",{"$f":"C90","v":210000},null,null,".",null,0,null,{"$f":"ROUND(N92*$K92,2)","v":0},null,null,{"$f":"ROUND(Q92*$K92,2)","v":0},null,{"$f":"ROUND(S92*$K92,2)","v":0},null,{"$f":"ROUND(U92*$K92,2)","v":0},null,{"$f":"ROUND(W92*$K92,2)","v":0},null,{"$f":"ROUND(Y92*$K92,2)","v":0},null,{"$f":"ROUND(AA92*$K92,2)","v":0},null,{"$f":"ROUND(AC92*$K92,2)","v":0},null,{"$f":"ROUND(AE92*$K92,2)","v":0},null,{"$f":"ROUND(AG92*$K92,2)","v":0},null,{"$f":"ROUND(AI92*$K92,2)","v":0},null,{"$f":"ROUND(AK92*$K92,2)","v":0},null,{"$f":"ROUND(AM92*$K92,2)","v":0},null,{"$f":"ROUND(AO92*$K92,2)","v":0},null,{"$f":"ROUND(AQ92*$K92,2)","v":0},null,{"$f":"ROUND(AS92*$K92,2)","v":0},null,{"$f":"ROUND(AU92*$K92,2)","v":0},null,{"$f":"ROUND(AW92*$K92,2)","v":0},null,{"$f":"ROUND(AY92*$K92,2)","v":0},null,{"$f":"ROUND(BA92*$K92,2)","v":0},null,{"$f":"ROUND(BC92*$K92,2)","v":0},null,{"$f":"ROUND(BE92*$K92,2)","v":0},null,{"$f":"ROUND(BG92*$K92,2)","v":0},null,{"$f":"ROUND(BI92*$K92,2)","v":0},null,{"$f":"ROUND(BK92*$K92,2)","v":0},null,{"$f":"ROUND(BM92*$K92,2)","v":0},null,{"$f":"ROUND(BO92*$K92,2)","v":0},null,{"$f":"ROUND(BQ92*$K92,2)","v":0},null,{"$f":"ROUND(BS92*$K92,2)","v":0},null,{"$f":"ROUND(BU92*$K92,2)","v":0},null,{"$f":"ROUND(BW92*$K92,2)","v":0},null,{"$f":"ROUND(BY92*$K92,2)","v":0},null,{"$f":"ROUND(CA92*$K92,2)","v":0},null,{"$f":"ROUND(CC92*$K92,2)","v":0},null,{"$f":"ROUND(CE92*$K92,2)","v":0},null,null,{"$f":"SUMIF(L$6:CF$6,\"=1\",$L92:$CF92)","v":0},null,null,{"$f":"K92-CG92","v":0}]
[{"$f":"A92+1","v":{"$error":"#REF!"}},null,"."]
[{"$f":"A93+1","v":{"$error":"#REF!"}},null,{"$f":"C90+10000","v":220000},".",".",{"$f":"VLOOKUP(C94,Orc,4)","v":"SISTEMA DE CLIMATIZAÇÃO, VENTILAÇÃO E EXAUSTÃO"},null,null,".",null,null,null,{"$f":"IF(N96=0,0,N96)","v":0},null,null,{"$f":"IF(Q96=0,M94,M94+Q96)","v":0},null,null,{"$f":"IF(T96=0,P94,P94+T96)","v":0},null,null,{"$f":"IF(W96=0,S94,S94+W96)","v":0},null,null,{"$f":"IF(Z96=0,V94,V94+Z96)","v":0},null,null,{"$f":"IF(AC96=0,Y94,Y94+AC96)","v":0},null,null,{"$f":"IF(AF96=0,AB94,AB94+AF96)","v":0},null,null,{"$f":"IF(AI96=0,AE94,AE94+AI96)","v":0},null,null,{"$f":"IF(AL96=0,AH94,AH94+AL96)","v":0},null,null,{"$f":"IF(AO96=0,AK94,AK94+AO96)","v":0},null,null,{"$f":"IF(AR96=0,AN94,AN94+AR96)","v":0},null,null,{"$f":"IF(AU96=0,AQ94,AQ94+AU96)","v":0},null,null,{"$f":"IF(AX96=0,AT94,AT94+AX96)","v":0},null,null,{"$f":"IF(BA96=0,AW94,AW94+BA96)","v":0},null,null,{"$f":"IF(BD96=0,AZ94,AZ94+BD96)","v":0},null,null,{"$f":"IF(BG96=0,BC94,BC94+BG96)","v":0},null,null,{"$f":"IF(BJ96=0,BF94,BF94+BJ96)","v":0},null,null,{"$f":"IF(BM96=0,BI94,BI94+BM96)","v":0},null,null,{"$f":"IF(BP96=0,BL94,BL94+BP96)","v":0},null,null,{"$f":"IF(BS96=0,BO94,BO94+BS96)","v":0},null,null,{"$f":"IF(BV96=0,BR94,BR94+BV96)","v":0},null,null,{"$f":"IF(BY96=0,BU94,BU94+BY96)","v":0},null,null,{"$f":"IF(CB96=0,BX94,BX94+CB96)","v":0},null,null,{"$f":"IF(CE96=0,CA94,CA94+CE96)","v":0},null,null,{"$f":"IFERROR(CG96/K96,0)","v":0}]
[null,null,".",null,"0",null,null,null,"."]
[{"$f":"#REF!+1","v":{"$error":"#REF!"}},null,"$",{"$f":"F96","v":220000},"$$",{"$f":"C94","v":220000},null,null,".",null,0,null,{"$f":"ROUND(N96*$K96,2)","v":0},null,null,{"$f":"ROUND(Q96*$K96,2)","v":0},null,{"$f":"ROUND(S96*$K96,2)","v":0},null,{"$f":"ROUND(U96*$K96,2)","v":0},null,{"$f":"ROUND(W96*$K96,2)","v":0},null,{"$f":"ROUND(Y96*$K96,2)","v":0},null,{"$f":"ROUND(AA96*$K96,2)","v":0},null,{"$f":"ROUND(AC96*$K96,2)","v":0},null,{"$f":"ROUND(AE96*$K96,2)","v":0},null,{"$f":"ROUND(AG96*$K96,2)","v":0},null,{"$f":"ROUND(AI96*$K96,2)","v":0},null,{"$f":"ROUND(AK96*$K96,2)","v":0},null,{"$f":"ROUND(AM96*$K96,2)","v":0},null,{"$f":"ROUND(AO96*$K96,2)","v":0},null,{"$f":"ROUND(AQ96*$K96,2)","v":0},null,{"$f":"ROUND(AS96*$K96,2)","v":0},null,{"$f":"ROUND(AU96*$K96,2)","v":0},null,{"$f":"ROUND(AW96*$K96,2)","v":0},null,{"$f":"ROUND(AY96*$K96,2)","v":0},null,{"$f":"ROUND(BA96*$K96,2)","v":0},null,{"$f":"ROUND(BC96*$K96,2)","v":0},null,{"$f":"ROUND(BE96*$K96,2)","v":0},null,{"$f":"ROUND(BG96*$K96,2)","v":0},null,{"$f":"ROUND(BI96*$K96,2)","v":0},null,{"$f":"ROUND(BK96*$K96,2)","v":0},null,{"$f":"ROUND(BM96*$K96,2)","v":0},null,{"$f":"ROUND(BO96*$K96,2)","v":0},null,{"$f":"ROUND(BQ96*$K96,2)","v":0},null,{"$f":"ROUND(BS96*$K96,2)","v":0},null,{"$f":"ROUND(BU96*$K96,2)","v":0},null,{"$f":"ROUND(BW96*$K96,2)","v":0},null,{"$f":"ROUND(BY96*$K96,2)","v":0},null,{"$f":"ROUND(CA96*$K96,2)","v":0},null,{"$f":"ROUND(CC96*$K96,2)","v":0},null,{"$f":"ROUND(CE96*$K96,2)","v":0},null,null,{"$f":"SUMIF(L$6:CF$6,\"=1\",$L96:$CF96)","v":0},null,null,{"$f":"K96-CG96","v":0}]
[{"$f":"#REF!+1","v":{"$error":"#REF!"}}]
[null,null,null,null,null,null,null,null,"."]
[null,null,"TOTAL GERAL"]
[null,null,"STG",null,null,"SUBTOTAL GERAL","R$",null,null,null,{"$f":"SUM(K10:K98)","v":0},null,{"$f":"SUMIF($C9:$C98,$C92,M9:M98)","v":0},null,null,{"$f":"SUMIF($C9:$C98,$C92,P9:P98)","v":0},null,null,{"$f":"SUMIF($C9:$C98,$C92,S9:S98)","v":0},null,null,{"$f":"SUMIF($C9:$C98,$C92,V9:V98)","v":0},null,null,{"$f":"SUMIF($C9:$C98,$C92,Y9:Y98)","v":0},null,null,{"$f":"SUMIF($C9:$C98,$C92,AB9:AB98)","v":0},null,null,{"$f":"SUMIF($C9:$C98,$C92,AE9:AE98)","v":0},null,null,{"$f":"SUMIF($C9:$C98,$C92,AH9:AH98)","v":0},null,null,{"$f":"SUMIF($C9:$C98,$C92,AK9:AK98)","v":0},null,null,{"$f":"SUMIF($C9:$C98,$C92,AN9:AN98)","v":0},null,null,{"$f":"SUMIF($C9:$C98,$C92,AQ9:AQ98)","v":0},null,null,{"$f":"SUMIF($C9:$C98,$C92,AT9:AT98)","v":0},null,null,{"$f":"SUMIF($C9:$C98,$C92,AW9:AW98)","v":0},null,null,{"$f":"SUMIF($C9:$C98,$C92,AZ9:AZ98)","v":0},null,null,{"$f":"SUMIF($C9:$C98,$C92,BC9:BC98)","v":0},null,null,{"$f":"SUMIF($C9:$C98,$C92,BF9:BF98)","v":0},null,null,{"$f":"SUMIF($C9:$C98,$C92,BI9:BI98)","v":0},null,null,{"$f":"SUMIF($C9:$C98,$C92,BL9:BL98)","v":0},null,null,{"$f":"SUMIF($C9:$C98,$C92,BO9:BO98)","v":0},null,null,{"$f":"SUMIF($C9:$C98,$C92,BR9:BR98)","v":0},null,null,{"$f":"SUMIF($C9:$C98,$C92,BU9:BU98)","v":0},null,null,{"$f":"SUMIF($C9:$C98,$C92,BX9:BX98)","v":0},null,null,{"$f":"SUMIF($C9:$C98,$C92,CA9:CA98)","v":0},null,null,{"$f":"SUMIF($C9:$C98,$C92,CD9:CD98)","v":0},null,null,{"$f":"SUMIF($C9:$C98,$C92,CG9:CG98)","v":0},null,null,{"$f":"K100-CG100","v":0}]
[null,null,null,null,null,"BDI SERVIÇOS (EXCETO GRUPO 17 E 22)","%",null,0.3,null,{"$f":"ROUND($I101*(K$100-K76-K96),2)","v":0},null,{"$f":"$I101*(M100-M76-M96)","v":0},null,null,{"$f":"$I101*(P100-P76-P96)","v":0},null,null,{"$f":"$I101*(S100-S76-S96)","v":0},null,null,{"$f":"$I101*(V100-V76-V96)","v":0},null,null,{"$f":"$I101*(Y100-Y76-Y96)","v":0},null,null,{"$f":"$I101*(AB100-AB76-AB96)","v":0},null,null,{"$f":"$I101*(AE100-AE76-AE96)","v":0},null,null,{"$f":"$I101*(AH100-AH76-AH96)","v":0},null,null,{"$f":"$I101*(AK100-AK76-AK96)","v":0},null,null,{"$f":"$I101*(AN100-AN76-AN96)","v":0},null,null,{"$f":"$I101*(AQ100-AQ76-AQ96)","v":0},null,null,{"$f":"$I101*(AT100-AT76-AT96)","v":0},null,null,{"$f":"$I101*(AW100-AW76-AW96)","v":0},null,null,{"$f":"$I101*(AZ100-AZ76-AZ96)","v":0},null,null,{"$f":"$I101*(BC100-BC76-BC96)","v":0},null,null,{"$f":"$I101*(BF100-BF76-BF96)","v":0},null,null,{"$f":"$I101*(BI100-BI76-BI96)","v":0},null,null,{"$f":"$I101*(BL100-BL76-BL96)","v":0},null,null,{"$f":"$I101*(BO100-BO76-BO96)","v":0},null,null,{"$f":"$I101*(BR100-BR76-BR96)","v":0},null,null,{"$f":"$I101*(BU100-BU76-BU96)","v":0},null,null,{"$f":"$I101*(BX100-BX76-BX96)","v":0},null,null,{"$f":"$I101*(CA100-CA76-CA96)","v":0},null,null,{"$f":"$I101*(CD100-CD76-CD96)","v":0},null,null,{"$f":"$I101*(CG100-CG76-CG96)","v":0},null,null,{"$f":"K101-CG101","v":0}]
[null,null,null,null,null,"BDI EQUIPAMENTOS (GRUPO 17 E 22)","%",null,0.2,null,{"$f":"ROUND($I102*(K$76+K96),2)","v":0},null,{"$f":"$I102*(M76+M96)","v":0},null,null,{"$f":"$I102*(P76+P96)","v":0},null,null,{"$f":"$I102*(S76+S96)","v":0},null,null,{"$f":"$I102*(V76+V96)","v":0},null,null,{"$f":"$I102*(Y76+Y96)","v":0},null,null,{"$f":"$I102*(AB76+AB96)","v":0},null,null,{"$f":"$I102*(AE76+AE96)","v":0},null,null,{"$f":"$I102*(AH76+AH96)","v":0},null,null,{"$f":"$I102*(AK76+AK96)","v":0},null,null,{"$f":"$I102*(AN76+AN96)","v":0},null,null,{"$f":"$I102*(AQ76+AQ96)","v":0},null,null,{"$f":"$I102*(AT76+AT96)","v":0},null,null,{"$f":"$I102*(AW76+AW96)","v":0},null,null,{"$f":"$I102*(AZ76+AZ96)","v":0},null,null,{"$f":"$I102*(BC76+BC96)","v":0},null,null,{"$f":"$I102*(BF76+BF96)","v":0},null,null,{"$f":"$I102*(BI76+BI96)","v":0},null,null,{"$f":"$I102*(BL76+BL96)","v":0},null,null,{"$f":"$I102*(BO76+BO96)","v":0},null,null,{"$f":"$I102*(BR76+BR96)","v":0},null,null,{"$f":"$I102*(BU76+BU96)","v":0},null,null,{"$f":"$I102*(BX76+BX96)","v":0},null,null,{"$f":"$I102*(CA76+CA96)","v":0},null,null,{"$f":"$I102*(CD76+CD96)","v":0},null,null,{"$f":"$I102*(CG76+CG96)","v":0},null,null,{"$f":"K102-CG102","v":0}]
[null,null,null,null,null,"ADMINISTRAÇÃO (EXCETO GRUPOS 01 E 02)","%",null,6.2199999999999998E-2,null,{"$f":"ROUND($I103*(K$100-K12-K16),2)","v":0},null,{"$f":"ROUND($I103*(M$100-M12-M16),2)","v":0},null,null,{"$f":"ROUND($I103*(P$100-P12-P16),2)","v":0},null,null,{"$f":"ROUND($I103*(S$100-S12-S16),2)","v":0},null,null,{"$f":"ROUND($I103*(V$100-V12-V16),2)","v":0},null,null,{"$f":"ROUND($I103*(Y$100-Y12-Y16),2)","v":0},null,null,{"$f":"ROUND($I103*(AB$100-AB12-AB16),2)","v":0},null,null,{"$f":"ROUND($I103*(AE$100-AE12-AE16),2)","v":0},null,null,{"$f":"ROUND($I103*(AH$100-AH12-AH16),2)","v":0},null,null,{"$f":"ROUND($I103*(AK$100-AK12-AK16),2)","v":0},null,null,{"$f":"ROUND($I103*(AN$100-AN12-AN16),2)","v":0},null,null,{"$f":"ROUND($I103*(AQ$100-AQ12-AQ16),2)","v":0},null,null,{"$f":"ROUND($I103*(AT$100-AT12-AT16),2)","v":0},null,null,{"$f":"ROUND($I103*(AW$100-AW12-AW16),2)","v":0},null,null,{"$f":"ROUND($I103*(AZ$100-AZ12-AZ16),2)","v":0},null,null,{"$f":"ROUND($I103*(BC$100-BC12-BC16),2)","v":0},null,null,{"$f":"ROUND($I103*(BF$100-BF12-BF16),2)","v":0},null,null,{"$f":"ROUND($I103*(BI$100-BI12-BI16),2)","v":0},null,null,{"$f":"ROUND($I103*(BL$100-BL12-BL16),2)","v":0},null,null,{"$f":"ROUND($I103*(BO$100-BO12-BO16),2)","v":0},null,null,{"$f":"ROUND($I103*(BR$100-BR12-BR16),2)","v":0},null,null,{"$f":"ROUND($I103*(BU$100-BU12-BU16),2)","v":0},null,null,{"$f":"ROUND($I103*(BX$100-BX12-BX16),2)","v":0},null,null,{"$f":"ROUND($I103*(CA$100-CA12-CA16),2)","v":0},null,null,{"$f":"ROUND($I103*(CD$100-CD12-CD16),2)","v":0},null,null,{"$f":"ROUND($I103*(CG$100-CG12-CG16),2)","v":0},null,null,{"$f":"K103-CG103","v":0}]
[]
[null,null,null,null,null,"TOTAL GERAL",null,null,null,null,{"$f":"SUM(K100:K104)","v":0},null,{"$f":"M100+M101+M102+M103","v":0},{"$f":"IFERROR(M105/$K105,0)","v":0},null,{"$f":"P100+P101+P102+P103","v":0},{"$f":"IFERROR(P105/$K105,0)","v":0},null,{"$f":"S100+S101+S102+S103","v":0},{"$f":"IFERROR(S105/$K105,0)","v":0},null,{"$f":"V100+V101+V102+V103","v":0},{"$f":"IFERROR(V105/$K105,0)","v":0},null,{"$f":"Y100+Y101+Y102+Y103","v":0},{"$f":"IFERROR(Y105/$K105,0)","v":0},null,{"$f":"AB100+AB101+AB102+AB103","v":0},{"$f":"IFERROR(AB105/$K105,0)","v":0},null,{"$f":"AE100+AE101+AE102+AE103","v":0},{"$f":"IFERROR(AE105/$K105,0)","v":0},null,{"$f":"AH100+AH101+AH102+AH103","v":0},{"$f":"IFERROR(AH105/$K105,0)","v":0},null,{"$f":"AK100+AK101+AK102+AK103","v":0},{"$f":"IFERROR(AK105/$K105,0)","v":0},null,{"$f":"AN100+AN101+AN102+AN103","v":0},{"$f":"IFERROR(AN105/$K105,0)","v":0},null,{"$f":"AQ100+AQ101+AQ102+AQ103","v":0},{"$f":"IFERROR(AQ105/$K105,0)","v":0},null,{"$f":"AT100+AT101+AT102+AT103","v":0},{"$f":"IFERROR(AT105/$K105,0)","v":0},null,{"$f":"AW100+AW101+AW102+AW103","v":0},{"$f":"IFERROR(AW105/$K105,0)","v":0},null,{"$f":"AZ100+AZ101+AZ102+AZ103","v":0},{"$f":"IFERROR(AZ105/$K105,0)","v":0},null,{"$f":"BC100+BC101+BC102+BC103","v":0},{"$f":"IFERROR(BC105/$K105,0)","v":0},null,{"$f":"BF100+BF101+BF102+BF103","v":0},{"$f":"IFERROR(BF105/$K105,0)","v":0},null,{"$f":"BI100+BI101+BI102+BI103","v":0},{"$f":"IFERROR(BI105/$K105,0)","v":0},null,{"$f":"BL100+BL101+BL102+BL103","v":0},{"$f":"IFERROR(BL105/$K105,0)","v":0},null,{"$f":"BO100+BO101+BO102+BO103","v":0},{"$f":"IFERROR(BO105/$K105,0)","v":0},null,{"$f":"BR100+BR101+BR102+BR103","v":0},{"$f":"IFERROR(BR105/$K105,0)","v":0},null,{"$f":"BU100+BU101+BU102+BU103","v":0},{"$f":"IFERROR(BU105/$K105,0)","v":0},null,{"$f":"BX100+BX101+BX102+BX103","v":0},{"$f":"IFERROR(BX105/$K105,0)","v":0},null,{"$f":"CA100+CA101+CA102+CA103","v":0},{"$f":"IFERROR(CA105/$K105,0)","v":0},null,{"$f":"CD100+CD101+CD102+CD103","v":0},{"$f":"IFERROR(CD105/$K105,0)","v":0},null,{"$f":"CG100+CG101+CG102+CG103","v":0},{"$f":"IFERROR(CG105/$K105,0)","v":0},null,{"$f":"K105-CG105","v":0}]
[null,null,null,null,null,null,null,null,null,null,null,null,{"$f":"M105","v":0},{"$f":"N105","v":0},null,{"$f":"M106+P105","v":0},{"$f":"N106+Q105","v":0},null,{"$f":"P106+S105","v":0},{"$f":"Q106+T105","v":0},null,{"$f":"S106+V105","v":0},{"$f":"T106+W105","v":0},null,{"$f":"V106+Y105","v":0},{"$f":"W106+Z105","v":0},null,{"$f":"Y106+AB105","v":0},{"$f":"Z106+AC105","v":0},null,{"$f":"AB106+AE105","v":0},{"$f":"AC106+AF105","v":0},null,{"$f":"AE106+AH105","v":0},{"$f":"AF106+AI105","v":0},null,{"$f":"AH106+AK105","v":0},{"$f":"AI106+AL105","v":0},null,{"$f":"AK106+AN105","v":0},{"$f":"AL106+AO105","v":0},null,{"$f":"AN106+AQ105","v":0},{"$f":"AO106+AR105","v":0},null,{"$f":"AQ106+AT105","v":0},{"$f":"AR106+AU105","v":0},null,{"$f":"AT106+AW105","v":0},{"$f":"AU106+AX105","v":0},null,{"$f":"AW106+AZ105","v":0},{"$f":"AX106+BA105","v":0},null,{"$f":"AZ106+BC105","v":0},{"$f":"BA106+BD105","v":0},null,{"$f":"BC106+BF105","v":0},{"$f":"BD106+BG105","v":0},null,{"$f":"BF106+BI105","v":0},{"$f":"BG106+BJ105","v":0},null,{"$f":"BI106+BL105","v":0},{"$f":"BJ106+BM105","v":0},null,{"$f":"BL106+BO105","v":0},{"$f":"BM106+BP105","v":0},null,{"$f":"BO106+BR105","v":0},{"$f":"BP106+BS105","v":0},null,{"$f":"BR106+BU105","v":0},{"$f":"BS106+BV105","v":0},null,{"$f":"BU106+BX105","v":0},{"$f":"BV106+BY105","v":0},null,{"$f":"BX106+CA105","v":0},{"$f":"BY106+CB105","v":0},null,{"$f":"CA106+CD105","v":0},{"$f":"CB106+CE105","v":0}]
[]
[]
[]
[]
[]
[]
[]
[]
[]
[]
[]
[]
[]
[]
[]
[]
[]
[]
[]
[null,null,null,null,null,"SALDO",null,null,null,null,{"$f":"K105","v":0},null,{"$f":"$K126-M106","v":0},{"$f":"M126/$K126","v":{"$error":"#DIV/0!"}},null,{"$f":"$K126-P106","v":0},{"$f":"P126/$K126","v":{"$error":"#DIV/0!"}},null,{"$f":"$K126-S106","v":0},{"$f":"S126/$K126","v":{"$error":"#DIV/0!"}},null,{"$f":"$K126-V106","v":0},{"$f":"V126/$K126","v":{"$error":"#DIV/0!"}},null,{"$f":"$K126-Y106","v":0},{"$f":"Y126/$K126","v":{"$error":"#DIV/0!"}},null,{"$f":"$K126-AB106","v":0},{"$f":"AB126/$K126","v":{"$error":"#DIV/0!"}},null,{"$f":"$K126-AE106","v":0},{"$f":"AE126/$K126","v":{"$error":"#DIV/0!"}},null,{"$f":"$K126-AH106","v":0},{"$f":"AH126/$K126","v":{"$error":"#DIV/0!"}},null,{"$f":"$K126-AK106","v":0},{"$f":"AK126/$K126","v":{"$error":"#DIV/0!"}},null,{"$f":"$K126-AN106","v":0},{"$f":"AN126/$K126","v":{"$error":"#DIV/0!"}},null,{"$f":"$K126-AQ106","v":0},{"$f":"AQ126/$K126","v":{"$error":"#DIV/0!"}},null,{"$f":"$K126-AT106","v":0},{"$f":"AT126/$K126","v":{"$error":"#DIV/0!"}},null,{"$f":"$K126-AW106","v":0},{"$f":"AW126/$K126","v":{"$error":"#DIV/0!"}},null,{"$f":"$K126-AZ106","v":0},{"$f":"AZ126/$K126","v":{"$error":"#DIV/0!"}},null,{"$f":"$K126-BC106","v":0},{"$f":"BC126/$K126","v":{"$error":"#DIV/0!"}},null,{"$f":"$K126-BF106","v":0},{"$f":"BF126/$K126","v":{"$error":"#DIV/0!"}},null,{"$f":"$K126-BI106","v":0},{"$f":"BI126/$K126","v":{"$error":"#DIV/0!"}},null,{"$f":"$K126-BL106","v":0},{"$f":"BL126/$K126","v":{"$error":"#DIV/0!"}},null,{"$f":"$K126-BO106","v":0},{"$f":"BO126/$K126","v":{"$error":"#DIV/0!"}},null,{"$f":"$K126-BR106","v":0},{"$f":"BR126/$K126","v":{"$error":"#DIV/0!"}},null,{"$f":"$K126-BU106","v":0},{"$f":"BU126/$K126","v":{"$error":"#DIV/0!"}},null,{"$f":"$K126-BX106","v":0},{"$f":"BX126/$K126","v":{"$error":"#DIV/0!"}},null,{"$f":"$K126-CA106","v":0},{"$f":"CA126/$K126","v":{"$error":"#DIV/0!"}},null,0,{"$f":"CD126/$K126","v":{"$error":"#DIV/0!"}},null,{"$f":"CG122+CG123+CG124","v":0},{"$f":"CG126/$K126","v":{"$error":"#DIV/0!"}}]
[]
[null,null,null,null,null,"MEDIDO"]
[null,null,null,null,null,"FÍSICO"]